BEGIN:VCALENDAR
VERSION:2.0
PRODID:-//Students’ Union Okanagan of UBC - ECPv6.5.0//NONSGML v1.0//EN
CALSCALE:GREGORIAN
METHOD:PUBLISH
X-ORIGINAL-URL:https://www.suo.ca
X-WR-CALDESC:Events for Students’ Union Okanagan of UBC
REFRESH-INTERVAL;VALUE=DURATION:PT1H
X-Robots-Tag:noindex
X-PUBLISHED-TTL:PT1H
BEGIN:VTIMEZONE
TZID:America/Vancouver
BEGIN:DAYLIGHT
TZOFFSETFROM:-0800
TZOFFSETTO:-0700
TZNAME:PDT
DTSTART:20230312T100000
END:DAYLIGHT
BEGIN:STANDARD
TZOFFSETFROM:-0700
TZOFFSETTO:-0800
TZNAME:PST
DTSTART:20231105T090000
END:STANDARD
END:VTIMEZONE
BEGIN:VEVENT
DTSTART;TZID=America/Vancouver:20230207T170000
DTEND;TZID=America/Vancouver:20230211T190000
DTSTAMP:20260422T061347
CREATED:20230126T214149Z
LAST-MODIFIED:20230126T214223Z
UID:10003117-1675789200-1676142000@www.suo.ca
SUMMARY:Professionalism-Week
DESCRIPTION:Every year we host a week-long event called P-Week dedicated to professional development. These events aim to imbue our students with the ability to create their own professional network\, build their own professional brands and be well-versed in financial literacy. \n  \nLocated: EME 1121
URL:https://www.suo.ca/event/professionalism-week/2023-02-07/
LOCATION:EME Building\, UBCO Campus\, 1137 Alumni Avenue\, Kelowna\, British Columbia\, V1V 1V7\, Canada
CATEGORIES:All Ages,Student Associations
ATTACH;FMTTYPE=image/png:https://www.suo.ca/wp-content/uploads/2021/08/EngSoc-logo.png
ORGANIZER;CN="Engineering Society":MAILTO:president@okanaganengineers.com
END:VEVENT
BEGIN:VEVENT
DTSTART;TZID=America/Vancouver:20230211T130000
DTEND;TZID=America/Vancouver:20230211T160000
DTSTAMP:20260422T061347
CREATED:20230206T204041Z
LAST-MODIFIED:20230206T204114Z
UID:10003188-1676120400-1676131200@www.suo.ca
SUMMARY:ASA Valentine's BBT Making & Mingle
DESCRIPTION:Looking for a date for your boo this Valentine’s season? OR looking for a boo to date? 👀 ASA’s got you! ❤️ \nJoin us at the ASA Valentine’s BBT Making & Mingle this Saturday\, February 11th! \nTickets are $10 for ASA Members and $12 for non-members. 🎟️ One ticket includes a bubble tea\, cake slice\, li’l snacks\, and origami and card-making materials. 🍟 \nThe event is open to couples and singles. And blind dating is optional! 👩‍❤️‍👩 \n  \nLocated: EME Collegia 0252
URL:https://www.suo.ca/event/asa-valentines-bbt-making-mingle/
LOCATION:EME Building\, UBCO Campus\, 1137 Alumni Avenue\, Kelowna\, British Columbia\, V1V 1V7\, Canada
CATEGORIES:All Ages,Student Associations
ORGANIZER;CN="Asian Student Association":MAILTO:asianstudentassociationsuo@gmail.com
END:VEVENT
BEGIN:VEVENT
DTSTART;TZID=America/Vancouver:20230211T130000
DTEND;TZID=America/Vancouver:20230211T170000
DTSTAMP:20260422T061347
CREATED:20230126T210701Z
LAST-MODIFIED:20230126T210701Z
UID:10003104-1676120400-1676134800@www.suo.ca
SUMMARY:Two Rooms and a Boom
DESCRIPTION:Playing the large scale hidden role game two rooms and a boom. \n  \nLocated: ASC 130
URL:https://www.suo.ca/event/two-rooms-and-a-boom/
LOCATION:ASC 130\, UBCO Campus\, 3187 University Way\, Kelowna\, British Columbia\, V1V 1V7\, Canada
CATEGORIES:All Ages,Student Associations
ATTACH;FMTTYPE=image/jpeg:https://www.suo.ca/wp-content/uploads/2022/07/SUO-Student-Associations.jpg
ORGANIZER;CN="Games Club":MAILTO:gamesclubokanagan@gmail.com
END:VEVENT
END:VCALENDAR