BEGIN:VCALENDAR
VERSION:2.0
PRODID:-//Students’ Union Okanagan of UBC - ECPv6.5.0//NONSGML v1.0//EN
CALSCALE:GREGORIAN
METHOD:PUBLISH
X-ORIGINAL-URL:https://www.suo.ca
X-WR-CALDESC:Events for Students’ Union Okanagan of UBC
REFRESH-INTERVAL;VALUE=DURATION:PT1H
X-Robots-Tag:noindex
X-PUBLISHED-TTL:PT1H
BEGIN:VTIMEZONE
TZID:America/Vancouver
BEGIN:DAYLIGHT
TZOFFSETFROM:-0800
TZOFFSETTO:-0700
TZNAME:PDT
DTSTART:20230312T100000
END:DAYLIGHT
BEGIN:STANDARD
TZOFFSETFROM:-0700
TZOFFSETTO:-0800
TZNAME:PST
DTSTART:20231105T090000
END:STANDARD
END:VTIMEZONE
BEGIN:VEVENT
DTSTART;TZID=America/Vancouver:20230213T000000
DTEND;TZID=America/Vancouver:20230213T150000
DTSTAMP:20260422T043705
CREATED:20230209T220756Z
LAST-MODIFIED:20230209T232152Z
UID:10003204-1676246400-1676300400@www.suo.ca
SUMMARY:Valentines Day Pizza Fundraiser
DESCRIPTION:We want to host a Valentine’s day pizza sale on campus where all proceeds would go to the Turkey/Syria Earthquake Emergency UNICEF relief fund. \nWe want to sell pizzas (small) for $10. \nWhen: Friday Feb 13th 12 pm to 3 pm. \nWhere: Commons Foyer
URL:https://www.suo.ca/event/valentines-day-pizza-fundraiser/
LOCATION:UNC Foyer\, UBCO Campus\, 3272 University Way\, Kelowna\, British Columbia\, V1V 1V7\, Canada
CATEGORIES:All Ages,Student Associations
ATTACH;FMTTYPE=image/png:https://www.suo.ca/wp-content/uploads/2021/09/ubco_unicef_club_logo.png
ORGANIZER;CN="UNICEF Club":MAILTO:unicefclub7@gmail.com
END:VEVENT
BEGIN:VEVENT
DTSTART;TZID=America/Vancouver:20230213T140000
DTEND;TZID=America/Vancouver:20230213T153000
DTSTAMP:20260422T043705
CREATED:20230210T000245Z
LAST-MODIFIED:20230210T000245Z
UID:10003216-1676296800-1676302200@www.suo.ca
SUMMARY:Pre-Vet Bake Sale
DESCRIPTION:Bake sale to raise funds for a local animal sanctuary. Cookies\, cake pops\, rice Krispie’s\, and mousse cups will be available for purchase. \n  \nLocated: UNC Foyer
URL:https://www.suo.ca/event/pre-vet-bake-sale/
LOCATION:UNC Foyer\, UBCO Campus\, 3272 University Way\, Kelowna\, British Columbia\, V1V 1V7\, Canada
CATEGORIES:All Ages,Student Associations
ATTACH;FMTTYPE=image/png:https://www.suo.ca/wp-content/uploads/2021/10/suo-logo-for-posters_light_background.png
ORGANIZER;CN="Pre-Vet Club":MAILTO:prevetclub.okanagan@outlook.com
END:VEVENT
BEGIN:VEVENT
DTSTART;TZID=America/Vancouver:20230213T180000
DTEND;TZID=America/Vancouver:20230213T200000
DTSTAMP:20260422T043705
CREATED:20230208T195435Z
LAST-MODIFIED:20230208T195435Z
UID:10003189-1676311200-1676318400@www.suo.ca
SUMMARY:Take Me Out
DESCRIPTION:Valentines day celebration. \n  \nLocated: LIB 306
URL:https://www.suo.ca/event/take-me-out/
LOCATION:Library\, UBCO Campus\, 3287 University Way\, Kelowna\, British Columbia\, V1V 1V7\, Canada
CATEGORIES:All Ages,Student Associations
ATTACH;FMTTYPE=image/png:https://www.suo.ca/wp-content/uploads/2021/10/suo-logo-for-posters_light_background.png
ORGANIZER;CN="African Caribbean Student Club":MAILTO:acscsuo@gmail.com
END:VEVENT
BEGIN:VEVENT
DTSTART;TZID=America/Vancouver:20230213T183000
DTEND;TZID=America/Vancouver:20230213T213000
DTSTAMP:20260422T043705
CREATED:20230111T185222Z
LAST-MODIFIED:20230111T185222Z
UID:10002928-1676313000-1676323800@www.suo.ca
SUMMARY:CCU CHEM 1X3 Midterm Study Session #1
DESCRIPTION:The CCU is hosting a review session for CHEM 1X3! There will be a problem set\, tutors to answer your questions\, and\, of course\, pizza! \n  \nLocated: COM 201
URL:https://www.suo.ca/event/ccu-chem-1x3-midterm-study-session-1/
LOCATION:Commons 201 (COM201)\, 3297 University Way\,\, Kelowna\, British Columbia\, V1V 1V7\, Canada
CATEGORIES:All Ages,Student Associations
ORGANIZER;CN="Chemistry Course Union":MAILTO:chemcourseunion@gmail.com
END:VEVENT
END:VCALENDAR