BEGIN:VCALENDAR
VERSION:2.0
PRODID:-//Students’ Union Okanagan of UBC - ECPv6.5.0//NONSGML v1.0//EN
CALSCALE:GREGORIAN
METHOD:PUBLISH
X-ORIGINAL-URL:https://www.suo.ca
X-WR-CALDESC:Events for Students’ Union Okanagan of UBC
REFRESH-INTERVAL;VALUE=DURATION:PT1H
X-Robots-Tag:noindex
X-PUBLISHED-TTL:PT1H
BEGIN:VTIMEZONE
TZID:America/Vancouver
BEGIN:DAYLIGHT
TZOFFSETFROM:-0800
TZOFFSETTO:-0700
TZNAME:PDT
DTSTART:20230312T100000
END:DAYLIGHT
BEGIN:STANDARD
TZOFFSETFROM:-0700
TZOFFSETTO:-0800
TZNAME:PST
DTSTART:20231105T090000
END:STANDARD
END:VTIMEZONE
BEGIN:VEVENT
DTSTART;TZID=America/Vancouver:20230214T103000
DTEND;TZID=America/Vancouver:20230214T153000
DTSTAMP:20260422T043705
CREATED:20230201T201009Z
LAST-MODIFIED:20230201T201009Z
UID:10003154-1676370600-1676388600@www.suo.ca
SUMMARY:Valentine's Day Cupcake/Candy Event
DESCRIPTION:We will be selling cupcakes\, cookies\, and candy grams with notes of positive affirmations for Valentine’s Day. \n  \nLocated: UNC 001 Foyer
URL:https://www.suo.ca/event/valentines-day-cupcake-candy-event/
LOCATION:UNC Foyer\, UBCO Campus\, 3272 University Way\, Kelowna\, British Columbia\, V1V 1V7\, Canada
CATEGORIES:All Ages,Student Associations
ATTACH;FMTTYPE=image/png:https://www.suo.ca/wp-content/uploads/2021/10/suo-logo-for-posters_light_background.png
ORGANIZER;CN="Psychology Course Union":MAILTO:Psychologycourseunion@gmail.com
END:VEVENT
BEGIN:VEVENT
DTSTART;TZID=America/Vancouver:20230214T110000
DTEND;TZID=America/Vancouver:20230214T150000
DTSTAMP:20260422T043705
CREATED:20230206T212823Z
LAST-MODIFIED:20230206T212823Z
UID:10003169-1676372400-1676386800@www.suo.ca
SUMMARY:St Valentines- LASO`s roses
DESCRIPTION:The Latin American Student Organization will be providing you with an opportunity to buy your Valentine’s Day gift in the UNC on February 14th! \n  \nLocated: UNC WS Outdoor
URL:https://www.suo.ca/event/st-valentines-lasos-roses/
LOCATION:UNC Foyer\, UBCO Campus\, 3272 University Way\, Kelowna\, British Columbia\, V1V 1V7\, Canada
CATEGORIES:All Ages,Student Associations
ATTACH;FMTTYPE=image/png:https://www.suo.ca/wp-content/uploads/2022/09/PNG-N-LASO-Logo.png
ORGANIZER;CN="Latin American Students Organization":MAILTO:laso.okanagan@gmail.com
END:VEVENT
BEGIN:VEVENT
DTSTART;TZID=America/Vancouver:20230214T120000
DTEND;TZID=America/Vancouver:20230214T160000
DTSTAMP:20260422T043705
CREATED:20230125T192311Z
LAST-MODIFIED:20230125T192311Z
UID:10003081-1676376000-1676390400@www.suo.ca
SUMMARY:Valentine's Day Candy Grams
DESCRIPTION:Treat yourself or someone special to some delicious candy grams this Valentine’s Day! \n  \nLocated: UNC 001A Foyer
URL:https://www.suo.ca/event/valentines-day-candy-grams/
LOCATION:UNC Foyer\, UBCO Campus\, 3272 University Way\, Kelowna\, British Columbia\, V1V 1V7\, Canada
CATEGORIES:All Ages,Student Associations
ATTACH;FMTTYPE=image/jpeg:https://www.suo.ca/wp-content/uploads/2022/07/SUO-Student-Associations.jpg
ORGANIZER;CN="Angels without Boundaries":MAILTO:angelswithoutboundaries.awb@gmail.com
END:VEVENT
BEGIN:VEVENT
DTSTART;TZID=America/Vancouver:20230214T123000
DTEND;TZID=America/Vancouver:20230214T140000
DTSTAMP:20260422T043705
CREATED:20230206T181623Z
LAST-MODIFIED:20230206T181623Z
UID:10003173-1676377800-1676383200@www.suo.ca
SUMMARY:Valentines Day Bake Sale
DESCRIPTION:We will be selling valentines themed treats. Items will be nicely packaged for those who want to purchase as a gift. \n  \nLocated: EME Foyer
URL:https://www.suo.ca/event/valentines-day-bake-sale/
LOCATION:EME Building\, UBCO Campus\, 1137 Alumni Avenue\, Kelowna\, British Columbia\, V1V 1V7\, Canada
CATEGORIES:All Ages,Student Associations
ATTACH;FMTTYPE=image/png:https://www.suo.ca/wp-content/uploads/2021/10/suo-logo-for-posters_light_background.png
ORGANIZER;CN="Pre-Vet Club":MAILTO:prevetclub.okanagan@outlook.com
END:VEVENT
BEGIN:VEVENT
DTSTART;TZID=America/Vancouver:20230214T170000
DTEND;TZID=America/Vancouver:20230214T220000
DTSTAMP:20260422T043705
CREATED:20230112T234610Z
LAST-MODIFIED:20230112T234610Z
UID:10002971-1676394000-1676412000@www.suo.ca
SUMMARY:Tuesday Game Night
DESCRIPTION:Come down and play board games every Tuesday from 5-10! The first Tuesday of every month will also be a miniature painting night\, with all supplies provided by the club. \n  \nLocated: ART 110 and 114
URL:https://www.suo.ca/event/tuesday-game-night/2023-02-14/
LOCATION:Arts Building\, UBCO Campus\, 1147 Research Road\, Kelowna\, British Columbia\, V1V 1V7\, Canada
CATEGORIES:All Ages,Student Associations
ATTACH;FMTTYPE=image/jpeg:https://www.suo.ca/wp-content/uploads/2022/07/SUO-Student-Associations.jpg
ORGANIZER;CN="Games Club":MAILTO:gamesclubokanagan@gmail.com
END:VEVENT
BEGIN:VEVENT
DTSTART;TZID=America/Vancouver:20230214T180000
DTEND;TZID=America/Vancouver:20230214T210000
DTSTAMP:20260422T043705
CREATED:20221114T203050Z
LAST-MODIFIED:20221125T213929Z
UID:10002448-1676397600-1676408400@www.suo.ca
SUMMARY:Medieval Club Meeting
DESCRIPTION:The Medieval club is happy to be teaching and demonstrating period style swordsmanship techniques. There will also be period appropriate arts and sciences demonstrations and workshops depending on the week. Check us out on Instagram\, Discord\, or Facebook to find out more! \nDiscord: https://discord.com/invite/kw33HrZqfD \nInstagram: https://www.instagram.com/ubco_medieval_club/ \nFacebook: https://www.facebook.com/groups/1648507338766645 \n  \nThis is a weekly recurring event. \nLocated: UNC 200 ballroom.
URL:https://www.suo.ca/event/medieval-club-meeting/2023-02-14/
LOCATION:UNC 200 Ballroom\, 3272 University Way\, UNC200\, Kelowna\, British Columbia\, V1V 1V7\, Canada
CATEGORIES:All Ages,Student Associations
ATTACH;FMTTYPE=image/jpeg:https://www.suo.ca/wp-content/uploads/2022/07/SUO-Student-Associations.jpg
ORGANIZER;CN="Medieval Club UBCO":MAILTO:UBCOMedievalClub@hotmail.com
END:VEVENT
END:VCALENDAR