BEGIN:VCALENDAR
VERSION:2.0
PRODID:-//Students’ Union Okanagan of UBC - ECPv6.5.0//NONSGML v1.0//EN
CALSCALE:GREGORIAN
METHOD:PUBLISH
X-WR-CALNAME:Students’ Union Okanagan of UBC
X-ORIGINAL-URL:https://www.suo.ca
X-WR-CALDESC:Events for Students’ Union Okanagan of UBC
REFRESH-INTERVAL;VALUE=DURATION:PT1H
X-Robots-Tag:noindex
X-PUBLISHED-TTL:PT1H
BEGIN:VTIMEZONE
TZID:America/Vancouver
BEGIN:DAYLIGHT
TZOFFSETFROM:-0800
TZOFFSETTO:-0700
TZNAME:PDT
DTSTART:20230312T100000
END:DAYLIGHT
BEGIN:STANDARD
TZOFFSETFROM:-0700
TZOFFSETTO:-0800
TZNAME:PST
DTSTART:20231105T090000
END:STANDARD
END:VTIMEZONE
BEGIN:VEVENT
DTSTART;TZID=America/Vancouver:20230216T080000
DTEND;TZID=America/Vancouver:20230216T170000
DTSTAMP:20260422T043518
CREATED:20230118T195048Z
LAST-MODIFIED:20230118T195048Z
UID:10003029-1676534400-1676566800@www.suo.ca
SUMMARY:HCU Study Sessions
DESCRIPTION:These study sessions are designed for anyone enrolled in a history course\, whether as an elective or a requirement. It is a drop-in session\, meaning that if you only have one quick question you can pop by\, get that answered and then leave\, or if you just want a quiet place to study and want to stay the whole two hours you can do that too! We can help with essay writing\, midterm prep\, citation help\, research tips etc. \nJanuary 24th \nFebruary 16th \nMarch 14th \n  \nLocated: ART 203
URL:https://www.suo.ca/event/hcu-study-sessions/2023-02-16/
LOCATION:Arts Building\, UBCO Campus\, 1147 Research Road\, Kelowna\, British Columbia\, V1V 1V7\, Canada
CATEGORIES:All Ages,Student Associations
ORGANIZER;CN="History Course Union":MAILTO:hcuokanagan@gmail.com
END:VEVENT
BEGIN:VEVENT
DTSTART;TZID=America/Vancouver:20230216T090000
DTEND;TZID=America/Vancouver:20230216T160000
DTSTAMP:20260422T043518
CREATED:20230214T175717Z
LAST-MODIFIED:20230214T175717Z
UID:10003221-1676538000-1676563200@www.suo.ca
SUMMARY:Merchandise Tent Sale
DESCRIPTION:We will be selling merchandise in the courtyard. \n  \nLocated: OKAN ADM CTYD P
URL:https://www.suo.ca/event/merchandise-tent-sale/
LOCATION:Central Courtyard\, UBCO Campus\, 1138 Alumni Avenue\, Kelowna\, British Columbia\, V1V 1V7\, Canada
CATEGORIES:All Ages,Student Associations
ATTACH;FMTTYPE=image/png:https://www.suo.ca/wp-content/uploads/2021/10/suo-logo-for-posters_light_background.png
ORGANIZER;CN="Engineering Society":MAILTO:president@okanaganengineers.com
END:VEVENT
BEGIN:VEVENT
DTSTART;TZID=America/Vancouver:20230216T110000
DTEND;TZID=America/Vancouver:20230216T160000
DTSTAMP:20260422T043518
CREATED:20230215T202511Z
LAST-MODIFIED:20230215T202511Z
UID:10003250-1676545200-1676563200@www.suo.ca
SUMMARY:UBCO TSA Bake Sale
DESCRIPTION:We will do a Bake Sale and donate all the earning of the event to the victims of the earthquake in Turkey. \n  \nLocated: UNC 001A Foyer
URL:https://www.suo.ca/event/ubco-tsa-bake-sale/2023-02-16/
LOCATION:UNC Foyer\, UBCO Campus\, 3272 University Way\, Kelowna\, British Columbia\, V1V 1V7\, Canada
CATEGORIES:All Ages,Student Associations
ATTACH;FMTTYPE=image/png:https://www.suo.ca/wp-content/uploads/2021/10/suo-logo-for-posters_light_background.png
ORGANIZER;CN="Turkish Student Association (TSA)":MAILTO:ubco.tsa@gmail.com
END:VEVENT
BEGIN:VEVENT
DTSTART;TZID=America/Vancouver:20230216T113000
DTEND;TZID=America/Vancouver:20230216T130000
DTSTAMP:20260422T043518
CREATED:20230201T182736Z
LAST-MODIFIED:20230201T182736Z
UID:10003133-1676547000-1676552400@www.suo.ca
SUMMARY:STAT 230 review session
DESCRIPTION:Prepare for the COSC 121 midterms with your QSCU president Livia! \n  \nLocated: FIP 121
URL:https://www.suo.ca/event/stat-230-review-session/
LOCATION:FIPKE Building\, UBCO Campus\, 3247 University Way\, Kelowna\, British Columbia\, V1V 1V7\, Canada
CATEGORIES:All Ages,Student Associations
ATTACH;FMTTYPE=image/png:https://www.suo.ca/wp-content/uploads/2021/10/suo-logo-for-posters_light_background.png
ORGANIZER;CN="Quantitative Sciences Course Union":MAILTO:qscu.main@gmail.com
END:VEVENT
BEGIN:VEVENT
DTSTART;TZID=America/Vancouver:20230216T120000
DTEND;TZID=America/Vancouver:20230216T160000
DTSTAMP:20260422T043518
CREATED:20230214T175200Z
LAST-MODIFIED:20230215T193800Z
UID:10003222-1676548800-1676563200@www.suo.ca
SUMMARY:Free Headshots!
DESCRIPTION:The MSA will be providing free headshots to anyone who signs up! Come visit the MSA Tent and get a free headshot for your LinkedIn profile\, email account\, or contacting your future employer! \n  \nLocated: ADM CTYD G (Grassy portion of the central courtyard)
URL:https://www.suo.ca/event/free-headshots/
LOCATION:UNC Foyer\, UBCO Campus\, 3272 University Way\, Kelowna\, British Columbia\, V1V 1V7\, Canada
CATEGORIES:All Ages,Student Associations
ATTACH;FMTTYPE=image/jpeg:https://www.suo.ca/wp-content/uploads/2021/08/MSA-logo.jpg
ORGANIZER;CN="Management Students Association":MAILTO:academics@msasuo.ca
END:VEVENT
BEGIN:VEVENT
DTSTART;TZID=America/Vancouver:20230216T160000
DTEND;TZID=America/Vancouver:20230216T180000
DTSTAMP:20260422T043518
CREATED:20230216T225142Z
LAST-MODIFIED:20230216T225142Z
UID:10003249-1676563200-1676570400@www.suo.ca
SUMMARY:DAT STUDY NIGHT
DESCRIPTION:This event will help pre dental students get a general grasp of what the dental admission test will look like. There will also be pizza available at this event. \n  \nLocated: SCI 247
URL:https://www.suo.ca/event/dat-study-night/
LOCATION:Science Building\, UBCO Campus\, 1177 Research Road\, Kelowna\, British Columbia\, V1V 1V7\, Canada
CATEGORIES:All Ages,Student Associations
ATTACH;FMTTYPE=image/jpeg:https://www.suo.ca/wp-content/uploads/2022/07/SUO-Student-Associations.jpg
ORGANIZER;CN="Pre-Dental Society":MAILTO:ubcopredental.president@gmail.com
END:VEVENT
BEGIN:VEVENT
DTSTART;TZID=America/Vancouver:20230216T170000
DTEND;TZID=America/Vancouver:20230216T183000
DTSTAMP:20260422T043518
CREATED:20230118T191344Z
LAST-MODIFIED:20230118T191344Z
UID:10002987-1676566800-1676572200@www.suo.ca
SUMMARY:CHEM 1X3 Formal Lab Workshop
DESCRIPTION:Hosting formal lab writing workshop for CHEM 1X3 students. \n  \nLocated: ART 114
URL:https://www.suo.ca/event/chem-1x3-formal-lab-workshop/
LOCATION:Arts Building\, UBCO Campus\, 1147 Research Road\, Kelowna\, British Columbia\, V1V 1V7\, Canada
CATEGORIES:All Ages,Student Associations
ORGANIZER;CN="Chemistry Course Union":MAILTO:chemcourseunion@gmail.com
END:VEVENT
END:VCALENDAR