BEGIN:VCALENDAR
VERSION:2.0
PRODID:-//Students’ Union Okanagan of UBC - ECPv6.5.0//NONSGML v1.0//EN
CALSCALE:GREGORIAN
METHOD:PUBLISH
X-ORIGINAL-URL:https://www.suo.ca
X-WR-CALDESC:Events for Students’ Union Okanagan of UBC
REFRESH-INTERVAL;VALUE=DURATION:PT1H
X-Robots-Tag:noindex
X-PUBLISHED-TTL:PT1H
BEGIN:VTIMEZONE
TZID:America/Vancouver
BEGIN:DAYLIGHT
TZOFFSETFROM:-0800
TZOFFSETTO:-0700
TZNAME:PDT
DTSTART:20230312T100000
END:DAYLIGHT
BEGIN:STANDARD
TZOFFSETFROM:-0700
TZOFFSETTO:-0800
TZNAME:PST
DTSTART:20231105T090000
END:STANDARD
END:VTIMEZONE
BEGIN:VEVENT
DTSTART;TZID=America/Vancouver:20230217T003000
DTEND;TZID=America/Vancouver:20230217T150000
DTSTAMP:20260422T043550
CREATED:20230201T200100Z
LAST-MODIFIED:20230201T200100Z
UID:10003141-1676593800-1676646000@www.suo.ca
SUMMARY:Women in Engineering Tie Dye
DESCRIPTION:The UBCO Women in Engineering Club will be hosting a Tie-Dye event on February 17th from 12:30 to 3. Come swing by to Tie-Dye a Women in Engineering t-shirt. The event is open to all engineering students\, materials are first come first serve. We hope to see you there! \n  \nLocated: EME foyer
URL:https://www.suo.ca/event/women-in-engineering-tie-dye/
LOCATION:EME Building\, UBCO Campus\, 1137 Alumni Avenue\, Kelowna\, British Columbia\, V1V 1V7\, Canada
CATEGORIES:All Ages,Student Associations
ATTACH;FMTTYPE=image/png:https://www.suo.ca/wp-content/uploads/2021/10/suo-logo-for-posters_light_background.png
ORGANIZER;CN="Women in Engineering":MAILTO:womenineng.suo@gmail.com
END:VEVENT
BEGIN:VEVENT
DTSTART;TZID=America/Vancouver:20230217T120000
DTEND;TZID=America/Vancouver:20230217T160000
DTSTAMP:20260422T043550
CREATED:20230213T173000Z
LAST-MODIFIED:20230213T173000Z
UID:10003218-1676635200-1676649600@www.suo.ca
SUMMARY:BCCU hoodie sales
DESCRIPTION:Hoodie sale from the BCCU. \n  \nLocated: COM 304 study room
URL:https://www.suo.ca/event/bccu-hoodie-sales/
LOCATION:Commons Building\, UBCO Campus\, 3297 University Way\, Kelowna\, British Columbia\, V1V 1V7\, Canada
CATEGORIES:All Ages,Student Associations
ATTACH;FMTTYPE=image/png:https://www.suo.ca/wp-content/uploads/2021/08/BCCU-Logo-Black.png
ORGANIZER;CN="Biochemistry Course Union":MAILTO:bccu.suo@gmail.com
END:VEVENT
BEGIN:VEVENT
DTSTART;TZID=America/Vancouver:20230217T160000
DTEND;TZID=America/Vancouver:20230217T180000
DTSTAMP:20260422T043550
CREATED:20230206T214405Z
LAST-MODIFIED:20230206T214405Z
UID:10003183-1676649600-1676656800@www.suo.ca
SUMMARY:Hack Your Skills
DESCRIPTION:Want to make an exciting coding project\, meet people who share your interests\, and receive mentorship along the way? Join us for “Hack Your Skills”\, Girls in Tech’s annual hackathon! \nWhether you just learned Java last semester\, or are in the last few semesters of your degree\, come make something AWESOME with us!!! Open to ANYONE\, and beginner-friendly!!! Not to mention\, we’ve got some great prizes for you! \nFun fact: Hack Your Skills is around a week long\, unlike traditional hackathons which are usually just 24 hours. This means you’ll have some flexibility to work around your life\, while at the same time\, the project isn’t dragging on and on to the point that you forget about it. \n  \nLocated: UNC 200 Ballroom
URL:https://www.suo.ca/event/hack-your-skills/
LOCATION:UNC 200 Ballroom\, 3272 University Way\, UNC200\, Kelowna\, British Columbia\, V1V 1V7\, Canada
CATEGORIES:All Ages,Student Associations
ATTACH;FMTTYPE=image/png:https://www.suo.ca/wp-content/uploads/2021/12/GIT.png
ORGANIZER;CN="Girls in Tech":MAILTO:girlsintechsuo@gmail.com
END:VEVENT
BEGIN:VEVENT
DTSTART;TZID=America/Vancouver:20230217T170000
DTEND;TZID=America/Vancouver:20230217T182000
DTSTAMP:20260422T043550
CREATED:20230201T174100Z
LAST-MODIFIED:20230201T174100Z
UID:10003156-1676653200-1676658000@www.suo.ca
SUMMARY:Bi-weekly Gatherings
DESCRIPTION:One week of cultural events\, such as Korean calligraphy class and cooking event;\nthe other week of Christianity-related events like the history and culture of Korean churches. \n  \nLocated: FIP 140 \n 
URL:https://www.suo.ca/event/bi-weekly-gatherings/2023-02-17/
LOCATION:FIPKE Building\, UBCO Campus\, 3247 University Way\, Kelowna\, British Columbia\, V1V 1V7\, Canada
CATEGORIES:All Ages,Student Associations
ATTACH;FMTTYPE=image/jpeg:https://www.suo.ca/wp-content/uploads/2022/07/SUO-Student-Associations.jpg
ORGANIZER;CN="Korean Culture & Church History Study Club":MAILTO:kcchubco@gmail.com
END:VEVENT
BEGIN:VEVENT
DTSTART;TZID=America/Vancouver:20230217T180000
DTEND;TZID=America/Vancouver:20230217T220000
DTSTAMP:20260422T043550
CREATED:20230124T205622Z
LAST-MODIFIED:20230124T205622Z
UID:10003085-1676656800-1676671200@www.suo.ca
SUMMARY:Jam sessions
DESCRIPTION:This event is for students to be able to find a safe space to create and learn music with other students on campus. This would allow musicians on campus to interact with each other and also make new friends. \n  \nLocated: FIP 204
URL:https://www.suo.ca/event/jam-sessions/2023-02-17/
LOCATION:FIPKE Building\, UBCO Campus\, 3247 University Way\, Kelowna\, British Columbia\, V1V 1V7\, Canada
CATEGORIES:All Ages,Student Associations
ATTACH;FMTTYPE=image/jpeg:https://www.suo.ca/wp-content/uploads/2022/07/SUO-Student-Associations.jpg
ORGANIZER;CN="Rock N Roll Club":MAILTO:ubcorocknrollclub@gmail.com
END:VEVENT
END:VCALENDAR