BEGIN:VCALENDAR
VERSION:2.0
PRODID:-//Students’ Union Okanagan of UBC - ECPv6.5.0//NONSGML v1.0//EN
CALSCALE:GREGORIAN
METHOD:PUBLISH
X-WR-CALNAME:Students’ Union Okanagan of UBC
X-ORIGINAL-URL:https://www.suo.ca
X-WR-CALDESC:Events for Students’ Union Okanagan of UBC
REFRESH-INTERVAL;VALUE=DURATION:PT1H
X-Robots-Tag:noindex
X-PUBLISHED-TTL:PT1H
BEGIN:VTIMEZONE
TZID:America/Vancouver
BEGIN:DAYLIGHT
TZOFFSETFROM:-0800
TZOFFSETTO:-0700
TZNAME:PDT
DTSTART:20230312T100000
END:DAYLIGHT
BEGIN:STANDARD
TZOFFSETFROM:-0700
TZOFFSETTO:-0800
TZNAME:PST
DTSTART:20231105T090000
END:STANDARD
END:VTIMEZONE
BEGIN:VEVENT
DTSTART;TZID=America/Vancouver:20230228T160000
DTEND;TZID=America/Vancouver:20230228T173000
DTSTAMP:20260422T043518
CREATED:20230126T205356Z
LAST-MODIFIED:20230131T185945Z
UID:10003075-1677600000-1677605400@www.suo.ca
SUMMARY:Stress Management and Mindfulness Workshop
DESCRIPTION:A workshop designed to provide university students with the tools and knowledge needed to manage stress in a healthy and effective way\, so that they can better handle the demands of their academic and personal lives. This workshop will include some discussion\, activities\, and free pizza! \n  \nLocated: FIP 124
URL:https://www.suo.ca/event/stress-management-and-mindfulness-workshop/
LOCATION:FIPKE Building\, UBCO Campus\, 3247 University Way\, Kelowna\, British Columbia\, V1V 1V7\, Canada
CATEGORIES:All Ages,Student Associations
ORGANIZER;CN="Mental Health Awareness & Advocacy Club":MAILTO:mhaac.kelowna@gmail.com
END:VEVENT
BEGIN:VEVENT
DTSTART;TZID=America/Vancouver:20230228T170000
DTEND;TZID=America/Vancouver:20230228T220000
DTSTAMP:20260422T043518
CREATED:20230112T234610Z
LAST-MODIFIED:20230112T234610Z
UID:10002973-1677603600-1677621600@www.suo.ca
SUMMARY:Tuesday Game Night
DESCRIPTION:Come down and play board games every Tuesday from 5-10! The first Tuesday of every month will also be a miniature painting night\, with all supplies provided by the club. \n  \nLocated: ART 110 and 114
URL:https://www.suo.ca/event/tuesday-game-night/2023-02-28/
LOCATION:Arts Building\, UBCO Campus\, 1147 Research Road\, Kelowna\, British Columbia\, V1V 1V7\, Canada
CATEGORIES:All Ages,Student Associations
ATTACH;FMTTYPE=image/jpeg:https://www.suo.ca/wp-content/uploads/2022/07/SUO-Student-Associations.jpg
ORGANIZER;CN="Games Club":MAILTO:gamesclubokanagan@gmail.com
END:VEVENT
BEGIN:VEVENT
DTSTART;TZID=America/Vancouver:20230228T180000
DTEND;TZID=America/Vancouver:20230228T210000
DTSTAMP:20260422T043518
CREATED:20221114T203050Z
LAST-MODIFIED:20221125T213929Z
UID:10002450-1677607200-1677618000@www.suo.ca
SUMMARY:Medieval Club Meeting
DESCRIPTION:The Medieval club is happy to be teaching and demonstrating period style swordsmanship techniques. There will also be period appropriate arts and sciences demonstrations and workshops depending on the week. Check us out on Instagram\, Discord\, or Facebook to find out more! \nDiscord: https://discord.com/invite/kw33HrZqfD \nInstagram: https://www.instagram.com/ubco_medieval_club/ \nFacebook: https://www.facebook.com/groups/1648507338766645 \n  \nThis is a weekly recurring event. \nLocated: UNC 200 ballroom.
URL:https://www.suo.ca/event/medieval-club-meeting/2023-02-28/
LOCATION:UNC 200 Ballroom\, 3272 University Way\, UNC200\, Kelowna\, British Columbia\, V1V 1V7\, Canada
CATEGORIES:All Ages,Student Associations
ATTACH;FMTTYPE=image/jpeg:https://www.suo.ca/wp-content/uploads/2022/07/SUO-Student-Associations.jpg
ORGANIZER;CN="Medieval Club UBCO":MAILTO:UBCOMedievalClub@hotmail.com
END:VEVENT
BEGIN:VEVENT
DTSTART;TZID=America/Vancouver:20230228T183000
DTEND;TZID=America/Vancouver:20230228T203000
DTSTAMP:20260422T043518
CREATED:20230125T174629Z
LAST-MODIFIED:20230125T174629Z
UID:10003055-1677609000-1677616200@www.suo.ca
SUMMARY:BCCU BIOC 309 Midterm 2 Review Session
DESCRIPTION:The BCCU will be hosting a review session for the second pharmacology midterm. Come join us for some interactive review! \n  \nLocated: SCI 333
URL:https://www.suo.ca/event/bccu-bioc-309-midterm-2-review-session/
LOCATION:Science Building\, UBCO Campus\, 1177 Research Road\, Kelowna\, British Columbia\, V1V 1V7\, Canada
CATEGORIES:All Ages,Student Associations
ATTACH;FMTTYPE=image/png:https://www.suo.ca/wp-content/uploads/2021/08/BCCU-Logo-Black.png
ORGANIZER;CN="Biochemistry Course Union":MAILTO:bccu.suo@gmail.com
END:VEVENT
END:VCALENDAR