BEGIN:VCALENDAR
VERSION:2.0
PRODID:-//Students’ Union Okanagan of UBC - ECPv6.5.0//NONSGML v1.0//EN
CALSCALE:GREGORIAN
METHOD:PUBLISH
X-WR-CALNAME:Students’ Union Okanagan of UBC
X-ORIGINAL-URL:https://www.suo.ca
X-WR-CALDESC:Events for Students’ Union Okanagan of UBC
REFRESH-INTERVAL;VALUE=DURATION:PT1H
X-Robots-Tag:noindex
X-PUBLISHED-TTL:PT1H
BEGIN:VTIMEZONE
TZID:America/Vancouver
BEGIN:DAYLIGHT
TZOFFSETFROM:-0800
TZOFFSETTO:-0700
TZNAME:PDT
DTSTART:20230312T100000
END:DAYLIGHT
BEGIN:STANDARD
TZOFFSETFROM:-0700
TZOFFSETTO:-0800
TZNAME:PST
DTSTART:20231105T090000
END:STANDARD
END:VTIMEZONE
BEGIN:VEVENT
DTSTART;TZID=America/Vancouver:20230302T170000
DTEND;TZID=America/Vancouver:20230302T190000
DTSTAMP:20260422T080123
CREATED:20230213T194815Z
LAST-MODIFIED:20230213T194815Z
UID:10003233-1677776400-1677783600@www.suo.ca
SUMMARY:Chess Club
DESCRIPTION:Join us every Thursday at 5-7pm for our weekly chess club meetup! Whether you’re a seasoned player or just starting out\, you’re welcome to come and play some games\, sharpen your skills\, and socialize with other chess fans. Our friendly club members will be on hand to offer tips\, answer questions\, and facilitate games. So come on down to play some chess. We can’t wait to see you there! \n  \nLocated: ART 219
URL:https://www.suo.ca/event/chess-club/2023-03-02/
LOCATION:Arts Building\, UBCO Campus\, 1147 Research Road\, Kelowna\, British Columbia\, V1V 1V7\, Canada
CATEGORIES:All Ages,Student Associations
ATTACH;FMTTYPE=image/png:https://www.suo.ca/wp-content/uploads/2022/03/chess-club-logo-2.png
ORGANIZER;CN="Chess Club":MAILTO:ubcochesscl@gmail.com
END:VEVENT
BEGIN:VEVENT
DTSTART;TZID=America/Vancouver:20230302T173000
DTEND;TZID=America/Vancouver:20230302T190000
DTSTAMP:20260422T080123
CREATED:20230301T203738Z
LAST-MODIFIED:20230301T203738Z
UID:10003287-1677778200-1677783600@www.suo.ca
SUMMARY:UBCO BattleBots Club Free Pizza and Bots Night
DESCRIPTION:Pizza\, Bots\, and Fun! Join us for a night of mouth-watering free pizza and a fantastic bunch of people. Watch the latest episode of BattleBots and get to know some members of the club. Take a look at our prototypes and make new friends while enjoying delicious pizza. Don’t miss out\, RSVP now and join us on March 2nd. \n  \nLocated: EME 2181
URL:https://www.suo.ca/event/ubco-battlebots-club-free-pizza-and-bots-night-2/
LOCATION:EME Building\, UBCO Campus\, 1137 Alumni Avenue\, Kelowna\, British Columbia\, V1V 1V7\, Canada
CATEGORIES:All Ages,Student Associations
ORGANIZER;CN="Battlebots Club":MAILTO:contact@battlebots.com
END:VEVENT
BEGIN:VEVENT
DTSTART;TZID=America/Vancouver:20230302T183000
DTEND;TZID=America/Vancouver:20230302T203000
DTSTAMP:20260422T080123
CREATED:20230403T171630Z
LAST-MODIFIED:20230417T230538Z
UID:10003434-1677781800-1677789000@www.suo.ca
SUMMARY:Weekly Rehearsal
DESCRIPTION:This is a weekly rehearsal hosting classical\, jazz\, and open jam sessions. Please bring your music stand if you have one and also your instrument and RSVP using the link found on our discord server. \n  \nLocated: ART 103
URL:https://www.suo.ca/event/weekly-rehearsal/2023-03-02/
LOCATION:Arts Building\, UBCO Campus\, 1147 Research Road\, Kelowna\, British Columbia\, V1V 1V7\, Canada
CATEGORIES:All Ages,Student Associations
ORGANIZER;CN="Music Club":MAILTO:music.ubco@gmail.com
END:VEVENT
END:VCALENDAR