BEGIN:VCALENDAR
VERSION:2.0
PRODID:-//Students’ Union Okanagan of UBC - ECPv6.5.0//NONSGML v1.0//EN
CALSCALE:GREGORIAN
METHOD:PUBLISH
X-WR-CALNAME:Students’ Union Okanagan of UBC
X-ORIGINAL-URL:https://www.suo.ca
X-WR-CALDESC:Events for Students’ Union Okanagan of UBC
REFRESH-INTERVAL;VALUE=DURATION:PT1H
X-Robots-Tag:noindex
X-PUBLISHED-TTL:PT1H
BEGIN:VTIMEZONE
TZID:America/Vancouver
BEGIN:DAYLIGHT
TZOFFSETFROM:-0800
TZOFFSETTO:-0700
TZNAME:PDT
DTSTART:20230312T100000
END:DAYLIGHT
BEGIN:STANDARD
TZOFFSETFROM:-0700
TZOFFSETTO:-0800
TZNAME:PST
DTSTART:20231105T090000
END:STANDARD
END:VTIMEZONE
BEGIN:VEVENT
DTSTART;TZID=America/Vancouver:20230304T100000
DTEND;TZID=America/Vancouver:20230305T170000
DTSTAMP:20260422T043517
CREATED:20230215T202959Z
LAST-MODIFIED:20230227T175625Z
UID:10003244-1677924000-1678035600@www.suo.ca
SUMMARY:MSA CASE COMPETITION
DESCRIPTION:The MSA Case Competition is a unique opportunity for management students to showcase their skills and solve real-world business problems. Participants will have the chance to put their knowledge and leadership abilities to the test while working to make a positive impact. This competition is a great opportunity to grow and demonstrate your potential as a future business leader. \n  \nLocated: EME 1153\, ASC 140
URL:https://www.suo.ca/event/msa-case-competition/
LOCATION:UBCO Campus\, 3333 University Way\, Kelowna\, British Columbia\, V1V 1V7\, Canada
CATEGORIES:All Ages,Student Associations
ATTACH;FMTTYPE=image/jpeg:https://www.suo.ca/wp-content/uploads/2021/08/MSA-logo.jpg
ORGANIZER;CN="Management Students Association":MAILTO:academics@msasuo.ca
END:VEVENT
BEGIN:VEVENT
DTSTART;TZID=America/Vancouver:20230305T063000
DTEND;TZID=America/Vancouver:20230305T090000
DTSTAMP:20260422T043517
CREATED:20230201T195533Z
LAST-MODIFIED:20230201T195533Z
UID:10003109-1677997800-1678006800@www.suo.ca
SUMMARY:Bahrain Grand Prix
DESCRIPTION:Our club will be streaming the Bahrain Gp at the Admin Theatre the event starts at 0645 and will go for 2 hours. We expect around 30 people to show up for it. \n  \nLocated: ADM 026
URL:https://www.suo.ca/event/bahrain-grand-prix-2/
LOCATION:ADM 026 Theatre\, 1138 Alumni Avenue\, Kelowna\, British Columbia\, V1V 1V7\, Canada
CATEGORIES:All Ages,Student Associations
ATTACH;FMTTYPE=image/png:https://www.suo.ca/wp-content/uploads/2021/10/suo-logo-for-posters_light_background.png
ORGANIZER;CN="Formula 1 Club SUO":MAILTO:ubcoformula1@gmail.com
END:VEVENT
BEGIN:VEVENT
DTSTART;TZID=America/Vancouver:20230305T083000
DTEND;TZID=America/Vancouver:20230305T173000
DTSTAMP:20260422T043517
CREATED:20230207T194249Z
LAST-MODIFIED:20230207T194312Z
UID:10003190-1678005000-1678037400@www.suo.ca
SUMMARY:Farm Tour Day
DESCRIPTION:The Pre-Vet Club is hosting a farm tour day in Salmon Arm on March 5\,2023! Tickets are $30/person and there are 35 tickets available. Transportation by bus\, and a Subway lunch plus additional snacks will be provided (please order at time of registration). \nFull itinerary includes: \n8:30am: Leave Campus by bus \n10 – 11:30am: Tour Shuswap Veterinary Clinic \n11:45am: Lunch! eat on the bus \n12 – 1:15pm: Tour Bremer’s Dairy \n1:30 – 2:15pm:Tour Valley Wide Meats \n2:45 – 4pm: Tour Finlays Farm (sheep and beef) \n4-5:30: Arrive back on campus for 5:30 \n  \n 
URL:https://www.suo.ca/event/farm-tour-day/
LOCATION:UBCO Campus\, 3333 University Way\, Kelowna\, British Columbia\, V1V 1V7\, Canada
CATEGORIES:All Ages,Student Associations
ORGANIZER;CN="Pre-Vet Club":MAILTO:prevetclub.okanagan@outlook.com
END:VEVENT
BEGIN:VEVENT
DTSTART;TZID=America/Vancouver:20230305T110000
DTEND;TZID=America/Vancouver:20230305T180000
DTSTAMP:20260422T043517
CREATED:20230215T203217Z
LAST-MODIFIED:20230215T203217Z
UID:10003243-1678014000-1678039200@www.suo.ca
SUMMARY:Guest Lecture
DESCRIPTION:This event will be an Islamic lecture\, and is the third event of the series we are having. \n  \nLocated: EME 0050
URL:https://www.suo.ca/event/guest-lecture/
LOCATION:EME Building\, UBCO Campus\, 1137 Alumni Avenue\, Kelowna\, British Columbia\, V1V 1V7\, Canada
CATEGORIES:All Ages,Student Associations
ORGANIZER;CN="Muslim Student Association":MAILTO:msa.ubcokanagan@gmail.com
END:VEVENT
BEGIN:VEVENT
DTSTART;TZID=America/Vancouver:20230305T163000
DTEND;TZID=America/Vancouver:20230305T200000
DTSTAMP:20260422T043517
CREATED:20221205T193200Z
LAST-MODIFIED:20221205T193200Z
UID:10002872-1678033800-1678046400@www.suo.ca
SUMMARY:Ballroom Dance Classes
DESCRIPTION:Come and learn all kinds of ballroom dance such as waltz\, foxtrot\, rumba\, and more! See below for our normal class times!\nLevel 1: 4:30pm-5:30pm\nLevel 2: 5:30-6:30pm\nPractice Dance Party: 6:30-8:00pm \n  \nLocated: UNC 200 Ballroom.
URL:https://www.suo.ca/event/ballroom-dance-classes-2/2023-03-05/
LOCATION:UNC 200 Ballroom\, 3272 University Way\, UNC200\, Kelowna\, British Columbia\, V1V 1V7\, Canada
CATEGORIES:All Ages,Student Associations
ORGANIZER;CN="Ballroom Dance Club":MAILTO:ballroomdancesuo@gmail.com
END:VEVENT
END:VCALENDAR