BEGIN:VCALENDAR
VERSION:2.0
PRODID:-//Students’ Union Okanagan of UBC - ECPv6.5.0//NONSGML v1.0//EN
CALSCALE:GREGORIAN
METHOD:PUBLISH
X-ORIGINAL-URL:https://www.suo.ca
X-WR-CALDESC:Events for Students’ Union Okanagan of UBC
REFRESH-INTERVAL;VALUE=DURATION:PT1H
X-Robots-Tag:noindex
X-PUBLISHED-TTL:PT1H
BEGIN:VTIMEZONE
TZID:America/Vancouver
BEGIN:DAYLIGHT
TZOFFSETFROM:-0800
TZOFFSETTO:-0700
TZNAME:PDT
DTSTART:20230312T100000
END:DAYLIGHT
BEGIN:STANDARD
TZOFFSETFROM:-0700
TZOFFSETTO:-0800
TZNAME:PST
DTSTART:20231105T090000
END:STANDARD
END:VTIMEZONE
BEGIN:VEVENT
DTSTART;TZID=America/Vancouver:20230309T110000
DTEND;TZID=America/Vancouver:20230309T110000
DTSTAMP:20260422T061445
CREATED:20230227T202254Z
LAST-MODIFIED:20230227T202254Z
UID:10003293-1678359600-1678359600@www.suo.ca
SUMMARY:MCU Cookie Decorating
DESCRIPTION:Come decorate microbiology themed cookies with the Microbiology Course Union from 11:00 – 2:00 at the Sawchuk Family Theatre!
URL:https://www.suo.ca/event/mcu-cookie-decorating/
LOCATION:UBCO Campus\, 3333 University Way\, Kelowna\, British Columbia\, V1V 1V7\, Canada
CATEGORIES:All Ages,Student Associations
ORGANIZER;CN="Microbiology Course Union":MAILTO:mcu.suo@gmail.com
END:VEVENT
BEGIN:VEVENT
DTSTART;TZID=America/Vancouver:20230309T160000
DTEND;TZID=America/Vancouver:20230309T180000
DTSTAMP:20260422T061445
CREATED:20230306T170059Z
LAST-MODIFIED:20230306T170059Z
UID:10003305-1678377600-1678384800@www.suo.ca
SUMMARY:Dat study night
DESCRIPTION:This event will help students who are interested in preparing for the DAT exam. The DAT exam is an exam that is required for dental school. \n  \nLocated: EME 1151
URL:https://www.suo.ca/event/dat-study-night-2/
LOCATION:EME Building\, UBCO Campus\, 1137 Alumni Avenue\, Kelowna\, British Columbia\, V1V 1V7\, Canada
CATEGORIES:All Ages,Student Associations
ATTACH;FMTTYPE=image/jpeg:https://www.suo.ca/wp-content/uploads/2022/07/SUO-Student-Associations.jpg
ORGANIZER;CN="Pre-Dental Society":MAILTO:ubcopredental.president@gmail.com
END:VEVENT
BEGIN:VEVENT
DTSTART;TZID=America/Vancouver:20230309T170000
DTEND;TZID=America/Vancouver:20230309T190000
DTSTAMP:20260422T061445
CREATED:20230213T194815Z
LAST-MODIFIED:20230213T194815Z
UID:10003234-1678381200-1678388400@www.suo.ca
SUMMARY:Chess Club
DESCRIPTION:Join us every Thursday at 5-7pm for our weekly chess club meetup! Whether you’re a seasoned player or just starting out\, you’re welcome to come and play some games\, sharpen your skills\, and socialize with other chess fans. Our friendly club members will be on hand to offer tips\, answer questions\, and facilitate games. So come on down to play some chess. We can’t wait to see you there! \n  \nLocated: ART 219
URL:https://www.suo.ca/event/chess-club/2023-03-09/
LOCATION:Arts Building\, UBCO Campus\, 1147 Research Road\, Kelowna\, British Columbia\, V1V 1V7\, Canada
CATEGORIES:All Ages,Student Associations
ATTACH;FMTTYPE=image/png:https://www.suo.ca/wp-content/uploads/2022/03/chess-club-logo-2.png
ORGANIZER;CN="Chess Club":MAILTO:ubcochesscl@gmail.com
END:VEVENT
BEGIN:VEVENT
DTSTART;TZID=America/Vancouver:20230309T183000
DTEND;TZID=America/Vancouver:20230309T203000
DTSTAMP:20260422T061445
CREATED:20230403T171630Z
LAST-MODIFIED:20230417T230538Z
UID:10003459-1678386600-1678393800@www.suo.ca
SUMMARY:Weekly Rehearsal
DESCRIPTION:This is a weekly rehearsal hosting classical\, jazz\, and open jam sessions. Please bring your music stand if you have one and also your instrument and RSVP using the link found on our discord server. \n  \nLocated: ART 103
URL:https://www.suo.ca/event/weekly-rehearsal/2023-03-09/
LOCATION:Arts Building\, UBCO Campus\, 1147 Research Road\, Kelowna\, British Columbia\, V1V 1V7\, Canada
CATEGORIES:All Ages,Student Associations
ORGANIZER;CN="Music Club":MAILTO:music.ubco@gmail.com
END:VEVENT
END:VCALENDAR