BEGIN:VCALENDAR
VERSION:2.0
PRODID:-//Students’ Union Okanagan of UBC - ECPv6.5.0//NONSGML v1.0//EN
CALSCALE:GREGORIAN
METHOD:PUBLISH
X-WR-CALNAME:Students’ Union Okanagan of UBC
X-ORIGINAL-URL:https://www.suo.ca
X-WR-CALDESC:Events for Students’ Union Okanagan of UBC
REFRESH-INTERVAL;VALUE=DURATION:PT1H
X-Robots-Tag:noindex
X-PUBLISHED-TTL:PT1H
BEGIN:VTIMEZONE
TZID:America/Vancouver
BEGIN:DAYLIGHT
TZOFFSETFROM:-0800
TZOFFSETTO:-0700
TZNAME:PDT
DTSTART:20230312T100000
END:DAYLIGHT
BEGIN:STANDARD
TZOFFSETFROM:-0700
TZOFFSETTO:-0800
TZNAME:PST
DTSTART:20231105T090000
END:STANDARD
END:VTIMEZONE
BEGIN:VEVENT
DTSTART;TZID=America/Vancouver:20230311T080000
DTEND;TZID=America/Vancouver:20230311T120000
DTSTAMP:20260422T061347
CREATED:20230206T181332Z
LAST-MODIFIED:20230206T181332Z
UID:10003184-1678521600-1678536000@www.suo.ca
SUMMARY:Specialized Period Sword Style Workshop
DESCRIPTION:While our regular meetings cover period sword styles used in current medieval combat sports\, there was more to the sword styles of history than what is currently used! \nFor these workshops we will be bringing instructors who teach unique styles of period swordplay to expose the club members to more variety! \n  \nLocated: UNC 200 \n 
URL:https://www.suo.ca/event/specialized-period-sword-style-workshop/2023-03-11/
LOCATION:UNC 200 Ballroom\, 3272 University Way\, UNC200\, Kelowna\, British Columbia\, V1V 1V7\, Canada
CATEGORIES:All Ages,Student Associations
ATTACH;FMTTYPE=image/png:https://www.suo.ca/wp-content/uploads/2021/10/suo-logo-for-posters_light_background.png
ORGANIZER;CN="Medieval Club UBCO":MAILTO:UBCOMedievalClub@hotmail.com
END:VEVENT
BEGIN:VEVENT
DTSTART;TZID=America/Vancouver:20230311T103000
DTEND;TZID=America/Vancouver:20230311T123000
DTSTAMP:20260422T061347
CREATED:20230227T190210Z
LAST-MODIFIED:20230302T191218Z
UID:10003266-1678530600-1678537800@www.suo.ca
SUMMARY:Grow & Glow x Jack.org Wellness Hike
DESCRIPTION:Spend your Saturday afternoon on a hike at the Quail Ridge Linear Park while meeting new people\, breathing the fresh air\, and enjoying yummy snacks and drinks! We will meet in front of the G parking lot area\, and walk towards the W parking lot to begin the hike. For those interested in officially joining as a general member of Jack.Org\, you will receive a $5 online gift card of your choice\, along with a free T-Shirt! More information about the meeting area will get emailed\nTickets are limited. Register through Eventbrite. For more information\, visit our Instagram (@ubco.ggc or @ubco_jackdotorg)”  \nLocated: Academy Hill Trails
URL:https://www.suo.ca/event/grow-glow-x-jack-org-wellness-hike/
LOCATION:UBCO Campus\, 3333 University Way\, Kelowna\, British Columbia\, V1V 1V7\, Canada
CATEGORIES:All Ages,Student Associations
ATTACH;FMTTYPE=image/jpeg:https://www.suo.ca/wp-content/uploads/2022/07/SUO-Student-Associations.jpg
ORGANIZER;CN="Jack.Org UBCO":MAILTO:ubcojack.org@gmail.com
END:VEVENT
BEGIN:VEVENT
DTSTART;TZID=America/Vancouver:20230311T120000
DTEND;TZID=America/Vancouver:20230311T220000
DTSTAMP:20260422T061347
CREATED:20221130T161616Z
LAST-MODIFIED:20221130T161616Z
UID:10002202-1678536000-1678572000@www.suo.ca
SUMMARY:Danceology
DESCRIPTION:Unite Dance Club will be hosting a showcase called “Danceology” on March 11th\, 2023! Danceology is our dance recital where our members join dances taught by our team of teachers to showcase Unite Dance Club’s passion for dance! \n  \nLocated: ADM 026 University Theatre.
URL:https://www.suo.ca/event/danceology/
LOCATION:ADM 026 Theatre\, 1138 Alumni Avenue\, Kelowna\, British Columbia\, V1V 1V7\, Canada
CATEGORIES:All Ages,Student Associations
ATTACH;FMTTYPE=image/png:https://www.suo.ca/wp-content/uploads/2021/08/Unite-Dance-club.png
ORGANIZER;CN="Unite Dance Club":MAILTO:unitedanceclub1@gmail.com
END:VEVENT
BEGIN:VEVENT
DTSTART;TZID=America/Vancouver:20230311T173000
DTEND;TZID=America/Vancouver:20230311T210000
DTSTAMP:20260422T061347
CREATED:20221128T194909Z
LAST-MODIFIED:20221221T213413Z
UID:10002471-1678555800-1678568400@www.suo.ca
SUMMARY:Art On the Line
DESCRIPTION:A red carpet event for art and art lovers alike! Come dress up and enjoy some food\, drinks\, and of course… Art!\nSome people may even go home with their favourite pieces of art! \nTickets on Eventbrite \nLocated: EME Foyer. \n \n 
URL:https://www.suo.ca/event/art-on-the-line/
LOCATION:EME Building\, UBCO Campus\, 1137 Alumni Avenue\, Kelowna\, British Columbia\, V1V 1V7\, Canada
CATEGORIES:All Ages,Student Associations
ATTACH;FMTTYPE=image/png:https://www.suo.ca/wp-content/uploads/2022/11/AOTL_logo.png
ORGANIZER;CN="Visual Arts Course Union":MAILTO:support@ubcovacu.org
END:VEVENT
END:VCALENDAR