BEGIN:VCALENDAR
VERSION:2.0
PRODID:-//Students’ Union Okanagan of UBC - ECPv6.5.0//NONSGML v1.0//EN
CALSCALE:GREGORIAN
METHOD:PUBLISH
X-WR-CALNAME:Students’ Union Okanagan of UBC
X-ORIGINAL-URL:https://www.suo.ca
X-WR-CALDESC:Events for Students’ Union Okanagan of UBC
REFRESH-INTERVAL;VALUE=DURATION:PT1H
X-Robots-Tag:noindex
X-PUBLISHED-TTL:PT1H
BEGIN:VTIMEZONE
TZID:America/Vancouver
BEGIN:DAYLIGHT
TZOFFSETFROM:-0800
TZOFFSETTO:-0700
TZNAME:PDT
DTSTART:20230312T100000
END:DAYLIGHT
BEGIN:STANDARD
TZOFFSETFROM:-0700
TZOFFSETTO:-0800
TZNAME:PST
DTSTART:20231105T090000
END:STANDARD
END:VTIMEZONE
BEGIN:VEVENT
DTSTART;TZID=America/Vancouver:20230314T080000
DTEND;TZID=America/Vancouver:20230314T170000
DTSTAMP:20260422T061348
CREATED:20230118T195048Z
LAST-MODIFIED:20230118T195048Z
UID:10003030-1678780800-1678813200@www.suo.ca
SUMMARY:HCU Study Sessions
DESCRIPTION:These study sessions are designed for anyone enrolled in a history course\, whether as an elective or a requirement. It is a drop-in session\, meaning that if you only have one quick question you can pop by\, get that answered and then leave\, or if you just want a quiet place to study and want to stay the whole two hours you can do that too! We can help with essay writing\, midterm prep\, citation help\, research tips etc. \nJanuary 24th \nFebruary 16th \nMarch 14th \n  \nLocated: ART 203
URL:https://www.suo.ca/event/hcu-study-sessions/2023-03-14/
LOCATION:Arts Building\, UBCO Campus\, 1147 Research Road\, Kelowna\, British Columbia\, V1V 1V7\, Canada
CATEGORIES:All Ages,Student Associations
ORGANIZER;CN="History Course Union":MAILTO:hcuokanagan@gmail.com
END:VEVENT
BEGIN:VEVENT
DTSTART;TZID=America/Vancouver:20230314T093000
DTEND;TZID=America/Vancouver:20230314T110000
DTSTAMP:20260422T061348
CREATED:20230201T182442Z
LAST-MODIFIED:20230201T182442Z
UID:10003161-1678786200-1678791600@www.suo.ca
SUMMARY:MATH 101 review session
DESCRIPTION:Prepare for the MATH 101 midterms with your QSCU rep. Maddy! \n  \nLocated: EME 1151
URL:https://www.suo.ca/event/math-101-review-session/2023-03-14/
LOCATION:EME Building\, UBCO Campus\, 1137 Alumni Avenue\, Kelowna\, British Columbia\, V1V 1V7\, Canada
CATEGORIES:All Ages,Student Associations
ATTACH;FMTTYPE=image/png:https://www.suo.ca/wp-content/uploads/2021/10/suo-logo-for-posters_light_background.png
ORGANIZER;CN="Quantitative Sciences Course Union":MAILTO:qscu.main@gmail.com
END:VEVENT
BEGIN:VEVENT
DTSTART;TZID=America/Vancouver:20230314T170000
DTEND;TZID=America/Vancouver:20230314T193000
DTSTAMP:20260422T061348
CREATED:20230306T171034Z
LAST-MODIFIED:20230306T171034Z
UID:10003311-1678813200-1678822200@www.suo.ca
SUMMARY:Making Connections - KPMG
DESCRIPTION:A meet and greet event for UBCO students with KPMG representatives hosted in partnership by the Accounting and Consulting clubs. \n  \nLocated: EME 1153
URL:https://www.suo.ca/event/making-connections-kpmg/
LOCATION:EME Building\, UBCO Campus\, 1137 Alumni Avenue\, Kelowna\, British Columbia\, V1V 1V7\, Canada
CATEGORIES:All Ages,Student Associations
ATTACH;FMTTYPE=image/jpeg:https://www.suo.ca/wp-content/uploads/2021/08/MSA-logo.jpg
ORGANIZER;CN="Management Students Association":MAILTO:academics@msasuo.ca
END:VEVENT
BEGIN:VEVENT
DTSTART;TZID=America/Vancouver:20230314T170000
DTEND;TZID=America/Vancouver:20230314T220000
DTSTAMP:20260422T061348
CREATED:20230112T234610Z
LAST-MODIFIED:20230112T234610Z
UID:10002975-1678813200-1678831200@www.suo.ca
SUMMARY:Tuesday Game Night
DESCRIPTION:Come down and play board games every Tuesday from 5-10! The first Tuesday of every month will also be a miniature painting night\, with all supplies provided by the club. \n  \nLocated: ART 110 and 114
URL:https://www.suo.ca/event/tuesday-game-night/2023-03-14/
LOCATION:Arts Building\, UBCO Campus\, 1147 Research Road\, Kelowna\, British Columbia\, V1V 1V7\, Canada
CATEGORIES:All Ages,Student Associations
ATTACH;FMTTYPE=image/jpeg:https://www.suo.ca/wp-content/uploads/2022/07/SUO-Student-Associations.jpg
ORGANIZER;CN="Games Club":MAILTO:gamesclubokanagan@gmail.com
END:VEVENT
BEGIN:VEVENT
DTSTART;TZID=America/Vancouver:20230314T180000
DTEND;TZID=America/Vancouver:20230314T200000
DTSTAMP:20260422T061348
CREATED:20230125T174023Z
LAST-MODIFIED:20230125T174023Z
UID:10003052-1678816800-1678824000@www.suo.ca
SUMMARY:CCU CHEM 330 Midterm Study Session
DESCRIPTION:Midterm study session for all CHEM 330 students. Practice exam + pizza! \n  \nLocated: SCI 247
URL:https://www.suo.ca/event/ccu-chem-330-midterm-study-session/
LOCATION:Science Building\, UBCO Campus\, 1177 Research Road\, Kelowna\, British Columbia\, V1V 1V7\, Canada
CATEGORIES:All Ages,Student Associations
ORGANIZER;CN="Chemistry Course Union":MAILTO:chemcourseunion@gmail.com
END:VEVENT
BEGIN:VEVENT
DTSTART;TZID=America/Vancouver:20230314T180000
DTEND;TZID=America/Vancouver:20230314T210000
DTSTAMP:20260422T061348
CREATED:20221114T203050Z
LAST-MODIFIED:20221125T213929Z
UID:10002452-1678816800-1678827600@www.suo.ca
SUMMARY:Medieval Club Meeting
DESCRIPTION:The Medieval club is happy to be teaching and demonstrating period style swordsmanship techniques. There will also be period appropriate arts and sciences demonstrations and workshops depending on the week. Check us out on Instagram\, Discord\, or Facebook to find out more! \nDiscord: https://discord.com/invite/kw33HrZqfD \nInstagram: https://www.instagram.com/ubco_medieval_club/ \nFacebook: https://www.facebook.com/groups/1648507338766645 \n  \nThis is a weekly recurring event. \nLocated: UNC 200 ballroom.
URL:https://www.suo.ca/event/medieval-club-meeting/2023-03-14/
LOCATION:UNC 200 Ballroom\, 3272 University Way\, UNC200\, Kelowna\, British Columbia\, V1V 1V7\, Canada
CATEGORIES:All Ages,Student Associations
ATTACH;FMTTYPE=image/jpeg:https://www.suo.ca/wp-content/uploads/2022/07/SUO-Student-Associations.jpg
ORGANIZER;CN="Medieval Club UBCO":MAILTO:UBCOMedievalClub@hotmail.com
END:VEVENT
BEGIN:VEVENT
DTSTART;TZID=America/Vancouver:20230314T183000
DTEND;TZID=America/Vancouver:20230314T183000
DTSTAMP:20260422T061348
CREATED:20230306T172548Z
LAST-MODIFIED:20230306T172548Z
UID:10003340-1678818600-1678818600@www.suo.ca
SUMMARY:Management Student Associations SAGM
DESCRIPTION:The MSA is hosted their SAGM on March 14 starting at 6:30pm! All MGMT students are invited to ask questions to the current and incoming teams and learn how the MSA plans to continue creating experiences that inspire! \n  \nLocated: FIP 204
URL:https://www.suo.ca/event/management-student-associations-sagm/
LOCATION:FIPKE Building\, UBCO Campus\, 3247 University Way\, Kelowna\, British Columbia\, V1V 1V7\, Canada
CATEGORIES:All Ages,Student Associations
ATTACH;FMTTYPE=image/jpeg:https://www.suo.ca/wp-content/uploads/2021/08/MSA-logo.jpg
ORGANIZER;CN="Management Students Association":MAILTO:academics@msasuo.ca
END:VEVENT
BEGIN:VEVENT
DTSTART;TZID=America/Vancouver:20230314T194500
DTEND;TZID=America/Vancouver:20230314T204500
DTSTAMP:20260422T061348
CREATED:20230228T192512Z
LAST-MODIFIED:20230228T192512Z
UID:10003288-1678823100-1678826700@www.suo.ca
SUMMARY:Educational Presentation about Spay/Neuter
DESCRIPTION:Come learn about the importance of spaying and neutering with a licensed veterinarian! \n  \n 
URL:https://www.suo.ca/event/educational-presentation-about-spay-neuter/
LOCATION:Virtual (Online)\, Kelowna\, British Columbia\, Canada
CATEGORIES:All Ages,Resource Centre
ORGANIZER;CN="Pre-Vet Club":MAILTO:prevetclub.okanagan@outlook.com
END:VEVENT
BEGIN:VEVENT
DTSTART;TZID=America/Vancouver:20230314T230000
DTEND;TZID=America/Vancouver:20230314T230000
DTSTAMP:20260422T061348
CREATED:20230228T194233Z
LAST-MODIFIED:20230228T194233Z
UID:10003300-1678834800-1678834800@www.suo.ca
SUMMARY:Pi Day Pies!
DESCRIPTION:Selling mini pies for Pi day! \n  \nLocated: UNC 001 Foyer
URL:https://www.suo.ca/event/pi-day-pies/
LOCATION:UNC Foyer\, UBCO Campus\, 3272 University Way\, Kelowna\, British Columbia\, V1V 1V7\, Canada
CATEGORIES:All Ages,Student Associations
ORGANIZER;CN="Chemistry Course Union":MAILTO:chemcourseunion@gmail.com
END:VEVENT
END:VCALENDAR