BEGIN:VCALENDAR
VERSION:2.0
PRODID:-//Students’ Union Okanagan of UBC - ECPv6.5.0//NONSGML v1.0//EN
CALSCALE:GREGORIAN
METHOD:PUBLISH
X-WR-CALNAME:Students’ Union Okanagan of UBC
X-ORIGINAL-URL:https://www.suo.ca
X-WR-CALDESC:Events for Students’ Union Okanagan of UBC
REFRESH-INTERVAL;VALUE=DURATION:PT1H
X-Robots-Tag:noindex
X-PUBLISHED-TTL:PT1H
BEGIN:VTIMEZONE
TZID:America/Vancouver
BEGIN:DAYLIGHT
TZOFFSETFROM:-0800
TZOFFSETTO:-0700
TZNAME:PDT
DTSTART:20230312T100000
END:DAYLIGHT
BEGIN:STANDARD
TZOFFSETFROM:-0700
TZOFFSETTO:-0800
TZNAME:PST
DTSTART:20231105T090000
END:STANDARD
END:VTIMEZONE
BEGIN:VEVENT
DTSTART;TZID=America/Vancouver:20230315T123000
DTEND;TZID=America/Vancouver:20230315T140000
DTSTAMP:20260422T080123
CREATED:20230313T172952Z
LAST-MODIFIED:20230313T172952Z
UID:10003364-1678883400-1678888800@www.suo.ca
SUMMARY:STAT230 Midterm 2 Review Session
DESCRIPTION:Prepare for your STAT 230 midterms with your QSCU president Livia! \n  \nLocated: ART 202
URL:https://www.suo.ca/event/stat230-midterm-2-review-session/
LOCATION:Arts Building\, UBCO Campus\, 1147 Research Road\, Kelowna\, British Columbia\, V1V 1V7\, Canada
CATEGORIES:All Ages,Student Associations
ATTACH;FMTTYPE=image/jpeg:https://www.suo.ca/wp-content/uploads/2022/07/SUO-Student-Associations.jpg
ORGANIZER;CN="Quantitative Sciences Course Union":MAILTO:qscu.main@gmail.com
END:VEVENT
BEGIN:VEVENT
DTSTART;TZID=America/Vancouver:20230315T130000
DTEND;TZID=America/Vancouver:20230315T150000
DTSTAMP:20260422T080123
CREATED:20230227T181910Z
LAST-MODIFIED:20230227T181910Z
UID:10003253-1678885200-1678892400@www.suo.ca
SUMMARY:Financial Literacy Event
DESCRIPTION:Bringing in industry professionals to speak about various topics\, along with a space and time for the attendees to have the opportunity for networking opportunities. \n  \nLocated: EME Foyer
URL:https://www.suo.ca/event/financial-literacy-event/
LOCATION:EME Building\, UBCO Campus\, 1137 Alumni Avenue\, Kelowna\, British Columbia\, V1V 1V7\, Canada
CATEGORIES:All Ages,Student Associations
ATTACH;FMTTYPE=image/jpeg:https://www.suo.ca/wp-content/uploads/2021/08/MSA-logo.jpg
ORGANIZER;CN="Management Students Association":MAILTO:academics@msasuo.ca
END:VEVENT
END:VCALENDAR