BEGIN:VCALENDAR
VERSION:2.0
PRODID:-//Students’ Union Okanagan of UBC - ECPv6.5.0//NONSGML v1.0//EN
CALSCALE:GREGORIAN
METHOD:PUBLISH
X-WR-CALNAME:Students’ Union Okanagan of UBC
X-ORIGINAL-URL:https://www.suo.ca
X-WR-CALDESC:Events for Students’ Union Okanagan of UBC
REFRESH-INTERVAL;VALUE=DURATION:PT1H
X-Robots-Tag:noindex
X-PUBLISHED-TTL:PT1H
BEGIN:VTIMEZONE
TZID:America/Vancouver
BEGIN:DAYLIGHT
TZOFFSETFROM:-0800
TZOFFSETTO:-0700
TZNAME:PDT
DTSTART:20230312T100000
END:DAYLIGHT
BEGIN:STANDARD
TZOFFSETFROM:-0700
TZOFFSETTO:-0800
TZNAME:PST
DTSTART:20231105T090000
END:STANDARD
END:VTIMEZONE
BEGIN:VEVENT
DTSTART;TZID=America/Vancouver:20230316T063000
DTEND;TZID=America/Vancouver:20230316T203000
DTSTAMP:20260422T061239
CREATED:20230125T173435Z
LAST-MODIFIED:20230125T173435Z
UID:10003058-1678948200-1678998600@www.suo.ca
SUMMARY:BCCU BIOL 125 Midterm 2 Review
DESCRIPTION:The BCCU will be hosting a review session for the second introductory biology midterm of the semester. Come join us for some interactive review! \n  \nLocated: FIP 204
URL:https://www.suo.ca/event/bccu-biol-125-midterm-2-review/
LOCATION:FIPKE Building\, UBCO Campus\, 3247 University Way\, Kelowna\, British Columbia\, V1V 1V7\, Canada
CATEGORIES:All Ages,Student Associations
ATTACH;FMTTYPE=image/png:https://www.suo.ca/wp-content/uploads/2021/08/BCCU-Logo-Black.png
ORGANIZER;CN="Biochemistry Course Union":MAILTO:bccu.suo@gmail.com
END:VEVENT
BEGIN:VEVENT
DTSTART;TZID=America/Vancouver:20230316T160000
DTEND;TZID=America/Vancouver:20230316T160000
DTSTAMP:20260422T061239
CREATED:20230208T200857Z
LAST-MODIFIED:20230208T200857Z
UID:10003215-1678982400-1678982400@www.suo.ca
SUMMARY:Quiet Skies for Radio Astronomy
DESCRIPTION:Join us for a captivating seminar on radio astronomy with Dr. Anna Ordog\, a post-doctoral researcher at the Dominion Radio Astrophysical Observatory (DRAO) and UBCO. With her extensive knowledge and experience in the field\, Dr. Ordog will take you on a journey of fascinating discoveries and technological advancements in radio astronomy. She will delve into her work at the local radio observatory and provide a unique perspective on the challenges posed by human-made signals that drown out astronomical sources. This event is designed for anyone interested in astronomy\, from first-year students to aspiring astronomers. Don’t miss this opportunity to learn\, discover\, and be inspired as part of a community passionate about exploring the mysteries of the universe. \n  \nLocated: EME 1153
URL:https://www.suo.ca/event/quiet-skies-for-radio-astronomy/
LOCATION:EME Building\, UBCO Campus\, 1137 Alumni Avenue\, Kelowna\, British Columbia\, V1V 1V7\, Canada
CATEGORIES:All Ages,Student Associations
ATTACH;FMTTYPE=image/png:https://www.suo.ca/wp-content/uploads/2021/10/suo-logo-for-posters_light_background.png
ORGANIZER;CN="Astronomy Club UBCO":MAILTO:ubcoastronomyclub@gmail.com
END:VEVENT
BEGIN:VEVENT
DTSTART;TZID=America/Vancouver:20230316T170000
DTEND;TZID=America/Vancouver:20230316T190000
DTSTAMP:20260422T061239
CREATED:20230213T194815Z
LAST-MODIFIED:20230213T194815Z
UID:10003235-1678986000-1678993200@www.suo.ca
SUMMARY:Chess Club
DESCRIPTION:Join us every Thursday at 5-7pm for our weekly chess club meetup! Whether you’re a seasoned player or just starting out\, you’re welcome to come and play some games\, sharpen your skills\, and socialize with other chess fans. Our friendly club members will be on hand to offer tips\, answer questions\, and facilitate games. So come on down to play some chess. We can’t wait to see you there! \n  \nLocated: ART 219
URL:https://www.suo.ca/event/chess-club/2023-03-16/
LOCATION:Arts Building\, UBCO Campus\, 1147 Research Road\, Kelowna\, British Columbia\, V1V 1V7\, Canada
CATEGORIES:All Ages,Student Associations
ATTACH;FMTTYPE=image/png:https://www.suo.ca/wp-content/uploads/2022/03/chess-club-logo-2.png
ORGANIZER;CN="Chess Club":MAILTO:ubcochesscl@gmail.com
END:VEVENT
BEGIN:VEVENT
DTSTART;TZID=America/Vancouver:20230316T170000
DTEND;TZID=America/Vancouver:20230316T190000
DTSTAMP:20260422T061239
CREATED:20230309T225424Z
LAST-MODIFIED:20230309T225424Z
UID:10003344-1678986000-1678993200@www.suo.ca
SUMMARY:Overdose Awareness and Naloxone Training
DESCRIPTION:The organisation LPRC (Living Positive Resource Center) is partnering with the club Red Cross. LPRC will be giving an overdose awareness and naloxone training. The training will have a presentation on awareness of overdose followed by the naloxone training. The purpose is for Red Cross members and others to receive training \, gain experience and be a better samaritain in Kelowna. \n  \nLocated: ART 110
URL:https://www.suo.ca/event/overdose-awareness-and-naloxone-training/
LOCATION:Arts Building\, UBCO Campus\, 1147 Research Road\, Kelowna\, British Columbia\, V1V 1V7\, Canada
CATEGORIES:All Ages,Student Associations
ATTACH;FMTTYPE=image/jpeg:https://www.suo.ca/wp-content/uploads/2022/07/SUO-Student-Associations.jpg
ORGANIZER;CN="Red Cross Club":MAILTO:suoredcross@gmail.com
END:VEVENT
BEGIN:VEVENT
DTSTART;TZID=America/Vancouver:20230316T170000
DTEND;TZID=America/Vancouver:20230316T190000
DTSTAMP:20260422T061239
CREATED:20230313T173124Z
LAST-MODIFIED:20230313T173124Z
UID:10003355-1678986000-1678993200@www.suo.ca
SUMMARY:From Policy to Practice
DESCRIPTION:A panel discussion with lawyers and articling law students from different fields local to Kelowna. \nPerfect for those wanting to or curios about law school and practicing law in the future! \n  \nLocated: ART 114
URL:https://www.suo.ca/event/from-policy-to-practice/
LOCATION:Arts Building\, UBCO Campus\, 1147 Research Road\, Kelowna\, British Columbia\, V1V 1V7\, Canada
CATEGORIES:All Ages,Student Associations
ATTACH;FMTTYPE=image/svg+xml:https://www.suo.ca/wp-content/uploads/2021/12/SUO-Logo.svg
ORGANIZER;CN="Dissecting Liberty Club":MAILTO:dissectinglibertyubco@gmail.com
END:VEVENT
BEGIN:VEVENT
DTSTART;TZID=America/Vancouver:20230316T183000
DTEND;TZID=America/Vancouver:20230316T203000
DTSTAMP:20260422T061239
CREATED:20230403T171630Z
LAST-MODIFIED:20230417T230538Z
UID:10003460-1678991400-1678998600@www.suo.ca
SUMMARY:Weekly Rehearsal
DESCRIPTION:This is a weekly rehearsal hosting classical\, jazz\, and open jam sessions. Please bring your music stand if you have one and also your instrument and RSVP using the link found on our discord server. \n  \nLocated: ART 103
URL:https://www.suo.ca/event/weekly-rehearsal/2023-03-16/
LOCATION:Arts Building\, UBCO Campus\, 1147 Research Road\, Kelowna\, British Columbia\, V1V 1V7\, Canada
CATEGORIES:All Ages,Student Associations
ORGANIZER;CN="Music Club":MAILTO:music.ubco@gmail.com
END:VEVENT
BEGIN:VEVENT
DTSTART;TZID=America/Vancouver:20230316T190000
DTEND;TZID=America/Vancouver:20230316T220000
DTSTAMP:20260422T061239
CREATED:20230313T194451Z
LAST-MODIFIED:20230707T200657Z
UID:10003317-1678993200-1679004000@www.suo.ca
SUMMARY:Astronomy and Physics Club Trivia Night
DESCRIPTION:Are you ready to test your knowledge of astronomy and physics in a fun competition? Join us for a trivia night at the Well. You’ll get to enjoy some good food while answering questions about planets\, stars\, galaxies\, black holes\, quantum mechanics\, relativity\, and more. Whether you’re a science major or just curious about the universe\, this is a great opportunity to learn something new and have some fun. Plus\, you’ll have a chance to win some awesome prizes! \n  \nLocated: The Well Pub
URL:https://www.suo.ca/event/astronomy-and-physics-club-trivia-night/
LOCATION:The Well Pub\, 3272 University Way\, UNC125\, Kelowna\, British Columbia\, V1V 1V7\, Canada
CATEGORIES:All Ages,Student Associations
ATTACH;FMTTYPE=image/svg+xml:https://www.suo.ca/wp-content/uploads/2021/12/SUO-Logo.svg
ORGANIZER;CN="Astronomy Club UBCO":MAILTO:ubcoastronomyclub@gmail.com
END:VEVENT
END:VCALENDAR