BEGIN:VCALENDAR
VERSION:2.0
PRODID:-//Students’ Union Okanagan of UBC - ECPv6.5.0//NONSGML v1.0//EN
CALSCALE:GREGORIAN
METHOD:PUBLISH
X-ORIGINAL-URL:https://www.suo.ca
X-WR-CALDESC:Events for Students’ Union Okanagan of UBC
REFRESH-INTERVAL;VALUE=DURATION:PT1H
X-Robots-Tag:noindex
X-PUBLISHED-TTL:PT1H
BEGIN:VTIMEZONE
TZID:America/Vancouver
BEGIN:DAYLIGHT
TZOFFSETFROM:-0800
TZOFFSETTO:-0700
TZNAME:PDT
DTSTART:20230312T100000
END:DAYLIGHT
BEGIN:STANDARD
TZOFFSETFROM:-0700
TZOFFSETTO:-0800
TZNAME:PST
DTSTART:20231105T090000
END:STANDARD
END:VTIMEZONE
BEGIN:VEVENT
DTSTART;TZID=America/Vancouver:20230319T093000
DTEND;TZID=America/Vancouver:20230319T123000
DTSTAMP:20260422T061358
CREATED:20230201T195721Z
LAST-MODIFIED:20230201T195721Z
UID:10003110-1679218200-1679229000@www.suo.ca
SUMMARY:Saudi Arabian Grand Prix
DESCRIPTION:We will be streaming the Saudi GP at the admin theatre at 100hrs\, we expect to have around 30 student attend it. \n  \nLocated: ADM 026 theatre
URL:https://www.suo.ca/event/saudi-arabian-grand-prix-2/
LOCATION:ADM 026 Theatre\, 1138 Alumni Avenue\, Kelowna\, British Columbia\, V1V 1V7\, Canada
CATEGORIES:All Ages,Student Associations
ATTACH;FMTTYPE=image/png:https://www.suo.ca/wp-content/uploads/2021/10/suo-logo-for-posters_light_background.png
ORGANIZER;CN="Formula 1 Club SUO":MAILTO:ubcoformula1@gmail.com
END:VEVENT
BEGIN:VEVENT
DTSTART;TZID=America/Vancouver:20230319T163000
DTEND;TZID=America/Vancouver:20230319T200000
DTSTAMP:20260422T061358
CREATED:20221205T193200Z
LAST-MODIFIED:20221205T193200Z
UID:10002874-1679243400-1679256000@www.suo.ca
SUMMARY:Ballroom Dance Classes
DESCRIPTION:Come and learn all kinds of ballroom dance such as waltz\, foxtrot\, rumba\, and more! See below for our normal class times!\nLevel 1: 4:30pm-5:30pm\nLevel 2: 5:30-6:30pm\nPractice Dance Party: 6:30-8:00pm \n  \nLocated: UNC 200 Ballroom.
URL:https://www.suo.ca/event/ballroom-dance-classes-2/2023-03-19/
LOCATION:UNC 200 Ballroom\, 3272 University Way\, UNC200\, Kelowna\, British Columbia\, V1V 1V7\, Canada
CATEGORIES:All Ages,Student Associations
ORGANIZER;CN="Ballroom Dance Club":MAILTO:ballroomdancesuo@gmail.com
END:VEVENT
BEGIN:VEVENT
DTSTART;TZID=America/Vancouver:20230319T170000
DTEND;TZID=America/Vancouver:20230319T220000
DTSTAMP:20260422T061358
CREATED:20230206T182412Z
LAST-MODIFIED:20230206T182412Z
UID:10003136-1679245200-1679263200@www.suo.ca
SUMMARY:Persian New Year
DESCRIPTION:Its the night before Persian New Year (Eid). We will provide further details later when all the planning is done. \n  \nLocated: EME 0050
URL:https://www.suo.ca/event/persian-new-year/
LOCATION:EME Building\, UBCO Campus\, 1137 Alumni Avenue\, Kelowna\, British Columbia\, V1V 1V7\, Canada
CATEGORIES:All Ages,Student Associations
ATTACH;FMTTYPE=image/png:https://www.suo.ca/wp-content/uploads/2021/10/suo-logo-for-posters_light_background.png
ORGANIZER;CN="Persian Club":MAILTO:persianclub.ubco@gmail.com
END:VEVENT
BEGIN:VEVENT
DTSTART;TZID=America/Vancouver:20230319T190000
DTEND;TZID=America/Vancouver:20230319T200000
DTSTAMP:20260422T061358
CREATED:20230227T201854Z
LAST-MODIFIED:20230227T201854Z
UID:10003273-1679252400-1679256000@www.suo.ca
SUMMARY:Exotic Husbandry and Nutrition with Dr.Serena Caunce
DESCRIPTION:Join us for an Exotic Husbandry and Nutrition q&a with Dr.Serena Caunce on Skype! Serena has recorded a lecture for us to watch before hand to get the most out of this experience – please find the video on our website and instagram page\, or your email if you are a member!
URL:https://www.suo.ca/event/exotic-husbandry-and-nutrition-with-dr-serena-caunce/
LOCATION:UBCO\, 3333 University Way\, Kelowna\, British Columbia\, Canada
CATEGORIES:All Ages,Student Associations
ATTACH;FMTTYPE=image/jpeg:https://www.suo.ca/wp-content/uploads/2022/07/SUO-Student-Associations.jpg
ORGANIZER;CN="Pre-Vet Club":MAILTO:prevetclub.okanagan@outlook.com
END:VEVENT
END:VCALENDAR