BEGIN:VCALENDAR
VERSION:2.0
PRODID:-//Students’ Union Okanagan of UBC - ECPv6.5.0//NONSGML v1.0//EN
CALSCALE:GREGORIAN
METHOD:PUBLISH
X-WR-CALNAME:Students’ Union Okanagan of UBC
X-ORIGINAL-URL:https://www.suo.ca
X-WR-CALDESC:Events for Students’ Union Okanagan of UBC
REFRESH-INTERVAL;VALUE=DURATION:PT1H
X-Robots-Tag:noindex
X-PUBLISHED-TTL:PT1H
BEGIN:VTIMEZONE
TZID:America/Vancouver
BEGIN:DAYLIGHT
TZOFFSETFROM:-0800
TZOFFSETTO:-0700
TZNAME:PDT
DTSTART:20230312T100000
END:DAYLIGHT
BEGIN:STANDARD
TZOFFSETFROM:-0700
TZOFFSETTO:-0800
TZNAME:PST
DTSTART:20231105T090000
END:STANDARD
END:VTIMEZONE
BEGIN:VEVENT
DTSTART;TZID=America/Vancouver:20230320T123000
DTEND;TZID=America/Vancouver:20230320T153000
DTSTAMP:20260422T061239
CREATED:20230313T172356Z
LAST-MODIFIED:20230313T172356Z
UID:10003349-1679315400-1679326200@www.suo.ca
SUMMARY:Secrets of Finance
DESCRIPTION:An overview of the Investing/Real Estate/ Insurance world from industry professionals. with networking components. \n  \nLocated: EME 1101
URL:https://www.suo.ca/event/secrets-of-finance/
LOCATION:EME Building\, UBCO Campus\, 1137 Alumni Avenue\, Kelowna\, British Columbia\, V1V 1V7\, Canada
CATEGORIES:All Ages,Student Associations
ATTACH;FMTTYPE=image/jpeg:https://www.suo.ca/wp-content/uploads/2021/08/MSA-logo.jpg
ORGANIZER;CN="Management Students Association":MAILTO:academics@msasuo.ca
END:VEVENT
BEGIN:VEVENT
DTSTART;TZID=America/Vancouver:20230320T150000
DTEND;TZID=America/Vancouver:20230320T163000
DTSTAMP:20260422T061239
CREATED:20230201T182006Z
LAST-MODIFIED:20230201T182006Z
UID:10003160-1679324400-1679329800@www.suo.ca
SUMMARY:COSC 121 review session
DESCRIPTION:Prepare for the COSC 121 midterms with your QSCU rep. Haniya! \n  \nLocated: EME 1153
URL:https://www.suo.ca/event/cosc-121-review-session/2023-03-20/
LOCATION:EME Building\, UBCO Campus\, 1137 Alumni Avenue\, Kelowna\, British Columbia\, V1V 1V7\, Canada
CATEGORIES:All Ages,Student Associations
ATTACH;FMTTYPE=image/jpeg:https://www.suo.ca/wp-content/uploads/2022/07/SUO-Student-Associations.jpg
ORGANIZER;CN="Quantitative Sciences Course Union":MAILTO:qscu.main@gmail.com
END:VEVENT
BEGIN:VEVENT
DTSTART;TZID=America/Vancouver:20230320T180000
DTEND;TZID=America/Vancouver:20230320T190000
DTSTAMP:20260422T061239
CREATED:20230125T172918Z
LAST-MODIFIED:20230125T172918Z
UID:10003067-1679335200-1679338800@www.suo.ca
SUMMARY:Cultural Studies Course Union AGM
DESCRIPTION:This event will the Cultural Studies Course Union’s Annual General Meeting where we will be making any necessary amendments to our Constitution\, updating our Members on the inner works of the CSCU\, giving our Members an opportunity to ask questions\, and host our election. \n  \nLocated: ART 102
URL:https://www.suo.ca/event/cultural-studies-course-union-agm/
LOCATION:Arts Building\, UBCO Campus\, 1147 Research Road\, Kelowna\, British Columbia\, V1V 1V7\, Canada
CATEGORIES:All Ages,Student Associations
ATTACH;FMTTYPE=image/png:https://www.suo.ca/wp-content/uploads/2021/08/cscuDark.png
ORGANIZER;CN="Cultural Studies Course Union":MAILTO:culturalstudiescu@gmail.com
END:VEVENT
BEGIN:VEVENT
DTSTART;TZID=America/Vancouver:20230320T180000
DTEND;TZID=America/Vancouver:20230320T190000
DTSTAMP:20260422T061239
CREATED:20230306T170253Z
LAST-MODIFIED:20230306T170253Z
UID:10003312-1679335200-1679338800@www.suo.ca
SUMMARY:MCU Annual General Meeting
DESCRIPTION:The Microbiology Course Union is having our Annual General Meeting (AGM) for all students and members to attend. Come find out more about the MCU and how to join our 2023/24 executive team. Pizza will be provided 🙂 \n  \nLocated: ART 214
URL:https://www.suo.ca/event/mcu-annual-general-meeting/
LOCATION:Arts Building\, UBCO Campus\, 1147 Research Road\, Kelowna\, British Columbia\, V1V 1V7\, Canada
CATEGORIES:All Ages,Student Associations
ORGANIZER;CN="Microbiology Course Union":MAILTO:mcu.suo@gmail.com
END:VEVENT
BEGIN:VEVENT
DTSTART;TZID=America/Vancouver:20230320T183000
DTEND;TZID=America/Vancouver:20230320T213000
DTSTAMP:20260422T061239
CREATED:20230111T185349Z
LAST-MODIFIED:20230111T185349Z
UID:10002929-1679337000-1679347800@www.suo.ca
SUMMARY:CCU CHEM 1X3 Midterm Study Session #2
DESCRIPTION:The CCU is hosting a review session for CHEM 1X3! There will be a problem set\, tutors to answer your questions\, and\, of course\, pizza! \n  \nLocated: COM 201
URL:https://www.suo.ca/event/ccu-chem-1x3-midterm-study-session-2/
LOCATION:Commons 201 (COM201)\, 3297 University Way\,\, Kelowna\, British Columbia\, V1V 1V7\, Canada
CATEGORIES:All Ages,Student Associations
ORGANIZER;CN="Chemistry Course Union":MAILTO:chemcourseunion@gmail.com
END:VEVENT
BEGIN:VEVENT
DTSTART;TZID=America/Vancouver:20230320T190000
DTEND;TZID=America/Vancouver:20230320T203000
DTSTAMP:20260422T061239
CREATED:20230316T213519Z
LAST-MODIFIED:20230316T213519Z
UID:10003377-1679338800-1679344200@www.suo.ca
SUMMARY:UBCO Taekwondo Welcome Tea
DESCRIPTION:Interested to learn martial arts and pick up some self-defence skills? Join us to find out more about taekwondo – a Korean martial arts! See you there! \n  \nLocated: ART 374
URL:https://www.suo.ca/event/ubco-taekwondo-welcome-tea/
LOCATION:Arts Building\, UBCO Campus\, 1147 Research Road\, Kelowna\, British Columbia\, V1V 1V7\, Canada
CATEGORIES:All Ages,Student Associations
ATTACH;FMTTYPE=image/svg+xml:https://www.suo.ca/wp-content/uploads/2021/12/SUO-Logo.svg
ORGANIZER;CN="Taekwondo Association":MAILTO:ubco.taekwondo@gmail.com
END:VEVENT
END:VCALENDAR