BEGIN:VCALENDAR
VERSION:2.0
PRODID:-//Students’ Union Okanagan of UBC - ECPv6.5.0//NONSGML v1.0//EN
CALSCALE:GREGORIAN
METHOD:PUBLISH
X-ORIGINAL-URL:https://www.suo.ca
X-WR-CALDESC:Events for Students’ Union Okanagan of UBC
REFRESH-INTERVAL;VALUE=DURATION:PT1H
X-Robots-Tag:noindex
X-PUBLISHED-TTL:PT1H
BEGIN:VTIMEZONE
TZID:America/Vancouver
BEGIN:DAYLIGHT
TZOFFSETFROM:-0800
TZOFFSETTO:-0700
TZNAME:PDT
DTSTART:20230312T100000
END:DAYLIGHT
BEGIN:STANDARD
TZOFFSETFROM:-0700
TZOFFSETTO:-0800
TZNAME:PST
DTSTART:20231105T090000
END:STANDARD
END:VTIMEZONE
BEGIN:VEVENT
DTSTART;TZID=America/Vancouver:20230323T050000
DTEND;TZID=America/Vancouver:20231123T090000
DTSTAMP:20260422T061359
CREATED:20240314T225127Z
LAST-MODIFIED:20240314T225554Z
UID:10006242-1679547600-1700730000@www.suo.ca
SUMMARY:Art on the Line (AOTL)
DESCRIPTION:This event is an auction of work by faculty student\, or friend to fund the end of the year graduation show for the 4th year show. \nInterested\, get your event tickets here. \nLocation: EME 0050
URL:https://www.suo.ca/event/art-on-the-line-aotl/
LOCATION:EME Building\, UBCO Campus\, 1137 Alumni Avenue\, Kelowna\, British Columbia\, V1V 1V7\, Canada
CATEGORIES:All Ages,Student Associations
ATTACH;FMTTYPE=image/png:https://www.suo.ca/wp-content/uploads/2021/09/SA_logo_2024_VACU.png
ORGANIZER;CN="Visual Arts Course Union":MAILTO:support@ubcovacu.org
END:VEVENT
BEGIN:VEVENT
DTSTART;TZID=America/Vancouver:20230323T160000
DTEND;TZID=America/Vancouver:20230323T170000
DTSTAMP:20260422T061359
CREATED:20230228T190618Z
LAST-MODIFIED:20230228T191420Z
UID:10003281-1679587200-1679590800@www.suo.ca
SUMMARY:Breathwork and Meditation Workshop
DESCRIPTION:Learn how to cultivate a mindful breathing practice that can help relieve stress and ground you in the current moment! Taught by certified yoga teacher Ryder McCool\, this workshop will be a great introduction to breathing techniques that you can use in your everyday life. Whether you have never meditated before or you have a daily practice yourself\, this class is sure to be a relaxing and fun event. \n  \nLocated: ART 208
URL:https://www.suo.ca/event/breathwork-and-meditation-workshop/
LOCATION:Arts Building\, UBCO Campus\, 1147 Research Road\, Kelowna\, British Columbia\, V1V 1V7\, Canada
CATEGORIES:All Ages,Resource Centre
ORGANIZER;CN="Yoga Club UBCO":MAILTO:ubcyoga@gmail.com
END:VEVENT
BEGIN:VEVENT
DTSTART;TZID=America/Vancouver:20230323T170000
DTEND;TZID=America/Vancouver:20230323T190000
DTSTAMP:20260422T061359
CREATED:20230213T194815Z
LAST-MODIFIED:20230213T194815Z
UID:10003236-1679590800-1679598000@www.suo.ca
SUMMARY:Chess Club
DESCRIPTION:Join us every Thursday at 5-7pm for our weekly chess club meetup! Whether you’re a seasoned player or just starting out\, you’re welcome to come and play some games\, sharpen your skills\, and socialize with other chess fans. Our friendly club members will be on hand to offer tips\, answer questions\, and facilitate games. So come on down to play some chess. We can’t wait to see you there! \n  \nLocated: ART 219
URL:https://www.suo.ca/event/chess-club/2023-03-23/
LOCATION:Arts Building\, UBCO Campus\, 1147 Research Road\, Kelowna\, British Columbia\, V1V 1V7\, Canada
CATEGORIES:All Ages,Student Associations
ATTACH;FMTTYPE=image/png:https://www.suo.ca/wp-content/uploads/2022/03/chess-club-logo-2.png
ORGANIZER;CN="Chess Club":MAILTO:ubcochesscl@gmail.com
END:VEVENT
BEGIN:VEVENT
DTSTART;TZID=America/Vancouver:20230323T170000
DTEND;TZID=America/Vancouver:20230323T200000
DTSTAMP:20260422T061359
CREATED:20230306T170855Z
LAST-MODIFIED:20230306T193009Z
UID:10003310-1679590800-1679601600@www.suo.ca
SUMMARY:Life of an EIT
DESCRIPTION:It is an event to be hosted by EngSoc where we’ll be having Engineers in Trainees from FortisBC\, Stantec\, and primary engineering. This event is exclusive to engineering students where they get to interact with EIT and get to know more about their post-graduate career pathway. \n  \nLocated: EME 1121
URL:https://www.suo.ca/event/life-of-an-eit/2023-03-23/
LOCATION:EME Building\, UBCO Campus\, 1137 Alumni Avenue\, Kelowna\, British Columbia\, V1V 1V7\, Canada
CATEGORIES:All Ages,Student Associations
ATTACH;FMTTYPE=image/png:https://www.suo.ca/wp-content/uploads/2021/08/EngSoc-logo.png
ORGANIZER;CN="Engineering Society":MAILTO:president@okanaganengineers.com
END:VEVENT
BEGIN:VEVENT
DTSTART;TZID=America/Vancouver:20230323T180000
DTEND;TZID=America/Vancouver:20230323T203000
DTSTAMP:20260422T061359
CREATED:20230216T224650Z
LAST-MODIFIED:20230216T224650Z
UID:10003248-1679594400-1679603400@www.suo.ca
SUMMARY:Life Science Career Panel
DESCRIPTION:Career panel featuring professionals with life science backgrounds working in a variety of industries\, where they will elaborate on their career journeys and answer any questions that students have on prospective career choices. Come join us if you are in a life science degree and would like to explore your career options from industry professionals! \n  \nLocated: SCI 333
URL:https://www.suo.ca/event/life-science-career-panel/
LOCATION:Science Building\, UBCO Campus\, 1177 Research Road\, Kelowna\, British Columbia\, V1V 1V7\, Canada
CATEGORIES:All Ages,Student Associations
ORGANIZER;CN="Microbiology Course Union":MAILTO:mcu.suo@gmail.com
END:VEVENT
BEGIN:VEVENT
DTSTART;TZID=America/Vancouver:20230323T180000
DTEND;TZID=America/Vancouver:20230323T210000
DTSTAMP:20260422T061359
CREATED:20230307T191251Z
LAST-MODIFIED:20230307T191251Z
UID:10003334-1679594400-1679605200@www.suo.ca
SUMMARY:CSCU Game Jam Exhibition
DESCRIPTION:After submission closes\, the CSCU’s Game Jam competitors will be showing off their projects at our closing exhibition. Come by to see what incredible games your classmates have created! \n  \nLocated: EME Foyer
URL:https://www.suo.ca/event/cscu-game-jam-exhibition/
LOCATION:EME Building\, UBCO Campus\, 1137 Alumni Avenue\, Kelowna\, British Columbia\, V1V 1V7\, Canada
CATEGORIES:All Ages,Student Associations
ATTACH;FMTTYPE=image/png:https://www.suo.ca/wp-content/uploads/2021/08/cscuDark.png
ORGANIZER;CN="Computer Science Course Union":MAILTO:contact@cscu.io
END:VEVENT
BEGIN:VEVENT
DTSTART;TZID=America/Vancouver:20230323T183000
DTEND;TZID=America/Vancouver:20230323T203000
DTSTAMP:20260422T061359
CREATED:20230111T210610Z
LAST-MODIFIED:20230111T210610Z
UID:10002933-1679596200-1679603400@www.suo.ca
SUMMARY:CCU CHEM 214 Midterm Study Session 2
DESCRIPTION:Come get help from our tutors for your upcoming midterm and get some pizza too! \nLocated: ASC 140
URL:https://www.suo.ca/event/ccu-chem-214-midterm-study-session-2/
LOCATION:UBCO Campus\, 3333 University Way\, Kelowna\, British Columbia\, V1V 1V7\, Canada
CATEGORIES:All Ages,Student Associations
ORGANIZER;CN="Chemistry Course Union":MAILTO:chemcourseunion@gmail.com
END:VEVENT
BEGIN:VEVENT
DTSTART;TZID=America/Vancouver:20230323T183000
DTEND;TZID=America/Vancouver:20230323T203000
DTSTAMP:20260422T061359
CREATED:20230315T194434Z
LAST-MODIFIED:20230315T194434Z
UID:10003357-1679596200-1679603400@www.suo.ca
SUMMARY:BCCU Annual General Meeting
DESCRIPTION:We will be hosting elections for our executive positions and AGM this spring. In this AGM\, the members will get a chance to voice their opinions and suggestion on the running of the course union. And this is a chance to meet with the candidates who are running for elections. We will be selling our Biochem merch as well in our AGM. \n  \nLocated: ART 376
URL:https://www.suo.ca/event/bccu-annual-general-meeting-2/
LOCATION:Arts Building\, UBCO Campus\, 1147 Research Road\, Kelowna\, British Columbia\, V1V 1V7\, Canada
CATEGORIES:All Ages,Student Associations
ATTACH;FMTTYPE=image/png:https://www.suo.ca/wp-content/uploads/2021/08/BCCU-Logo-Black.png
ORGANIZER;CN="Biochemistry Course Union":MAILTO:bccu.suo@gmail.com
END:VEVENT
BEGIN:VEVENT
DTSTART;TZID=America/Vancouver:20230323T183000
DTEND;TZID=America/Vancouver:20230323T203000
DTSTAMP:20260422T061359
CREATED:20230403T171630Z
LAST-MODIFIED:20230417T230538Z
UID:10003461-1679596200-1679603400@www.suo.ca
SUMMARY:Weekly Rehearsal
DESCRIPTION:This is a weekly rehearsal hosting classical\, jazz\, and open jam sessions. Please bring your music stand if you have one and also your instrument and RSVP using the link found on our discord server. \n  \nLocated: ART 103
URL:https://www.suo.ca/event/weekly-rehearsal/2023-03-23/
LOCATION:Arts Building\, UBCO Campus\, 1147 Research Road\, Kelowna\, British Columbia\, V1V 1V7\, Canada
CATEGORIES:All Ages,Student Associations
ORGANIZER;CN="Music Club":MAILTO:music.ubco@gmail.com
END:VEVENT
BEGIN:VEVENT
DTSTART;TZID=America/Vancouver:20230323T190000
DTEND;TZID=America/Vancouver:20230323T203000
DTSTAMP:20260422T061359
CREATED:20230321T172919Z
LAST-MODIFIED:20230321T172919Z
UID:10003390-1679598000-1679603400@www.suo.ca
SUMMARY:UBCO Taekwondo Class
DESCRIPTION:Come join us to learn more about the Korean martial arts known as Taekwondo. Beginners are welcomed! \n  \nLocated: 374
URL:https://www.suo.ca/event/ubco-taekwondo-class/
LOCATION:Arts Building\, UBCO Campus\, 1147 Research Road\, Kelowna\, British Columbia\, V1V 1V7\, Canada
CATEGORIES:All Ages,Student Associations
ATTACH;FMTTYPE=image/svg+xml:https://www.suo.ca/wp-content/uploads/2021/12/SUO-Logo.svg
ORGANIZER;CN="Taekwondo Association":MAILTO:ubco.taekwondo@gmail.com
END:VEVENT
END:VCALENDAR