BEGIN:VCALENDAR
VERSION:2.0
PRODID:-//Students’ Union Okanagan of UBC - ECPv6.5.0//NONSGML v1.0//EN
CALSCALE:GREGORIAN
METHOD:PUBLISH
X-WR-CALNAME:Students’ Union Okanagan of UBC
X-ORIGINAL-URL:https://www.suo.ca
X-WR-CALDESC:Events for Students’ Union Okanagan of UBC
REFRESH-INTERVAL;VALUE=DURATION:PT1H
X-Robots-Tag:noindex
X-PUBLISHED-TTL:PT1H
BEGIN:VTIMEZONE
TZID:America/Vancouver
BEGIN:DAYLIGHT
TZOFFSETFROM:-0800
TZOFFSETTO:-0700
TZNAME:PDT
DTSTART:20260308T100000
END:DAYLIGHT
BEGIN:STANDARD
TZOFFSETFROM:-0700
TZOFFSETTO:-0800
TZNAME:PST
DTSTART:20261101T090000
END:STANDARD
END:VTIMEZONE
BEGIN:VEVENT
DTSTART;TZID=America/Vancouver:20260313T103000
DTEND;TZID=America/Vancouver:20260313T153000
DTSTAMP:20260422T154021
CREATED:20251031T181220Z
LAST-MODIFIED:20251031T181220Z
UID:10011195-1773397800-1773415800@www.suo.ca
SUMMARY:Gingerbread ticket sales
DESCRIPTION:In person ticket sale for our annual gingerbread competition November 29th\, 2025.
URL:https://www.suo.ca/event/gingerbread-ticket-sales/2026-03-13/
LOCATION:British Columbia
CATEGORIES:Student Associations
ATTACH;FMTTYPE=image/jpeg:https://www.suo.ca/wp-content/uploads/2025/10/SAlogo_FilipinoSA.jpg
ORGANIZER;CN="Filipino Student Association":MAILTO:fsasuo@gmail.com
END:VEVENT
BEGIN:VEVENT
DTSTART;TZID=America/Vancouver:20260312T103000
DTEND;TZID=America/Vancouver:20260312T153000
DTSTAMP:20260422T154021
CREATED:20251031T181220Z
LAST-MODIFIED:20251031T181220Z
UID:10011194-1773311400-1773329400@www.suo.ca
SUMMARY:Gingerbread ticket sales
DESCRIPTION:In person ticket sale for our annual gingerbread competition November 29th\, 2025.
URL:https://www.suo.ca/event/gingerbread-ticket-sales/2026-03-12/
LOCATION:British Columbia
CATEGORIES:Student Associations
ATTACH;FMTTYPE=image/jpeg:https://www.suo.ca/wp-content/uploads/2025/10/SAlogo_FilipinoSA.jpg
ORGANIZER;CN="Filipino Student Association":MAILTO:fsasuo@gmail.com
END:VEVENT
BEGIN:VEVENT
DTSTART;TZID=America/Vancouver:20260311T103000
DTEND;TZID=America/Vancouver:20260311T153000
DTSTAMP:20260422T154021
CREATED:20251031T181220Z
LAST-MODIFIED:20251031T181220Z
UID:10011193-1773225000-1773243000@www.suo.ca
SUMMARY:Gingerbread ticket sales
DESCRIPTION:In person ticket sale for our annual gingerbread competition November 29th\, 2025.
URL:https://www.suo.ca/event/gingerbread-ticket-sales/2026-03-11/
LOCATION:British Columbia
CATEGORIES:Student Associations
ATTACH;FMTTYPE=image/jpeg:https://www.suo.ca/wp-content/uploads/2025/10/SAlogo_FilipinoSA.jpg
ORGANIZER;CN="Filipino Student Association":MAILTO:fsasuo@gmail.com
END:VEVENT
BEGIN:VEVENT
DTSTART;TZID=America/Vancouver:20260310T103000
DTEND;TZID=America/Vancouver:20260310T153000
DTSTAMP:20260422T154021
CREATED:20251031T181220Z
LAST-MODIFIED:20251031T181220Z
UID:10011192-1773138600-1773156600@www.suo.ca
SUMMARY:Gingerbread ticket sales
DESCRIPTION:In person ticket sale for our annual gingerbread competition November 29th\, 2025.
URL:https://www.suo.ca/event/gingerbread-ticket-sales/2026-03-10/
LOCATION:British Columbia
CATEGORIES:Student Associations
ATTACH;FMTTYPE=image/jpeg:https://www.suo.ca/wp-content/uploads/2025/10/SAlogo_FilipinoSA.jpg
ORGANIZER;CN="Filipino Student Association":MAILTO:fsasuo@gmail.com
END:VEVENT
BEGIN:VEVENT
DTSTART;TZID=America/Vancouver:20260309T183000
DTEND;TZID=America/Vancouver:20260309T200000
DTSTAMP:20260422T154021
CREATED:20251020T202403Z
LAST-MODIFIED:20251020T202403Z
UID:10010963-1773081000-1773086400@www.suo.ca
SUMMARY:General meeting
DESCRIPTION:General weekly meeting \nART 281
URL:https://www.suo.ca/event/general-meeting-2/2026-03-09/
LOCATION:Arts Building\, UBCO Campus\, 1147 Research Road\, Kelowna\, British Columbia\, V1V 1V7\, Canada
CATEGORIES:Student Associations
END:VEVENT
BEGIN:VEVENT
DTSTART;TZID=America/Vancouver:20260309T180000
DTEND;TZID=America/Vancouver:20260309T190000
DTSTAMP:20260422T154021
CREATED:20251117T204516Z
LAST-MODIFIED:20251117T204516Z
UID:10012358-1773079200-1773082800@www.suo.ca
SUMMARY:ASL Club General Meeting
DESCRIPTION:During this meeting we will be covering the ASL alphabet\, fingerspelling and how to introduce yourself in sign language! We will also briefly be discussing topics such as name signs\, the differences between deaf and Deaf\, as well as some “homework” \nART 114
URL:https://www.suo.ca/event/asl-club-general-meeting/2026-03-09/
LOCATION:Arts Building\, UBCO Campus\, 1147 Research Road\, Kelowna\, British Columbia\, V1V 1V7\, Canada
CATEGORIES:Student Associations
END:VEVENT
BEGIN:VEVENT
DTSTART;TZID=America/Vancouver:20260309T103000
DTEND;TZID=America/Vancouver:20260309T153000
DTSTAMP:20260422T154021
CREATED:20251031T181220Z
LAST-MODIFIED:20251031T181220Z
UID:10011191-1773052200-1773070200@www.suo.ca
SUMMARY:Gingerbread ticket sales
DESCRIPTION:In person ticket sale for our annual gingerbread competition November 29th\, 2025.
URL:https://www.suo.ca/event/gingerbread-ticket-sales/2026-03-09/
LOCATION:British Columbia
CATEGORIES:Student Associations
ATTACH;FMTTYPE=image/jpeg:https://www.suo.ca/wp-content/uploads/2025/10/SAlogo_FilipinoSA.jpg
ORGANIZER;CN="Filipino Student Association":MAILTO:fsasuo@gmail.com
END:VEVENT
BEGIN:VEVENT
DTSTART;TZID=America/Vancouver:20260308T103000
DTEND;TZID=America/Vancouver:20260308T153000
DTSTAMP:20260422T154021
CREATED:20251031T181220Z
LAST-MODIFIED:20251031T181220Z
UID:10011190-1772965800-1772983800@www.suo.ca
SUMMARY:Gingerbread ticket sales
DESCRIPTION:In person ticket sale for our annual gingerbread competition November 29th\, 2025.
URL:https://www.suo.ca/event/gingerbread-ticket-sales/2026-03-08/
LOCATION:British Columbia
CATEGORIES:Student Associations
ATTACH;FMTTYPE=image/jpeg:https://www.suo.ca/wp-content/uploads/2025/10/SAlogo_FilipinoSA.jpg
ORGANIZER;CN="Filipino Student Association":MAILTO:fsasuo@gmail.com
END:VEVENT
BEGIN:VEVENT
DTSTART;TZID=America/Vancouver:20260307T120000
DTEND;TZID=America/Vancouver:20260307T190000
DTSTAMP:20260422T154021
CREATED:20250416T190155Z
LAST-MODIFIED:20250416T190426Z
UID:10010114-1772884800-1772910000@www.suo.ca
SUMMARY:UBCO x OKSL Super Smash Bros. Ultimate Tournament
DESCRIPTION:Weekly Super Smash Bros. Ultimate Tournaments held every Saturday at UBCO. \nLocation: LIB 312
URL:https://www.suo.ca/event/ubco-x-oksl-super-smash-bros-ultimate-tournament-2/2026-03-07/
LOCATION:Library\, UBCO Campus\, 3287 University Way\, Kelowna\, British Columbia\, V1V 1V7\, Canada
CATEGORIES:All Ages,Student Associations
ATTACH;FMTTYPE=image/png:https://www.suo.ca/wp-content/uploads/2021/08/OKEA_Esports_Logo.png
ORGANIZER;CN="Okanagan Esports Association":MAILTO:OkanaganEsportsAssociation@outlook.com
END:VEVENT
BEGIN:VEVENT
DTSTART;TZID=America/Vancouver:20260307T103000
DTEND;TZID=America/Vancouver:20260307T153000
DTSTAMP:20260422T154021
CREATED:20251031T181220Z
LAST-MODIFIED:20251031T181220Z
UID:10011189-1772879400-1772897400@www.suo.ca
SUMMARY:Gingerbread ticket sales
DESCRIPTION:In person ticket sale for our annual gingerbread competition November 29th\, 2025.
URL:https://www.suo.ca/event/gingerbread-ticket-sales/2026-03-07/
LOCATION:British Columbia
CATEGORIES:Student Associations
ATTACH;FMTTYPE=image/jpeg:https://www.suo.ca/wp-content/uploads/2025/10/SAlogo_FilipinoSA.jpg
ORGANIZER;CN="Filipino Student Association":MAILTO:fsasuo@gmail.com
END:VEVENT
BEGIN:VEVENT
DTSTART;TZID=America/Vancouver:20260307T100000
DTEND;TZID=America/Vancouver:20260328T220000
DTSTAMP:20260422T154021
CREATED:20251031T201831Z
LAST-MODIFIED:20251031T201831Z
UID:10011459-1772877600-1774735200@www.suo.ca
SUMMARY:Afrochella
DESCRIPTION:Dance performances and lessons on dance history. The events will be celebrating Black History Month
URL:https://www.suo.ca/event/afrochella/2026-03-07/
LOCATION:UNC 200 Ballroom\, 3272 University Way\, UNC200\, Kelowna\, British Columbia\, V1V 1V7\, Canada
CATEGORIES:Student Associations
ATTACH;FMTTYPE=image/jpeg:https://www.suo.ca/wp-content/uploads/2025/10/SAlogo_FusionDance.jpg
END:VEVENT
BEGIN:VEVENT
DTSTART;TZID=America/Vancouver:20260306T170000
DTEND;TZID=America/Vancouver:20260306T220000
DTSTAMP:20260422T154021
CREATED:20250214T212548Z
LAST-MODIFIED:20250214T213208Z
UID:10009769-1772816400-1772834400@www.suo.ca
SUMMARY:Weekly TTRPG night
DESCRIPTION:Weekly RPG night in ART112. \nLocation: Art 112\, 203\, 103\, 206\, 208
URL:https://www.suo.ca/event/weekly-ttrpg-night/2026-03-06/
LOCATION:Arts Building\, UBCO Campus\, 1147 Research Road\, Kelowna\, British Columbia\, V1V 1V7\, Canada
CATEGORIES:All Ages,Student Associations
ATTACH;FMTTYPE=image/svg+xml:https://www.suo.ca/wp-content/uploads/2021/12/SUO-Logo.svg
ORGANIZER;CN="Games Club":MAILTO:gamesclubokanagan@gmail.com
END:VEVENT
BEGIN:VEVENT
DTSTART;TZID=America/Vancouver:20260306T103000
DTEND;TZID=America/Vancouver:20260306T153000
DTSTAMP:20260422T154021
CREATED:20251031T181220Z
LAST-MODIFIED:20251031T181220Z
UID:10011188-1772793000-1772811000@www.suo.ca
SUMMARY:Gingerbread ticket sales
DESCRIPTION:In person ticket sale for our annual gingerbread competition November 29th\, 2025.
URL:https://www.suo.ca/event/gingerbread-ticket-sales/2026-03-06/
LOCATION:British Columbia
CATEGORIES:Student Associations
ATTACH;FMTTYPE=image/jpeg:https://www.suo.ca/wp-content/uploads/2025/10/SAlogo_FilipinoSA.jpg
ORGANIZER;CN="Filipino Student Association":MAILTO:fsasuo@gmail.com
END:VEVENT
BEGIN:VEVENT
DTSTART;TZID=America/Vancouver:20260305T103000
DTEND;TZID=America/Vancouver:20260305T153000
DTSTAMP:20260422T154021
CREATED:20251031T181220Z
LAST-MODIFIED:20251031T181220Z
UID:10011187-1772706600-1772724600@www.suo.ca
SUMMARY:Gingerbread ticket sales
DESCRIPTION:In person ticket sale for our annual gingerbread competition November 29th\, 2025.
URL:https://www.suo.ca/event/gingerbread-ticket-sales/2026-03-05/
LOCATION:British Columbia
CATEGORIES:Student Associations
ATTACH;FMTTYPE=image/jpeg:https://www.suo.ca/wp-content/uploads/2025/10/SAlogo_FilipinoSA.jpg
ORGANIZER;CN="Filipino Student Association":MAILTO:fsasuo@gmail.com
END:VEVENT
BEGIN:VEVENT
DTSTART;TZID=America/Vancouver:20260304T103000
DTEND;TZID=America/Vancouver:20260304T153000
DTSTAMP:20260422T154021
CREATED:20251031T181220Z
LAST-MODIFIED:20251031T181220Z
UID:10011186-1772620200-1772638200@www.suo.ca
SUMMARY:Gingerbread ticket sales
DESCRIPTION:In person ticket sale for our annual gingerbread competition November 29th\, 2025.
URL:https://www.suo.ca/event/gingerbread-ticket-sales/2026-03-04/
LOCATION:British Columbia
CATEGORIES:Student Associations
ATTACH;FMTTYPE=image/jpeg:https://www.suo.ca/wp-content/uploads/2025/10/SAlogo_FilipinoSA.jpg
ORGANIZER;CN="Filipino Student Association":MAILTO:fsasuo@gmail.com
END:VEVENT
BEGIN:VEVENT
DTSTART;TZID=America/Vancouver:20260303T103000
DTEND;TZID=America/Vancouver:20260303T153000
DTSTAMP:20260422T154021
CREATED:20251031T181220Z
LAST-MODIFIED:20251031T181220Z
UID:10011185-1772533800-1772551800@www.suo.ca
SUMMARY:Gingerbread ticket sales
DESCRIPTION:In person ticket sale for our annual gingerbread competition November 29th\, 2025.
URL:https://www.suo.ca/event/gingerbread-ticket-sales/2026-03-03/
LOCATION:British Columbia
CATEGORIES:Student Associations
ATTACH;FMTTYPE=image/jpeg:https://www.suo.ca/wp-content/uploads/2025/10/SAlogo_FilipinoSA.jpg
ORGANIZER;CN="Filipino Student Association":MAILTO:fsasuo@gmail.com
END:VEVENT
BEGIN:VEVENT
DTSTART;TZID=America/Vancouver:20260302T183000
DTEND;TZID=America/Vancouver:20260302T200000
DTSTAMP:20260422T154021
CREATED:20251020T202403Z
LAST-MODIFIED:20251020T202403Z
UID:10010962-1772476200-1772481600@www.suo.ca
SUMMARY:General meeting
DESCRIPTION:General weekly meeting \nART 281
URL:https://www.suo.ca/event/general-meeting-2/2026-03-02/
LOCATION:Arts Building\, UBCO Campus\, 1147 Research Road\, Kelowna\, British Columbia\, V1V 1V7\, Canada
CATEGORIES:Student Associations
END:VEVENT
BEGIN:VEVENT
DTSTART;TZID=America/Vancouver:20260302T180000
DTEND;TZID=America/Vancouver:20260302T190000
DTSTAMP:20260422T154021
CREATED:20251117T204516Z
LAST-MODIFIED:20251117T204516Z
UID:10012357-1772474400-1772478000@www.suo.ca
SUMMARY:ASL Club General Meeting
DESCRIPTION:During this meeting we will be covering the ASL alphabet\, fingerspelling and how to introduce yourself in sign language! We will also briefly be discussing topics such as name signs\, the differences between deaf and Deaf\, as well as some “homework” \nART 114
URL:https://www.suo.ca/event/asl-club-general-meeting/2026-03-02/
LOCATION:Arts Building\, UBCO Campus\, 1147 Research Road\, Kelowna\, British Columbia\, V1V 1V7\, Canada
CATEGORIES:Student Associations
END:VEVENT
BEGIN:VEVENT
DTSTART;TZID=America/Vancouver:20260302T103000
DTEND;TZID=America/Vancouver:20260302T153000
DTSTAMP:20260422T154021
CREATED:20251031T181220Z
LAST-MODIFIED:20251031T181220Z
UID:10011184-1772447400-1772465400@www.suo.ca
SUMMARY:Gingerbread ticket sales
DESCRIPTION:In person ticket sale for our annual gingerbread competition November 29th\, 2025.
URL:https://www.suo.ca/event/gingerbread-ticket-sales/2026-03-02/
LOCATION:British Columbia
CATEGORIES:Student Associations
ATTACH;FMTTYPE=image/jpeg:https://www.suo.ca/wp-content/uploads/2025/10/SAlogo_FilipinoSA.jpg
ORGANIZER;CN="Filipino Student Association":MAILTO:fsasuo@gmail.com
END:VEVENT
BEGIN:VEVENT
DTSTART;TZID=America/Vancouver:20260301T103000
DTEND;TZID=America/Vancouver:20260301T153000
DTSTAMP:20260422T154021
CREATED:20251031T181220Z
LAST-MODIFIED:20251031T181220Z
UID:10011183-1772361000-1772379000@www.suo.ca
SUMMARY:Gingerbread ticket sales
DESCRIPTION:In person ticket sale for our annual gingerbread competition November 29th\, 2025.
URL:https://www.suo.ca/event/gingerbread-ticket-sales/2026-03-01/
LOCATION:British Columbia
CATEGORIES:Student Associations
ATTACH;FMTTYPE=image/jpeg:https://www.suo.ca/wp-content/uploads/2025/10/SAlogo_FilipinoSA.jpg
ORGANIZER;CN="Filipino Student Association":MAILTO:fsasuo@gmail.com
END:VEVENT
BEGIN:VEVENT
DTSTART;TZID=America/Vancouver:20260228T120000
DTEND;TZID=America/Vancouver:20260228T190000
DTSTAMP:20260422T154021
CREATED:20250416T190155Z
LAST-MODIFIED:20250416T190426Z
UID:10010113-1772280000-1772305200@www.suo.ca
SUMMARY:UBCO x OKSL Super Smash Bros. Ultimate Tournament
DESCRIPTION:Weekly Super Smash Bros. Ultimate Tournaments held every Saturday at UBCO. \nLocation: LIB 312
URL:https://www.suo.ca/event/ubco-x-oksl-super-smash-bros-ultimate-tournament-2/2026-02-28/
LOCATION:Library\, UBCO Campus\, 3287 University Way\, Kelowna\, British Columbia\, V1V 1V7\, Canada
CATEGORIES:All Ages,Student Associations
ATTACH;FMTTYPE=image/png:https://www.suo.ca/wp-content/uploads/2021/08/OKEA_Esports_Logo.png
ORGANIZER;CN="Okanagan Esports Association":MAILTO:OkanaganEsportsAssociation@outlook.com
END:VEVENT
BEGIN:VEVENT
DTSTART;TZID=America/Vancouver:20260228T103000
DTEND;TZID=America/Vancouver:20260228T153000
DTSTAMP:20260422T154021
CREATED:20251031T181220Z
LAST-MODIFIED:20251031T181220Z
UID:10011182-1772274600-1772292600@www.suo.ca
SUMMARY:Gingerbread ticket sales
DESCRIPTION:In person ticket sale for our annual gingerbread competition November 29th\, 2025.
URL:https://www.suo.ca/event/gingerbread-ticket-sales/2026-02-28/
LOCATION:British Columbia
CATEGORIES:Student Associations
ATTACH;FMTTYPE=image/jpeg:https://www.suo.ca/wp-content/uploads/2025/10/SAlogo_FilipinoSA.jpg
ORGANIZER;CN="Filipino Student Association":MAILTO:fsasuo@gmail.com
END:VEVENT
BEGIN:VEVENT
DTSTART;TZID=America/Vancouver:20260228T100000
DTEND;TZID=America/Vancouver:20260321T220000
DTSTAMP:20260422T154021
CREATED:20251031T201831Z
LAST-MODIFIED:20251031T201831Z
UID:10011458-1772272800-1774130400@www.suo.ca
SUMMARY:Afrochella
DESCRIPTION:Dance performances and lessons on dance history. The events will be celebrating Black History Month
URL:https://www.suo.ca/event/afrochella/2026-02-28/
LOCATION:UNC 200 Ballroom\, 3272 University Way\, UNC200\, Kelowna\, British Columbia\, V1V 1V7\, Canada
CATEGORIES:Student Associations
ATTACH;FMTTYPE=image/jpeg:https://www.suo.ca/wp-content/uploads/2025/10/SAlogo_FusionDance.jpg
END:VEVENT
BEGIN:VEVENT
DTSTART;TZID=America/Vancouver:20260227T170000
DTEND;TZID=America/Vancouver:20260227T220000
DTSTAMP:20260422T154021
CREATED:20250214T212548Z
LAST-MODIFIED:20250214T213208Z
UID:10009768-1772211600-1772229600@www.suo.ca
SUMMARY:Weekly TTRPG night
DESCRIPTION:Weekly RPG night in ART112. \nLocation: Art 112\, 203\, 103\, 206\, 208
URL:https://www.suo.ca/event/weekly-ttrpg-night/2026-02-27/
LOCATION:Arts Building\, UBCO Campus\, 1147 Research Road\, Kelowna\, British Columbia\, V1V 1V7\, Canada
CATEGORIES:All Ages,Student Associations
ATTACH;FMTTYPE=image/svg+xml:https://www.suo.ca/wp-content/uploads/2021/12/SUO-Logo.svg
ORGANIZER;CN="Games Club":MAILTO:gamesclubokanagan@gmail.com
END:VEVENT
BEGIN:VEVENT
DTSTART;TZID=America/Vancouver:20260227T103000
DTEND;TZID=America/Vancouver:20260227T153000
DTSTAMP:20260422T154021
CREATED:20251031T181220Z
LAST-MODIFIED:20251031T181220Z
UID:10011181-1772188200-1772206200@www.suo.ca
SUMMARY:Gingerbread ticket sales
DESCRIPTION:In person ticket sale for our annual gingerbread competition November 29th\, 2025.
URL:https://www.suo.ca/event/gingerbread-ticket-sales/2026-02-27/
LOCATION:British Columbia
CATEGORIES:Student Associations
ATTACH;FMTTYPE=image/jpeg:https://www.suo.ca/wp-content/uploads/2025/10/SAlogo_FilipinoSA.jpg
ORGANIZER;CN="Filipino Student Association":MAILTO:fsasuo@gmail.com
END:VEVENT
BEGIN:VEVENT
DTSTART;TZID=America/Vancouver:20260226T163000
DTEND;TZID=America/Vancouver:20260416T220000
DTSTAMP:20260422T154021
CREATED:20251008T175754Z
LAST-MODIFIED:20251008T175754Z
UID:10010624-1772123400-1776376800@www.suo.ca
SUMMARY:Midterm Melodies
DESCRIPTION:Just a study session with some chill music so people can focus near the end of the week. Might use Pomodoro as part of it\, and if people are interested\, (and willing to help pay) some food. \nEME 1153
URL:https://www.suo.ca/event/midterm-melodies/2026-02-26/
LOCATION:EME Building\, UBCO Campus\, 1137 Alumni Avenue\, Kelowna\, British Columbia\, V1V 1V7\, Canada
CATEGORIES:Student Associations
ATTACH;FMTTYPE=image/png:https://www.suo.ca/wp-content/uploads/2025/09/Screenshot-2025-10-08-105711.png
ORGANIZER;CN="Piano Club":MAILTO:pianoclub.kelowna@gmail.com
END:VEVENT
BEGIN:VEVENT
DTSTART;TZID=America/Vancouver:20260226T103000
DTEND;TZID=America/Vancouver:20260226T153000
DTSTAMP:20260422T154021
CREATED:20251031T181220Z
LAST-MODIFIED:20251031T181220Z
UID:10011180-1772101800-1772119800@www.suo.ca
SUMMARY:Gingerbread ticket sales
DESCRIPTION:In person ticket sale for our annual gingerbread competition November 29th\, 2025.
URL:https://www.suo.ca/event/gingerbread-ticket-sales/2026-02-26/
LOCATION:British Columbia
CATEGORIES:Student Associations
ATTACH;FMTTYPE=image/jpeg:https://www.suo.ca/wp-content/uploads/2025/10/SAlogo_FilipinoSA.jpg
ORGANIZER;CN="Filipino Student Association":MAILTO:fsasuo@gmail.com
END:VEVENT
BEGIN:VEVENT
DTSTART;TZID=America/Vancouver:20260225T103000
DTEND;TZID=America/Vancouver:20260225T153000
DTSTAMP:20260422T154021
CREATED:20251031T181220Z
LAST-MODIFIED:20251031T181220Z
UID:10011179-1772015400-1772033400@www.suo.ca
SUMMARY:Gingerbread ticket sales
DESCRIPTION:In person ticket sale for our annual gingerbread competition November 29th\, 2025.
URL:https://www.suo.ca/event/gingerbread-ticket-sales/2026-02-25/
LOCATION:British Columbia
CATEGORIES:Student Associations
ATTACH;FMTTYPE=image/jpeg:https://www.suo.ca/wp-content/uploads/2025/10/SAlogo_FilipinoSA.jpg
ORGANIZER;CN="Filipino Student Association":MAILTO:fsasuo@gmail.com
END:VEVENT
BEGIN:VEVENT
DTSTART;TZID=America/Vancouver:20260224T103000
DTEND;TZID=America/Vancouver:20260224T153000
DTSTAMP:20260422T154021
CREATED:20251031T181220Z
LAST-MODIFIED:20251031T181220Z
UID:10011178-1771929000-1771947000@www.suo.ca
SUMMARY:Gingerbread ticket sales
DESCRIPTION:In person ticket sale for our annual gingerbread competition November 29th\, 2025.
URL:https://www.suo.ca/event/gingerbread-ticket-sales/2026-02-24/
LOCATION:British Columbia
CATEGORIES:Student Associations
ATTACH;FMTTYPE=image/jpeg:https://www.suo.ca/wp-content/uploads/2025/10/SAlogo_FilipinoSA.jpg
ORGANIZER;CN="Filipino Student Association":MAILTO:fsasuo@gmail.com
END:VEVENT
BEGIN:VEVENT
DTSTART;TZID=America/Vancouver:20260223T183000
DTEND;TZID=America/Vancouver:20260223T200000
DTSTAMP:20260422T154021
CREATED:20251020T202403Z
LAST-MODIFIED:20251020T202403Z
UID:10010961-1771871400-1771876800@www.suo.ca
SUMMARY:General meeting
DESCRIPTION:General weekly meeting \nART 281
URL:https://www.suo.ca/event/general-meeting-2/2026-02-23/
LOCATION:Arts Building\, UBCO Campus\, 1147 Research Road\, Kelowna\, British Columbia\, V1V 1V7\, Canada
CATEGORIES:Student Associations
END:VEVENT
END:VCALENDAR