BEGIN:VCALENDAR
VERSION:2.0
PRODID:-//Students’ Union Okanagan of UBC - ECPv6.5.0//NONSGML v1.0//EN
CALSCALE:GREGORIAN
METHOD:PUBLISH
X-WR-CALNAME:Students’ Union Okanagan of UBC
X-ORIGINAL-URL:https://www.suo.ca
X-WR-CALDESC:Events for Students’ Union Okanagan of UBC
REFRESH-INTERVAL;VALUE=DURATION:PT1H
X-Robots-Tag:noindex
X-PUBLISHED-TTL:PT1H
BEGIN:VTIMEZONE
TZID:America/Vancouver
BEGIN:DAYLIGHT
TZOFFSETFROM:-0800
TZOFFSETTO:-0700
TZNAME:PDT
DTSTART:20250309T100000
END:DAYLIGHT
BEGIN:STANDARD
TZOFFSETFROM:-0700
TZOFFSETTO:-0800
TZNAME:PST
DTSTART:20251102T090000
END:STANDARD
END:VTIMEZONE
BEGIN:VEVENT
DTSTART;TZID=America/Vancouver:20250502T170000
DTEND;TZID=America/Vancouver:20250502T220000
DTSTAMP:20260419T154151
CREATED:20250214T212548Z
LAST-MODIFIED:20250214T213208Z
UID:10009725-1746205200-1746223200@www.suo.ca
SUMMARY:Weekly TTRPG night
DESCRIPTION:Weekly RPG night in ART112. \nLocation: Art 112\, 203\, 103\, 206\, 208
URL:https://www.suo.ca/event/weekly-ttrpg-night/2025-05-02/
LOCATION:Arts Building\, UBCO Campus\, 1147 Research Road\, Kelowna\, British Columbia\, V1V 1V7\, Canada
CATEGORIES:All Ages,Student Associations
ATTACH;FMTTYPE=image/svg+xml:https://www.suo.ca/wp-content/uploads/2021/12/SUO-Logo.svg
ORGANIZER;CN="Games Club":MAILTO:gamesclubokanagan@gmail.com
END:VEVENT
BEGIN:VEVENT
DTSTART;TZID=America/Vancouver:20250503T120000
DTEND;TZID=America/Vancouver:20250503T190000
DTSTAMP:20260419T154151
CREATED:20250416T190155Z
LAST-MODIFIED:20250416T190426Z
UID:10010070-1746273600-1746298800@www.suo.ca
SUMMARY:UBCO x OKSL Super Smash Bros. Ultimate Tournament
DESCRIPTION:Weekly Super Smash Bros. Ultimate Tournaments held every Saturday at UBCO. \nLocation: LIB 312
URL:https://www.suo.ca/event/ubco-x-oksl-super-smash-bros-ultimate-tournament-2/2025-05-03/
LOCATION:Library\, UBCO Campus\, 3287 University Way\, Kelowna\, British Columbia\, V1V 1V7\, Canada
CATEGORIES:All Ages,Student Associations
ATTACH;FMTTYPE=image/png:https://www.suo.ca/wp-content/uploads/2021/08/OKEA_Esports_Logo.png
ORGANIZER;CN="Okanagan Esports Association":MAILTO:OkanaganEsportsAssociation@outlook.com
END:VEVENT
BEGIN:VEVENT
DTSTART;TZID=America/Vancouver:20250507T200000
DTEND;TZID=America/Vancouver:20250507T210000
DTSTAMP:20260419T154151
CREATED:20241017T181411Z
LAST-MODIFIED:20241017T181434Z
UID:10008920-1746648000-1746651600@www.suo.ca
SUMMARY:UDC dance class
DESCRIPTION:Unite Dance Club will be having weekly dance classes every Wednesday from 8-9. Register on Rubric! \nLocation: On Pointe Studio
URL:https://www.suo.ca/event/udc-dance-class/2025-05-07/
LOCATION:On Pointe Studio\, 6 3185 VIA CENTRALE\, Kelowna\, B.C\, V1V 2A7\, Canada
CATEGORIES:All Ages,Student Associations
ATTACH;FMTTYPE=image/png:https://www.suo.ca/wp-content/uploads/2021/08/Unite-Dance-club.png
ORGANIZER;CN="Unite Dance Club":MAILTO:unitedanceclub1@gmail.com
END:VEVENT
BEGIN:VEVENT
DTSTART;TZID=America/Vancouver:20250509T170000
DTEND;TZID=America/Vancouver:20250509T220000
DTSTAMP:20260419T154151
CREATED:20250214T212548Z
LAST-MODIFIED:20250214T213208Z
UID:10009726-1746810000-1746828000@www.suo.ca
SUMMARY:Weekly TTRPG night
DESCRIPTION:Weekly RPG night in ART112. \nLocation: Art 112\, 203\, 103\, 206\, 208
URL:https://www.suo.ca/event/weekly-ttrpg-night/2025-05-09/
LOCATION:Arts Building\, UBCO Campus\, 1147 Research Road\, Kelowna\, British Columbia\, V1V 1V7\, Canada
CATEGORIES:All Ages,Student Associations
ATTACH;FMTTYPE=image/svg+xml:https://www.suo.ca/wp-content/uploads/2021/12/SUO-Logo.svg
ORGANIZER;CN="Games Club":MAILTO:gamesclubokanagan@gmail.com
END:VEVENT
BEGIN:VEVENT
DTSTART;TZID=America/Vancouver:20250510T120000
DTEND;TZID=America/Vancouver:20250510T190000
DTSTAMP:20260419T154151
CREATED:20250416T190155Z
LAST-MODIFIED:20250416T190426Z
UID:10010071-1746878400-1746903600@www.suo.ca
SUMMARY:UBCO x OKSL Super Smash Bros. Ultimate Tournament
DESCRIPTION:Weekly Super Smash Bros. Ultimate Tournaments held every Saturday at UBCO. \nLocation: LIB 312
URL:https://www.suo.ca/event/ubco-x-oksl-super-smash-bros-ultimate-tournament-2/2025-05-10/
LOCATION:Library\, UBCO Campus\, 3287 University Way\, Kelowna\, British Columbia\, V1V 1V7\, Canada
CATEGORIES:All Ages,Student Associations
ATTACH;FMTTYPE=image/png:https://www.suo.ca/wp-content/uploads/2021/08/OKEA_Esports_Logo.png
ORGANIZER;CN="Okanagan Esports Association":MAILTO:OkanaganEsportsAssociation@outlook.com
END:VEVENT
BEGIN:VEVENT
DTSTART;TZID=America/Vancouver:20250514T200000
DTEND;TZID=America/Vancouver:20250514T210000
DTSTAMP:20260419T154151
CREATED:20241017T181411Z
LAST-MODIFIED:20241017T181434Z
UID:10008921-1747252800-1747256400@www.suo.ca
SUMMARY:UDC dance class
DESCRIPTION:Unite Dance Club will be having weekly dance classes every Wednesday from 8-9. Register on Rubric! \nLocation: On Pointe Studio
URL:https://www.suo.ca/event/udc-dance-class/2025-05-14/
LOCATION:On Pointe Studio\, 6 3185 VIA CENTRALE\, Kelowna\, B.C\, V1V 2A7\, Canada
CATEGORIES:All Ages,Student Associations
ATTACH;FMTTYPE=image/png:https://www.suo.ca/wp-content/uploads/2021/08/Unite-Dance-club.png
ORGANIZER;CN="Unite Dance Club":MAILTO:unitedanceclub1@gmail.com
END:VEVENT
BEGIN:VEVENT
DTSTART;TZID=America/Vancouver:20250516T170000
DTEND;TZID=America/Vancouver:20250516T220000
DTSTAMP:20260419T154151
CREATED:20250214T212548Z
LAST-MODIFIED:20250214T213208Z
UID:10009727-1747414800-1747432800@www.suo.ca
SUMMARY:Weekly TTRPG night
DESCRIPTION:Weekly RPG night in ART112. \nLocation: Art 112\, 203\, 103\, 206\, 208
URL:https://www.suo.ca/event/weekly-ttrpg-night/2025-05-16/
LOCATION:Arts Building\, UBCO Campus\, 1147 Research Road\, Kelowna\, British Columbia\, V1V 1V7\, Canada
CATEGORIES:All Ages,Student Associations
ATTACH;FMTTYPE=image/svg+xml:https://www.suo.ca/wp-content/uploads/2021/12/SUO-Logo.svg
ORGANIZER;CN="Games Club":MAILTO:gamesclubokanagan@gmail.com
END:VEVENT
BEGIN:VEVENT
DTSTART;TZID=America/Vancouver:20250517T120000
DTEND;TZID=America/Vancouver:20250517T190000
DTSTAMP:20260419T154151
CREATED:20250416T190155Z
LAST-MODIFIED:20250416T190426Z
UID:10010072-1747483200-1747508400@www.suo.ca
SUMMARY:UBCO x OKSL Super Smash Bros. Ultimate Tournament
DESCRIPTION:Weekly Super Smash Bros. Ultimate Tournaments held every Saturday at UBCO. \nLocation: LIB 312
URL:https://www.suo.ca/event/ubco-x-oksl-super-smash-bros-ultimate-tournament-2/2025-05-17/
LOCATION:Library\, UBCO Campus\, 3287 University Way\, Kelowna\, British Columbia\, V1V 1V7\, Canada
CATEGORIES:All Ages,Student Associations
ATTACH;FMTTYPE=image/png:https://www.suo.ca/wp-content/uploads/2021/08/OKEA_Esports_Logo.png
ORGANIZER;CN="Okanagan Esports Association":MAILTO:OkanaganEsportsAssociation@outlook.com
END:VEVENT
BEGIN:VEVENT
DTSTART;TZID=America/Vancouver:20250521T200000
DTEND;TZID=America/Vancouver:20250521T210000
DTSTAMP:20260419T154151
CREATED:20241017T181411Z
LAST-MODIFIED:20241017T181434Z
UID:10008922-1747857600-1747861200@www.suo.ca
SUMMARY:UDC dance class
DESCRIPTION:Unite Dance Club will be having weekly dance classes every Wednesday from 8-9. Register on Rubric! \nLocation: On Pointe Studio
URL:https://www.suo.ca/event/udc-dance-class/2025-05-21/
LOCATION:On Pointe Studio\, 6 3185 VIA CENTRALE\, Kelowna\, B.C\, V1V 2A7\, Canada
CATEGORIES:All Ages,Student Associations
ATTACH;FMTTYPE=image/png:https://www.suo.ca/wp-content/uploads/2021/08/Unite-Dance-club.png
ORGANIZER;CN="Unite Dance Club":MAILTO:unitedanceclub1@gmail.com
END:VEVENT
BEGIN:VEVENT
DTSTART;TZID=America/Vancouver:20250523T170000
DTEND;TZID=America/Vancouver:20250523T220000
DTSTAMP:20260419T154151
CREATED:20250214T212548Z
LAST-MODIFIED:20250214T213208Z
UID:10009728-1748019600-1748037600@www.suo.ca
SUMMARY:Weekly TTRPG night
DESCRIPTION:Weekly RPG night in ART112. \nLocation: Art 112\, 203\, 103\, 206\, 208
URL:https://www.suo.ca/event/weekly-ttrpg-night/2025-05-23/
LOCATION:Arts Building\, UBCO Campus\, 1147 Research Road\, Kelowna\, British Columbia\, V1V 1V7\, Canada
CATEGORIES:All Ages,Student Associations
ATTACH;FMTTYPE=image/svg+xml:https://www.suo.ca/wp-content/uploads/2021/12/SUO-Logo.svg
ORGANIZER;CN="Games Club":MAILTO:gamesclubokanagan@gmail.com
END:VEVENT
BEGIN:VEVENT
DTSTART;TZID=America/Vancouver:20250524T120000
DTEND;TZID=America/Vancouver:20250524T190000
DTSTAMP:20260419T154151
CREATED:20250416T190155Z
LAST-MODIFIED:20250416T190426Z
UID:10010073-1748088000-1748113200@www.suo.ca
SUMMARY:UBCO x OKSL Super Smash Bros. Ultimate Tournament
DESCRIPTION:Weekly Super Smash Bros. Ultimate Tournaments held every Saturday at UBCO. \nLocation: LIB 312
URL:https://www.suo.ca/event/ubco-x-oksl-super-smash-bros-ultimate-tournament-2/2025-05-24/
LOCATION:Library\, UBCO Campus\, 3287 University Way\, Kelowna\, British Columbia\, V1V 1V7\, Canada
CATEGORIES:All Ages,Student Associations
ATTACH;FMTTYPE=image/png:https://www.suo.ca/wp-content/uploads/2021/08/OKEA_Esports_Logo.png
ORGANIZER;CN="Okanagan Esports Association":MAILTO:OkanaganEsportsAssociation@outlook.com
END:VEVENT
BEGIN:VEVENT
DTSTART;TZID=America/Vancouver:20250528T200000
DTEND;TZID=America/Vancouver:20250528T210000
DTSTAMP:20260419T154151
CREATED:20241017T181411Z
LAST-MODIFIED:20241017T181434Z
UID:10008923-1748462400-1748466000@www.suo.ca
SUMMARY:UDC dance class
DESCRIPTION:Unite Dance Club will be having weekly dance classes every Wednesday from 8-9. Register on Rubric! \nLocation: On Pointe Studio
URL:https://www.suo.ca/event/udc-dance-class/2025-05-28/
LOCATION:On Pointe Studio\, 6 3185 VIA CENTRALE\, Kelowna\, B.C\, V1V 2A7\, Canada
CATEGORIES:All Ages,Student Associations
ATTACH;FMTTYPE=image/png:https://www.suo.ca/wp-content/uploads/2021/08/Unite-Dance-club.png
ORGANIZER;CN="Unite Dance Club":MAILTO:unitedanceclub1@gmail.com
END:VEVENT
BEGIN:VEVENT
DTSTART;TZID=America/Vancouver:20250530T170000
DTEND;TZID=America/Vancouver:20250530T220000
DTSTAMP:20260419T154151
CREATED:20250214T212548Z
LAST-MODIFIED:20250214T213208Z
UID:10009729-1748624400-1748642400@www.suo.ca
SUMMARY:Weekly TTRPG night
DESCRIPTION:Weekly RPG night in ART112. \nLocation: Art 112\, 203\, 103\, 206\, 208
URL:https://www.suo.ca/event/weekly-ttrpg-night/2025-05-30/
LOCATION:Arts Building\, UBCO Campus\, 1147 Research Road\, Kelowna\, British Columbia\, V1V 1V7\, Canada
CATEGORIES:All Ages,Student Associations
ATTACH;FMTTYPE=image/svg+xml:https://www.suo.ca/wp-content/uploads/2021/12/SUO-Logo.svg
ORGANIZER;CN="Games Club":MAILTO:gamesclubokanagan@gmail.com
END:VEVENT
BEGIN:VEVENT
DTSTART;TZID=America/Vancouver:20250531T120000
DTEND;TZID=America/Vancouver:20250531T190000
DTSTAMP:20260419T154151
CREATED:20250416T190155Z
LAST-MODIFIED:20250416T190426Z
UID:10010074-1748692800-1748718000@www.suo.ca
SUMMARY:UBCO x OKSL Super Smash Bros. Ultimate Tournament
DESCRIPTION:Weekly Super Smash Bros. Ultimate Tournaments held every Saturday at UBCO. \nLocation: LIB 312
URL:https://www.suo.ca/event/ubco-x-oksl-super-smash-bros-ultimate-tournament-2/2025-05-31/
LOCATION:Library\, UBCO Campus\, 3287 University Way\, Kelowna\, British Columbia\, V1V 1V7\, Canada
CATEGORIES:All Ages,Student Associations
ATTACH;FMTTYPE=image/png:https://www.suo.ca/wp-content/uploads/2021/08/OKEA_Esports_Logo.png
ORGANIZER;CN="Okanagan Esports Association":MAILTO:OkanaganEsportsAssociation@outlook.com
END:VEVENT
BEGIN:VEVENT
DTSTART;TZID=America/Vancouver:20250604T200000
DTEND;TZID=America/Vancouver:20250604T210000
DTSTAMP:20260419T154151
CREATED:20241017T181411Z
LAST-MODIFIED:20241017T181434Z
UID:10008924-1749067200-1749070800@www.suo.ca
SUMMARY:UDC dance class
DESCRIPTION:Unite Dance Club will be having weekly dance classes every Wednesday from 8-9. Register on Rubric! \nLocation: On Pointe Studio
URL:https://www.suo.ca/event/udc-dance-class/2025-06-04/
LOCATION:On Pointe Studio\, 6 3185 VIA CENTRALE\, Kelowna\, B.C\, V1V 2A7\, Canada
CATEGORIES:All Ages,Student Associations
ATTACH;FMTTYPE=image/png:https://www.suo.ca/wp-content/uploads/2021/08/Unite-Dance-club.png
ORGANIZER;CN="Unite Dance Club":MAILTO:unitedanceclub1@gmail.com
END:VEVENT
BEGIN:VEVENT
DTSTART;TZID=America/Vancouver:20250606T170000
DTEND;TZID=America/Vancouver:20250606T220000
DTSTAMP:20260419T154151
CREATED:20250214T212548Z
LAST-MODIFIED:20250214T213208Z
UID:10009730-1749229200-1749247200@www.suo.ca
SUMMARY:Weekly TTRPG night
DESCRIPTION:Weekly RPG night in ART112. \nLocation: Art 112\, 203\, 103\, 206\, 208
URL:https://www.suo.ca/event/weekly-ttrpg-night/2025-06-06/
LOCATION:Arts Building\, UBCO Campus\, 1147 Research Road\, Kelowna\, British Columbia\, V1V 1V7\, Canada
CATEGORIES:All Ages,Student Associations
ATTACH;FMTTYPE=image/svg+xml:https://www.suo.ca/wp-content/uploads/2021/12/SUO-Logo.svg
ORGANIZER;CN="Games Club":MAILTO:gamesclubokanagan@gmail.com
END:VEVENT
BEGIN:VEVENT
DTSTART;TZID=America/Vancouver:20250607T120000
DTEND;TZID=America/Vancouver:20250607T190000
DTSTAMP:20260419T154151
CREATED:20250416T190155Z
LAST-MODIFIED:20250416T190426Z
UID:10010075-1749297600-1749322800@www.suo.ca
SUMMARY:UBCO x OKSL Super Smash Bros. Ultimate Tournament
DESCRIPTION:Weekly Super Smash Bros. Ultimate Tournaments held every Saturday at UBCO. \nLocation: LIB 312
URL:https://www.suo.ca/event/ubco-x-oksl-super-smash-bros-ultimate-tournament-2/2025-06-07/
LOCATION:Library\, UBCO Campus\, 3287 University Way\, Kelowna\, British Columbia\, V1V 1V7\, Canada
CATEGORIES:All Ages,Student Associations
ATTACH;FMTTYPE=image/png:https://www.suo.ca/wp-content/uploads/2021/08/OKEA_Esports_Logo.png
ORGANIZER;CN="Okanagan Esports Association":MAILTO:OkanaganEsportsAssociation@outlook.com
END:VEVENT
BEGIN:VEVENT
DTSTART;TZID=America/Vancouver:20250607T130000
DTEND;TZID=America/Vancouver:20250607T153000
DTSTAMP:20260419T154151
CREATED:20250314T164348Z
LAST-MODIFIED:20250314T164348Z
UID:10009591-1749301200-1749310200@www.suo.ca
SUMMARY:2025 Rose Ceremony
DESCRIPTION:Join us for the 2025 Rose Ceremony to celebrate our nursing students’ dedication\, growth\, and achievements. This meaningful event honours the journey of future nurses as they transition into the next phase of their careers\, recognizing their compassion\, resilience\, and commitment to patient care. Family\, friends\, faculty\, and mentors are invited to attend as we commemorate this milestone with reflections\, acknowledgments\, and the symbolic presentation of roses. Let’s come together to support and celebrate our future nurses! \nLocation: Evangel Church
URL:https://www.suo.ca/event/2025-rose-ceremony/
LOCATION:Evangel Church\, 3261 Gordon Drive\, Kelowna\, B.C\, V1W3N4\, Canada
CATEGORIES:All Ages,Student Associations
ATTACH;FMTTYPE=image/png:https://www.suo.ca/wp-content/uploads/2021/09/SAlogo_2024_NursingCU.png
ORGANIZER;CN="Nursing Course Union":MAILTO:ncu.okanagan@gmail.com
END:VEVENT
BEGIN:VEVENT
DTSTART;TZID=America/Vancouver:20250611T200000
DTEND;TZID=America/Vancouver:20250611T210000
DTSTAMP:20260419T154151
CREATED:20241017T181411Z
LAST-MODIFIED:20241017T181434Z
UID:10008925-1749672000-1749675600@www.suo.ca
SUMMARY:UDC dance class
DESCRIPTION:Unite Dance Club will be having weekly dance classes every Wednesday from 8-9. Register on Rubric! \nLocation: On Pointe Studio
URL:https://www.suo.ca/event/udc-dance-class/2025-06-11/
LOCATION:On Pointe Studio\, 6 3185 VIA CENTRALE\, Kelowna\, B.C\, V1V 2A7\, Canada
CATEGORIES:All Ages,Student Associations
ATTACH;FMTTYPE=image/png:https://www.suo.ca/wp-content/uploads/2021/08/Unite-Dance-club.png
ORGANIZER;CN="Unite Dance Club":MAILTO:unitedanceclub1@gmail.com
END:VEVENT
BEGIN:VEVENT
DTSTART;TZID=America/Vancouver:20250613T170000
DTEND;TZID=America/Vancouver:20250613T220000
DTSTAMP:20260419T154151
CREATED:20250214T212548Z
LAST-MODIFIED:20250214T213208Z
UID:10009731-1749834000-1749852000@www.suo.ca
SUMMARY:Weekly TTRPG night
DESCRIPTION:Weekly RPG night in ART112. \nLocation: Art 112\, 203\, 103\, 206\, 208
URL:https://www.suo.ca/event/weekly-ttrpg-night/2025-06-13/
LOCATION:Arts Building\, UBCO Campus\, 1147 Research Road\, Kelowna\, British Columbia\, V1V 1V7\, Canada
CATEGORIES:All Ages,Student Associations
ATTACH;FMTTYPE=image/svg+xml:https://www.suo.ca/wp-content/uploads/2021/12/SUO-Logo.svg
ORGANIZER;CN="Games Club":MAILTO:gamesclubokanagan@gmail.com
END:VEVENT
BEGIN:VEVENT
DTSTART;TZID=America/Vancouver:20250614T120000
DTEND;TZID=America/Vancouver:20250614T190000
DTSTAMP:20260419T154151
CREATED:20250416T190155Z
LAST-MODIFIED:20250416T190426Z
UID:10010076-1749902400-1749927600@www.suo.ca
SUMMARY:UBCO x OKSL Super Smash Bros. Ultimate Tournament
DESCRIPTION:Weekly Super Smash Bros. Ultimate Tournaments held every Saturday at UBCO. \nLocation: LIB 312
URL:https://www.suo.ca/event/ubco-x-oksl-super-smash-bros-ultimate-tournament-2/2025-06-14/
LOCATION:Library\, UBCO Campus\, 3287 University Way\, Kelowna\, British Columbia\, V1V 1V7\, Canada
CATEGORIES:All Ages,Student Associations
ATTACH;FMTTYPE=image/png:https://www.suo.ca/wp-content/uploads/2021/08/OKEA_Esports_Logo.png
ORGANIZER;CN="Okanagan Esports Association":MAILTO:OkanaganEsportsAssociation@outlook.com
END:VEVENT
BEGIN:VEVENT
DTSTART;TZID=America/Vancouver:20250618T200000
DTEND;TZID=America/Vancouver:20250618T210000
DTSTAMP:20260419T154151
CREATED:20241017T181411Z
LAST-MODIFIED:20241017T181434Z
UID:10008926-1750276800-1750280400@www.suo.ca
SUMMARY:UDC dance class
DESCRIPTION:Unite Dance Club will be having weekly dance classes every Wednesday from 8-9. Register on Rubric! \nLocation: On Pointe Studio
URL:https://www.suo.ca/event/udc-dance-class/2025-06-18/
LOCATION:On Pointe Studio\, 6 3185 VIA CENTRALE\, Kelowna\, B.C\, V1V 2A7\, Canada
CATEGORIES:All Ages,Student Associations
ATTACH;FMTTYPE=image/png:https://www.suo.ca/wp-content/uploads/2021/08/Unite-Dance-club.png
ORGANIZER;CN="Unite Dance Club":MAILTO:unitedanceclub1@gmail.com
END:VEVENT
BEGIN:VEVENT
DTSTART;TZID=America/Vancouver:20250620T170000
DTEND;TZID=America/Vancouver:20250620T220000
DTSTAMP:20260419T154151
CREATED:20250214T212548Z
LAST-MODIFIED:20250214T213208Z
UID:10009732-1750438800-1750456800@www.suo.ca
SUMMARY:Weekly TTRPG night
DESCRIPTION:Weekly RPG night in ART112. \nLocation: Art 112\, 203\, 103\, 206\, 208
URL:https://www.suo.ca/event/weekly-ttrpg-night/2025-06-20/
LOCATION:Arts Building\, UBCO Campus\, 1147 Research Road\, Kelowna\, British Columbia\, V1V 1V7\, Canada
CATEGORIES:All Ages,Student Associations
ATTACH;FMTTYPE=image/svg+xml:https://www.suo.ca/wp-content/uploads/2021/12/SUO-Logo.svg
ORGANIZER;CN="Games Club":MAILTO:gamesclubokanagan@gmail.com
END:VEVENT
BEGIN:VEVENT
DTSTART;TZID=America/Vancouver:20250621T120000
DTEND;TZID=America/Vancouver:20250621T190000
DTSTAMP:20260419T154151
CREATED:20250416T190155Z
LAST-MODIFIED:20250416T190426Z
UID:10010077-1750507200-1750532400@www.suo.ca
SUMMARY:UBCO x OKSL Super Smash Bros. Ultimate Tournament
DESCRIPTION:Weekly Super Smash Bros. Ultimate Tournaments held every Saturday at UBCO. \nLocation: LIB 312
URL:https://www.suo.ca/event/ubco-x-oksl-super-smash-bros-ultimate-tournament-2/2025-06-21/
LOCATION:Library\, UBCO Campus\, 3287 University Way\, Kelowna\, British Columbia\, V1V 1V7\, Canada
CATEGORIES:All Ages,Student Associations
ATTACH;FMTTYPE=image/png:https://www.suo.ca/wp-content/uploads/2021/08/OKEA_Esports_Logo.png
ORGANIZER;CN="Okanagan Esports Association":MAILTO:OkanaganEsportsAssociation@outlook.com
END:VEVENT
BEGIN:VEVENT
DTSTART;TZID=America/Vancouver:20250625T200000
DTEND;TZID=America/Vancouver:20250625T210000
DTSTAMP:20260419T154151
CREATED:20241017T181411Z
LAST-MODIFIED:20241017T181434Z
UID:10008927-1750881600-1750885200@www.suo.ca
SUMMARY:UDC dance class
DESCRIPTION:Unite Dance Club will be having weekly dance classes every Wednesday from 8-9. Register on Rubric! \nLocation: On Pointe Studio
URL:https://www.suo.ca/event/udc-dance-class/2025-06-25/
LOCATION:On Pointe Studio\, 6 3185 VIA CENTRALE\, Kelowna\, B.C\, V1V 2A7\, Canada
CATEGORIES:All Ages,Student Associations
ATTACH;FMTTYPE=image/png:https://www.suo.ca/wp-content/uploads/2021/08/Unite-Dance-club.png
ORGANIZER;CN="Unite Dance Club":MAILTO:unitedanceclub1@gmail.com
END:VEVENT
BEGIN:VEVENT
DTSTART;TZID=America/Vancouver:20250627T170000
DTEND;TZID=America/Vancouver:20250627T220000
DTSTAMP:20260419T154151
CREATED:20250214T212548Z
LAST-MODIFIED:20250214T213208Z
UID:10009733-1751043600-1751061600@www.suo.ca
SUMMARY:Weekly TTRPG night
DESCRIPTION:Weekly RPG night in ART112. \nLocation: Art 112\, 203\, 103\, 206\, 208
URL:https://www.suo.ca/event/weekly-ttrpg-night/2025-06-27/
LOCATION:Arts Building\, UBCO Campus\, 1147 Research Road\, Kelowna\, British Columbia\, V1V 1V7\, Canada
CATEGORIES:All Ages,Student Associations
ATTACH;FMTTYPE=image/svg+xml:https://www.suo.ca/wp-content/uploads/2021/12/SUO-Logo.svg
ORGANIZER;CN="Games Club":MAILTO:gamesclubokanagan@gmail.com
END:VEVENT
BEGIN:VEVENT
DTSTART;TZID=America/Vancouver:20250628T120000
DTEND;TZID=America/Vancouver:20250628T190000
DTSTAMP:20260419T154151
CREATED:20250416T190155Z
LAST-MODIFIED:20250416T190426Z
UID:10010078-1751112000-1751137200@www.suo.ca
SUMMARY:UBCO x OKSL Super Smash Bros. Ultimate Tournament
DESCRIPTION:Weekly Super Smash Bros. Ultimate Tournaments held every Saturday at UBCO. \nLocation: LIB 312
URL:https://www.suo.ca/event/ubco-x-oksl-super-smash-bros-ultimate-tournament-2/2025-06-28/
LOCATION:Library\, UBCO Campus\, 3287 University Way\, Kelowna\, British Columbia\, V1V 1V7\, Canada
CATEGORIES:All Ages,Student Associations
ATTACH;FMTTYPE=image/png:https://www.suo.ca/wp-content/uploads/2021/08/OKEA_Esports_Logo.png
ORGANIZER;CN="Okanagan Esports Association":MAILTO:OkanaganEsportsAssociation@outlook.com
END:VEVENT
BEGIN:VEVENT
DTSTART;TZID=America/Vancouver:20250702T200000
DTEND;TZID=America/Vancouver:20250702T210000
DTSTAMP:20260419T154151
CREATED:20241017T181411Z
LAST-MODIFIED:20241017T181434Z
UID:10008928-1751486400-1751490000@www.suo.ca
SUMMARY:UDC dance class
DESCRIPTION:Unite Dance Club will be having weekly dance classes every Wednesday from 8-9. Register on Rubric! \nLocation: On Pointe Studio
URL:https://www.suo.ca/event/udc-dance-class/2025-07-02/
LOCATION:On Pointe Studio\, 6 3185 VIA CENTRALE\, Kelowna\, B.C\, V1V 2A7\, Canada
CATEGORIES:All Ages,Student Associations
ATTACH;FMTTYPE=image/png:https://www.suo.ca/wp-content/uploads/2021/08/Unite-Dance-club.png
ORGANIZER;CN="Unite Dance Club":MAILTO:unitedanceclub1@gmail.com
END:VEVENT
BEGIN:VEVENT
DTSTART;TZID=America/Vancouver:20250704T170000
DTEND;TZID=America/Vancouver:20250704T220000
DTSTAMP:20260419T154151
CREATED:20250214T212548Z
LAST-MODIFIED:20250214T213208Z
UID:10009734-1751648400-1751666400@www.suo.ca
SUMMARY:Weekly TTRPG night
DESCRIPTION:Weekly RPG night in ART112. \nLocation: Art 112\, 203\, 103\, 206\, 208
URL:https://www.suo.ca/event/weekly-ttrpg-night/2025-07-04/
LOCATION:Arts Building\, UBCO Campus\, 1147 Research Road\, Kelowna\, British Columbia\, V1V 1V7\, Canada
CATEGORIES:All Ages,Student Associations
ATTACH;FMTTYPE=image/svg+xml:https://www.suo.ca/wp-content/uploads/2021/12/SUO-Logo.svg
ORGANIZER;CN="Games Club":MAILTO:gamesclubokanagan@gmail.com
END:VEVENT
BEGIN:VEVENT
DTSTART;TZID=America/Vancouver:20250705T120000
DTEND;TZID=America/Vancouver:20250705T190000
DTSTAMP:20260419T154151
CREATED:20250416T190155Z
LAST-MODIFIED:20250416T190426Z
UID:10010079-1751716800-1751742000@www.suo.ca
SUMMARY:UBCO x OKSL Super Smash Bros. Ultimate Tournament
DESCRIPTION:Weekly Super Smash Bros. Ultimate Tournaments held every Saturday at UBCO. \nLocation: LIB 312
URL:https://www.suo.ca/event/ubco-x-oksl-super-smash-bros-ultimate-tournament-2/2025-07-05/
LOCATION:Library\, UBCO Campus\, 3287 University Way\, Kelowna\, British Columbia\, V1V 1V7\, Canada
CATEGORIES:All Ages,Student Associations
ATTACH;FMTTYPE=image/png:https://www.suo.ca/wp-content/uploads/2021/08/OKEA_Esports_Logo.png
ORGANIZER;CN="Okanagan Esports Association":MAILTO:OkanaganEsportsAssociation@outlook.com
END:VEVENT
END:VCALENDAR