BEGIN:VCALENDAR
VERSION:2.0
PRODID:-//Students’ Union Okanagan of UBC - ECPv6.5.0//NONSGML v1.0//EN
CALSCALE:GREGORIAN
METHOD:PUBLISH
X-WR-CALNAME:Students’ Union Okanagan of UBC
X-ORIGINAL-URL:https://www.suo.ca
X-WR-CALDESC:Events for Students’ Union Okanagan of UBC
REFRESH-INTERVAL;VALUE=DURATION:PT1H
X-Robots-Tag:noindex
X-PUBLISHED-TTL:PT1H
BEGIN:VTIMEZONE
TZID:America/Vancouver
BEGIN:DAYLIGHT
TZOFFSETFROM:-0800
TZOFFSETTO:-0700
TZNAME:PDT
DTSTART:20250309T100000
END:DAYLIGHT
BEGIN:STANDARD
TZOFFSETFROM:-0700
TZOFFSETTO:-0800
TZNAME:PST
DTSTART:20251102T090000
END:STANDARD
END:VTIMEZONE
BEGIN:VEVENT
DTSTART;TZID=America/Vancouver:20250611T200000
DTEND;TZID=America/Vancouver:20250611T210000
DTSTAMP:20260419T192322
CREATED:20241017T181411Z
LAST-MODIFIED:20241017T181434Z
UID:10008925-1749672000-1749675600@www.suo.ca
SUMMARY:UDC dance class
DESCRIPTION:Unite Dance Club will be having weekly dance classes every Wednesday from 8-9. Register on Rubric! \nLocation: On Pointe Studio
URL:https://www.suo.ca/event/udc-dance-class/2025-06-11/
LOCATION:On Pointe Studio\, 6 3185 VIA CENTRALE\, Kelowna\, B.C\, V1V 2A7\, Canada
CATEGORIES:All Ages,Student Associations
ATTACH;FMTTYPE=image/png:https://www.suo.ca/wp-content/uploads/2021/08/Unite-Dance-club.png
ORGANIZER;CN="Unite Dance Club":MAILTO:unitedanceclub1@gmail.com
END:VEVENT
BEGIN:VEVENT
DTSTART;TZID=America/Vancouver:20250613T170000
DTEND;TZID=America/Vancouver:20250613T220000
DTSTAMP:20260419T192322
CREATED:20250214T212548Z
LAST-MODIFIED:20250214T213208Z
UID:10009731-1749834000-1749852000@www.suo.ca
SUMMARY:Weekly TTRPG night
DESCRIPTION:Weekly RPG night in ART112. \nLocation: Art 112\, 203\, 103\, 206\, 208
URL:https://www.suo.ca/event/weekly-ttrpg-night/2025-06-13/
LOCATION:Arts Building\, UBCO Campus\, 1147 Research Road\, Kelowna\, British Columbia\, V1V 1V7\, Canada
CATEGORIES:All Ages,Student Associations
ATTACH;FMTTYPE=image/svg+xml:https://www.suo.ca/wp-content/uploads/2021/12/SUO-Logo.svg
ORGANIZER;CN="Games Club":MAILTO:gamesclubokanagan@gmail.com
END:VEVENT
BEGIN:VEVENT
DTSTART;TZID=America/Vancouver:20250614T120000
DTEND;TZID=America/Vancouver:20250614T190000
DTSTAMP:20260419T192322
CREATED:20250416T190155Z
LAST-MODIFIED:20250416T190426Z
UID:10010076-1749902400-1749927600@www.suo.ca
SUMMARY:UBCO x OKSL Super Smash Bros. Ultimate Tournament
DESCRIPTION:Weekly Super Smash Bros. Ultimate Tournaments held every Saturday at UBCO. \nLocation: LIB 312
URL:https://www.suo.ca/event/ubco-x-oksl-super-smash-bros-ultimate-tournament-2/2025-06-14/
LOCATION:Library\, UBCO Campus\, 3287 University Way\, Kelowna\, British Columbia\, V1V 1V7\, Canada
CATEGORIES:All Ages,Student Associations
ATTACH;FMTTYPE=image/png:https://www.suo.ca/wp-content/uploads/2021/08/OKEA_Esports_Logo.png
ORGANIZER;CN="Okanagan Esports Association":MAILTO:OkanaganEsportsAssociation@outlook.com
END:VEVENT
BEGIN:VEVENT
DTSTART;TZID=America/Vancouver:20250618T200000
DTEND;TZID=America/Vancouver:20250618T210000
DTSTAMP:20260419T192322
CREATED:20241017T181411Z
LAST-MODIFIED:20241017T181434Z
UID:10008926-1750276800-1750280400@www.suo.ca
SUMMARY:UDC dance class
DESCRIPTION:Unite Dance Club will be having weekly dance classes every Wednesday from 8-9. Register on Rubric! \nLocation: On Pointe Studio
URL:https://www.suo.ca/event/udc-dance-class/2025-06-18/
LOCATION:On Pointe Studio\, 6 3185 VIA CENTRALE\, Kelowna\, B.C\, V1V 2A7\, Canada
CATEGORIES:All Ages,Student Associations
ATTACH;FMTTYPE=image/png:https://www.suo.ca/wp-content/uploads/2021/08/Unite-Dance-club.png
ORGANIZER;CN="Unite Dance Club":MAILTO:unitedanceclub1@gmail.com
END:VEVENT
BEGIN:VEVENT
DTSTART;TZID=America/Vancouver:20250620T170000
DTEND;TZID=America/Vancouver:20250620T220000
DTSTAMP:20260419T192322
CREATED:20250214T212548Z
LAST-MODIFIED:20250214T213208Z
UID:10009732-1750438800-1750456800@www.suo.ca
SUMMARY:Weekly TTRPG night
DESCRIPTION:Weekly RPG night in ART112. \nLocation: Art 112\, 203\, 103\, 206\, 208
URL:https://www.suo.ca/event/weekly-ttrpg-night/2025-06-20/
LOCATION:Arts Building\, UBCO Campus\, 1147 Research Road\, Kelowna\, British Columbia\, V1V 1V7\, Canada
CATEGORIES:All Ages,Student Associations
ATTACH;FMTTYPE=image/svg+xml:https://www.suo.ca/wp-content/uploads/2021/12/SUO-Logo.svg
ORGANIZER;CN="Games Club":MAILTO:gamesclubokanagan@gmail.com
END:VEVENT
BEGIN:VEVENT
DTSTART;TZID=America/Vancouver:20250621T120000
DTEND;TZID=America/Vancouver:20250621T190000
DTSTAMP:20260419T192322
CREATED:20250416T190155Z
LAST-MODIFIED:20250416T190426Z
UID:10010077-1750507200-1750532400@www.suo.ca
SUMMARY:UBCO x OKSL Super Smash Bros. Ultimate Tournament
DESCRIPTION:Weekly Super Smash Bros. Ultimate Tournaments held every Saturday at UBCO. \nLocation: LIB 312
URL:https://www.suo.ca/event/ubco-x-oksl-super-smash-bros-ultimate-tournament-2/2025-06-21/
LOCATION:Library\, UBCO Campus\, 3287 University Way\, Kelowna\, British Columbia\, V1V 1V7\, Canada
CATEGORIES:All Ages,Student Associations
ATTACH;FMTTYPE=image/png:https://www.suo.ca/wp-content/uploads/2021/08/OKEA_Esports_Logo.png
ORGANIZER;CN="Okanagan Esports Association":MAILTO:OkanaganEsportsAssociation@outlook.com
END:VEVENT
BEGIN:VEVENT
DTSTART;TZID=America/Vancouver:20250625T200000
DTEND;TZID=America/Vancouver:20250625T210000
DTSTAMP:20260419T192322
CREATED:20241017T181411Z
LAST-MODIFIED:20241017T181434Z
UID:10008927-1750881600-1750885200@www.suo.ca
SUMMARY:UDC dance class
DESCRIPTION:Unite Dance Club will be having weekly dance classes every Wednesday from 8-9. Register on Rubric! \nLocation: On Pointe Studio
URL:https://www.suo.ca/event/udc-dance-class/2025-06-25/
LOCATION:On Pointe Studio\, 6 3185 VIA CENTRALE\, Kelowna\, B.C\, V1V 2A7\, Canada
CATEGORIES:All Ages,Student Associations
ATTACH;FMTTYPE=image/png:https://www.suo.ca/wp-content/uploads/2021/08/Unite-Dance-club.png
ORGANIZER;CN="Unite Dance Club":MAILTO:unitedanceclub1@gmail.com
END:VEVENT
BEGIN:VEVENT
DTSTART;TZID=America/Vancouver:20250627T170000
DTEND;TZID=America/Vancouver:20250627T220000
DTSTAMP:20260419T192322
CREATED:20250214T212548Z
LAST-MODIFIED:20250214T213208Z
UID:10009733-1751043600-1751061600@www.suo.ca
SUMMARY:Weekly TTRPG night
DESCRIPTION:Weekly RPG night in ART112. \nLocation: Art 112\, 203\, 103\, 206\, 208
URL:https://www.suo.ca/event/weekly-ttrpg-night/2025-06-27/
LOCATION:Arts Building\, UBCO Campus\, 1147 Research Road\, Kelowna\, British Columbia\, V1V 1V7\, Canada
CATEGORIES:All Ages,Student Associations
ATTACH;FMTTYPE=image/svg+xml:https://www.suo.ca/wp-content/uploads/2021/12/SUO-Logo.svg
ORGANIZER;CN="Games Club":MAILTO:gamesclubokanagan@gmail.com
END:VEVENT
BEGIN:VEVENT
DTSTART;TZID=America/Vancouver:20250628T120000
DTEND;TZID=America/Vancouver:20250628T190000
DTSTAMP:20260419T192322
CREATED:20250416T190155Z
LAST-MODIFIED:20250416T190426Z
UID:10010078-1751112000-1751137200@www.suo.ca
SUMMARY:UBCO x OKSL Super Smash Bros. Ultimate Tournament
DESCRIPTION:Weekly Super Smash Bros. Ultimate Tournaments held every Saturday at UBCO. \nLocation: LIB 312
URL:https://www.suo.ca/event/ubco-x-oksl-super-smash-bros-ultimate-tournament-2/2025-06-28/
LOCATION:Library\, UBCO Campus\, 3287 University Way\, Kelowna\, British Columbia\, V1V 1V7\, Canada
CATEGORIES:All Ages,Student Associations
ATTACH;FMTTYPE=image/png:https://www.suo.ca/wp-content/uploads/2021/08/OKEA_Esports_Logo.png
ORGANIZER;CN="Okanagan Esports Association":MAILTO:OkanaganEsportsAssociation@outlook.com
END:VEVENT
BEGIN:VEVENT
DTSTART;TZID=America/Vancouver:20250702T200000
DTEND;TZID=America/Vancouver:20250702T210000
DTSTAMP:20260419T192322
CREATED:20241017T181411Z
LAST-MODIFIED:20241017T181434Z
UID:10008928-1751486400-1751490000@www.suo.ca
SUMMARY:UDC dance class
DESCRIPTION:Unite Dance Club will be having weekly dance classes every Wednesday from 8-9. Register on Rubric! \nLocation: On Pointe Studio
URL:https://www.suo.ca/event/udc-dance-class/2025-07-02/
LOCATION:On Pointe Studio\, 6 3185 VIA CENTRALE\, Kelowna\, B.C\, V1V 2A7\, Canada
CATEGORIES:All Ages,Student Associations
ATTACH;FMTTYPE=image/png:https://www.suo.ca/wp-content/uploads/2021/08/Unite-Dance-club.png
ORGANIZER;CN="Unite Dance Club":MAILTO:unitedanceclub1@gmail.com
END:VEVENT
BEGIN:VEVENT
DTSTART;TZID=America/Vancouver:20250704T170000
DTEND;TZID=America/Vancouver:20250704T220000
DTSTAMP:20260419T192322
CREATED:20250214T212548Z
LAST-MODIFIED:20250214T213208Z
UID:10009734-1751648400-1751666400@www.suo.ca
SUMMARY:Weekly TTRPG night
DESCRIPTION:Weekly RPG night in ART112. \nLocation: Art 112\, 203\, 103\, 206\, 208
URL:https://www.suo.ca/event/weekly-ttrpg-night/2025-07-04/
LOCATION:Arts Building\, UBCO Campus\, 1147 Research Road\, Kelowna\, British Columbia\, V1V 1V7\, Canada
CATEGORIES:All Ages,Student Associations
ATTACH;FMTTYPE=image/svg+xml:https://www.suo.ca/wp-content/uploads/2021/12/SUO-Logo.svg
ORGANIZER;CN="Games Club":MAILTO:gamesclubokanagan@gmail.com
END:VEVENT
BEGIN:VEVENT
DTSTART;TZID=America/Vancouver:20250705T120000
DTEND;TZID=America/Vancouver:20250705T190000
DTSTAMP:20260419T192322
CREATED:20250416T190155Z
LAST-MODIFIED:20250416T190426Z
UID:10010079-1751716800-1751742000@www.suo.ca
SUMMARY:UBCO x OKSL Super Smash Bros. Ultimate Tournament
DESCRIPTION:Weekly Super Smash Bros. Ultimate Tournaments held every Saturday at UBCO. \nLocation: LIB 312
URL:https://www.suo.ca/event/ubco-x-oksl-super-smash-bros-ultimate-tournament-2/2025-07-05/
LOCATION:Library\, UBCO Campus\, 3287 University Way\, Kelowna\, British Columbia\, V1V 1V7\, Canada
CATEGORIES:All Ages,Student Associations
ATTACH;FMTTYPE=image/png:https://www.suo.ca/wp-content/uploads/2021/08/OKEA_Esports_Logo.png
ORGANIZER;CN="Okanagan Esports Association":MAILTO:OkanaganEsportsAssociation@outlook.com
END:VEVENT
BEGIN:VEVENT
DTSTART;TZID=America/Vancouver:20250709T200000
DTEND;TZID=America/Vancouver:20250709T210000
DTSTAMP:20260419T192322
CREATED:20241017T181411Z
LAST-MODIFIED:20241017T181434Z
UID:10008929-1752091200-1752094800@www.suo.ca
SUMMARY:UDC dance class
DESCRIPTION:Unite Dance Club will be having weekly dance classes every Wednesday from 8-9. Register on Rubric! \nLocation: On Pointe Studio
URL:https://www.suo.ca/event/udc-dance-class/2025-07-09/
LOCATION:On Pointe Studio\, 6 3185 VIA CENTRALE\, Kelowna\, B.C\, V1V 2A7\, Canada
CATEGORIES:All Ages,Student Associations
ATTACH;FMTTYPE=image/png:https://www.suo.ca/wp-content/uploads/2021/08/Unite-Dance-club.png
ORGANIZER;CN="Unite Dance Club":MAILTO:unitedanceclub1@gmail.com
END:VEVENT
BEGIN:VEVENT
DTSTART;TZID=America/Vancouver:20250711T170000
DTEND;TZID=America/Vancouver:20250711T220000
DTSTAMP:20260419T192322
CREATED:20250214T212548Z
LAST-MODIFIED:20250214T213208Z
UID:10009735-1752253200-1752271200@www.suo.ca
SUMMARY:Weekly TTRPG night
DESCRIPTION:Weekly RPG night in ART112. \nLocation: Art 112\, 203\, 103\, 206\, 208
URL:https://www.suo.ca/event/weekly-ttrpg-night/2025-07-11/
LOCATION:Arts Building\, UBCO Campus\, 1147 Research Road\, Kelowna\, British Columbia\, V1V 1V7\, Canada
CATEGORIES:All Ages,Student Associations
ATTACH;FMTTYPE=image/svg+xml:https://www.suo.ca/wp-content/uploads/2021/12/SUO-Logo.svg
ORGANIZER;CN="Games Club":MAILTO:gamesclubokanagan@gmail.com
END:VEVENT
BEGIN:VEVENT
DTSTART;TZID=America/Vancouver:20250712T120000
DTEND;TZID=America/Vancouver:20250712T190000
DTSTAMP:20260419T192322
CREATED:20250416T190155Z
LAST-MODIFIED:20250416T190426Z
UID:10010080-1752321600-1752346800@www.suo.ca
SUMMARY:UBCO x OKSL Super Smash Bros. Ultimate Tournament
DESCRIPTION:Weekly Super Smash Bros. Ultimate Tournaments held every Saturday at UBCO. \nLocation: LIB 312
URL:https://www.suo.ca/event/ubco-x-oksl-super-smash-bros-ultimate-tournament-2/2025-07-12/
LOCATION:Library\, UBCO Campus\, 3287 University Way\, Kelowna\, British Columbia\, V1V 1V7\, Canada
CATEGORIES:All Ages,Student Associations
ATTACH;FMTTYPE=image/png:https://www.suo.ca/wp-content/uploads/2021/08/OKEA_Esports_Logo.png
ORGANIZER;CN="Okanagan Esports Association":MAILTO:OkanaganEsportsAssociation@outlook.com
END:VEVENT
BEGIN:VEVENT
DTSTART;TZID=America/Vancouver:20250716T200000
DTEND;TZID=America/Vancouver:20250716T210000
DTSTAMP:20260419T192322
CREATED:20241017T181411Z
LAST-MODIFIED:20241017T181434Z
UID:10008930-1752696000-1752699600@www.suo.ca
SUMMARY:UDC dance class
DESCRIPTION:Unite Dance Club will be having weekly dance classes every Wednesday from 8-9. Register on Rubric! \nLocation: On Pointe Studio
URL:https://www.suo.ca/event/udc-dance-class/2025-07-16/
LOCATION:On Pointe Studio\, 6 3185 VIA CENTRALE\, Kelowna\, B.C\, V1V 2A7\, Canada
CATEGORIES:All Ages,Student Associations
ATTACH;FMTTYPE=image/png:https://www.suo.ca/wp-content/uploads/2021/08/Unite-Dance-club.png
ORGANIZER;CN="Unite Dance Club":MAILTO:unitedanceclub1@gmail.com
END:VEVENT
BEGIN:VEVENT
DTSTART;TZID=America/Vancouver:20250718T170000
DTEND;TZID=America/Vancouver:20250718T220000
DTSTAMP:20260419T192322
CREATED:20250214T212548Z
LAST-MODIFIED:20250214T213208Z
UID:10009736-1752858000-1752876000@www.suo.ca
SUMMARY:Weekly TTRPG night
DESCRIPTION:Weekly RPG night in ART112. \nLocation: Art 112\, 203\, 103\, 206\, 208
URL:https://www.suo.ca/event/weekly-ttrpg-night/2025-07-18/
LOCATION:Arts Building\, UBCO Campus\, 1147 Research Road\, Kelowna\, British Columbia\, V1V 1V7\, Canada
CATEGORIES:All Ages,Student Associations
ATTACH;FMTTYPE=image/svg+xml:https://www.suo.ca/wp-content/uploads/2021/12/SUO-Logo.svg
ORGANIZER;CN="Games Club":MAILTO:gamesclubokanagan@gmail.com
END:VEVENT
BEGIN:VEVENT
DTSTART;TZID=America/Vancouver:20250719T120000
DTEND;TZID=America/Vancouver:20250719T190000
DTSTAMP:20260419T192322
CREATED:20250416T190155Z
LAST-MODIFIED:20250416T190426Z
UID:10010081-1752926400-1752951600@www.suo.ca
SUMMARY:UBCO x OKSL Super Smash Bros. Ultimate Tournament
DESCRIPTION:Weekly Super Smash Bros. Ultimate Tournaments held every Saturday at UBCO. \nLocation: LIB 312
URL:https://www.suo.ca/event/ubco-x-oksl-super-smash-bros-ultimate-tournament-2/2025-07-19/
LOCATION:Library\, UBCO Campus\, 3287 University Way\, Kelowna\, British Columbia\, V1V 1V7\, Canada
CATEGORIES:All Ages,Student Associations
ATTACH;FMTTYPE=image/png:https://www.suo.ca/wp-content/uploads/2021/08/OKEA_Esports_Logo.png
ORGANIZER;CN="Okanagan Esports Association":MAILTO:OkanaganEsportsAssociation@outlook.com
END:VEVENT
BEGIN:VEVENT
DTSTART;TZID=America/Vancouver:20250723T200000
DTEND;TZID=America/Vancouver:20250723T210000
DTSTAMP:20260419T192322
CREATED:20241017T181411Z
LAST-MODIFIED:20241017T181434Z
UID:10008931-1753300800-1753304400@www.suo.ca
SUMMARY:UDC dance class
DESCRIPTION:Unite Dance Club will be having weekly dance classes every Wednesday from 8-9. Register on Rubric! \nLocation: On Pointe Studio
URL:https://www.suo.ca/event/udc-dance-class/2025-07-23/
LOCATION:On Pointe Studio\, 6 3185 VIA CENTRALE\, Kelowna\, B.C\, V1V 2A7\, Canada
CATEGORIES:All Ages,Student Associations
ATTACH;FMTTYPE=image/png:https://www.suo.ca/wp-content/uploads/2021/08/Unite-Dance-club.png
ORGANIZER;CN="Unite Dance Club":MAILTO:unitedanceclub1@gmail.com
END:VEVENT
BEGIN:VEVENT
DTSTART;TZID=America/Vancouver:20250725T170000
DTEND;TZID=America/Vancouver:20250725T220000
DTSTAMP:20260419T192322
CREATED:20250214T212548Z
LAST-MODIFIED:20250214T213208Z
UID:10009737-1753462800-1753480800@www.suo.ca
SUMMARY:Weekly TTRPG night
DESCRIPTION:Weekly RPG night in ART112. \nLocation: Art 112\, 203\, 103\, 206\, 208
URL:https://www.suo.ca/event/weekly-ttrpg-night/2025-07-25/
LOCATION:Arts Building\, UBCO Campus\, 1147 Research Road\, Kelowna\, British Columbia\, V1V 1V7\, Canada
CATEGORIES:All Ages,Student Associations
ATTACH;FMTTYPE=image/svg+xml:https://www.suo.ca/wp-content/uploads/2021/12/SUO-Logo.svg
ORGANIZER;CN="Games Club":MAILTO:gamesclubokanagan@gmail.com
END:VEVENT
BEGIN:VEVENT
DTSTART;TZID=America/Vancouver:20250726T120000
DTEND;TZID=America/Vancouver:20250726T190000
DTSTAMP:20260419T192322
CREATED:20250416T190155Z
LAST-MODIFIED:20250416T190426Z
UID:10010082-1753531200-1753556400@www.suo.ca
SUMMARY:UBCO x OKSL Super Smash Bros. Ultimate Tournament
DESCRIPTION:Weekly Super Smash Bros. Ultimate Tournaments held every Saturday at UBCO. \nLocation: LIB 312
URL:https://www.suo.ca/event/ubco-x-oksl-super-smash-bros-ultimate-tournament-2/2025-07-26/
LOCATION:Library\, UBCO Campus\, 3287 University Way\, Kelowna\, British Columbia\, V1V 1V7\, Canada
CATEGORIES:All Ages,Student Associations
ATTACH;FMTTYPE=image/png:https://www.suo.ca/wp-content/uploads/2021/08/OKEA_Esports_Logo.png
ORGANIZER;CN="Okanagan Esports Association":MAILTO:OkanaganEsportsAssociation@outlook.com
END:VEVENT
BEGIN:VEVENT
DTSTART;TZID=America/Vancouver:20250730T200000
DTEND;TZID=America/Vancouver:20250730T210000
DTSTAMP:20260419T192322
CREATED:20241017T181411Z
LAST-MODIFIED:20241017T181434Z
UID:10008932-1753905600-1753909200@www.suo.ca
SUMMARY:UDC dance class
DESCRIPTION:Unite Dance Club will be having weekly dance classes every Wednesday from 8-9. Register on Rubric! \nLocation: On Pointe Studio
URL:https://www.suo.ca/event/udc-dance-class/2025-07-30/
LOCATION:On Pointe Studio\, 6 3185 VIA CENTRALE\, Kelowna\, B.C\, V1V 2A7\, Canada
CATEGORIES:All Ages,Student Associations
ATTACH;FMTTYPE=image/png:https://www.suo.ca/wp-content/uploads/2021/08/Unite-Dance-club.png
ORGANIZER;CN="Unite Dance Club":MAILTO:unitedanceclub1@gmail.com
END:VEVENT
BEGIN:VEVENT
DTSTART;TZID=America/Vancouver:20250801T170000
DTEND;TZID=America/Vancouver:20250801T220000
DTSTAMP:20260419T192322
CREATED:20250214T212548Z
LAST-MODIFIED:20250214T213208Z
UID:10009738-1754067600-1754085600@www.suo.ca
SUMMARY:Weekly TTRPG night
DESCRIPTION:Weekly RPG night in ART112. \nLocation: Art 112\, 203\, 103\, 206\, 208
URL:https://www.suo.ca/event/weekly-ttrpg-night/2025-08-01/
LOCATION:Arts Building\, UBCO Campus\, 1147 Research Road\, Kelowna\, British Columbia\, V1V 1V7\, Canada
CATEGORIES:All Ages,Student Associations
ATTACH;FMTTYPE=image/svg+xml:https://www.suo.ca/wp-content/uploads/2021/12/SUO-Logo.svg
ORGANIZER;CN="Games Club":MAILTO:gamesclubokanagan@gmail.com
END:VEVENT
BEGIN:VEVENT
DTSTART;TZID=America/Vancouver:20250802T120000
DTEND;TZID=America/Vancouver:20250802T190000
DTSTAMP:20260419T192322
CREATED:20250416T190155Z
LAST-MODIFIED:20250416T190426Z
UID:10010083-1754136000-1754161200@www.suo.ca
SUMMARY:UBCO x OKSL Super Smash Bros. Ultimate Tournament
DESCRIPTION:Weekly Super Smash Bros. Ultimate Tournaments held every Saturday at UBCO. \nLocation: LIB 312
URL:https://www.suo.ca/event/ubco-x-oksl-super-smash-bros-ultimate-tournament-2/2025-08-02/
LOCATION:Library\, UBCO Campus\, 3287 University Way\, Kelowna\, British Columbia\, V1V 1V7\, Canada
CATEGORIES:All Ages,Student Associations
ATTACH;FMTTYPE=image/png:https://www.suo.ca/wp-content/uploads/2021/08/OKEA_Esports_Logo.png
ORGANIZER;CN="Okanagan Esports Association":MAILTO:OkanaganEsportsAssociation@outlook.com
END:VEVENT
BEGIN:VEVENT
DTSTART;TZID=America/Vancouver:20250806T200000
DTEND;TZID=America/Vancouver:20250806T210000
DTSTAMP:20260419T192322
CREATED:20241017T181411Z
LAST-MODIFIED:20241017T181434Z
UID:10008933-1754510400-1754514000@www.suo.ca
SUMMARY:UDC dance class
DESCRIPTION:Unite Dance Club will be having weekly dance classes every Wednesday from 8-9. Register on Rubric! \nLocation: On Pointe Studio
URL:https://www.suo.ca/event/udc-dance-class/2025-08-06/
LOCATION:On Pointe Studio\, 6 3185 VIA CENTRALE\, Kelowna\, B.C\, V1V 2A7\, Canada
CATEGORIES:All Ages,Student Associations
ATTACH;FMTTYPE=image/png:https://www.suo.ca/wp-content/uploads/2021/08/Unite-Dance-club.png
ORGANIZER;CN="Unite Dance Club":MAILTO:unitedanceclub1@gmail.com
END:VEVENT
BEGIN:VEVENT
DTSTART;TZID=America/Vancouver:20250808T170000
DTEND;TZID=America/Vancouver:20250808T220000
DTSTAMP:20260419T192322
CREATED:20250214T212548Z
LAST-MODIFIED:20250214T213208Z
UID:10009739-1754672400-1754690400@www.suo.ca
SUMMARY:Weekly TTRPG night
DESCRIPTION:Weekly RPG night in ART112. \nLocation: Art 112\, 203\, 103\, 206\, 208
URL:https://www.suo.ca/event/weekly-ttrpg-night/2025-08-08/
LOCATION:Arts Building\, UBCO Campus\, 1147 Research Road\, Kelowna\, British Columbia\, V1V 1V7\, Canada
CATEGORIES:All Ages,Student Associations
ATTACH;FMTTYPE=image/svg+xml:https://www.suo.ca/wp-content/uploads/2021/12/SUO-Logo.svg
ORGANIZER;CN="Games Club":MAILTO:gamesclubokanagan@gmail.com
END:VEVENT
BEGIN:VEVENT
DTSTART;TZID=America/Vancouver:20250809T120000
DTEND;TZID=America/Vancouver:20250809T190000
DTSTAMP:20260419T192322
CREATED:20250416T190155Z
LAST-MODIFIED:20250416T190426Z
UID:10010084-1754740800-1754766000@www.suo.ca
SUMMARY:UBCO x OKSL Super Smash Bros. Ultimate Tournament
DESCRIPTION:Weekly Super Smash Bros. Ultimate Tournaments held every Saturday at UBCO. \nLocation: LIB 312
URL:https://www.suo.ca/event/ubco-x-oksl-super-smash-bros-ultimate-tournament-2/2025-08-09/
LOCATION:Library\, UBCO Campus\, 3287 University Way\, Kelowna\, British Columbia\, V1V 1V7\, Canada
CATEGORIES:All Ages,Student Associations
ATTACH;FMTTYPE=image/png:https://www.suo.ca/wp-content/uploads/2021/08/OKEA_Esports_Logo.png
ORGANIZER;CN="Okanagan Esports Association":MAILTO:OkanaganEsportsAssociation@outlook.com
END:VEVENT
BEGIN:VEVENT
DTSTART;TZID=America/Vancouver:20250813T200000
DTEND;TZID=America/Vancouver:20250813T210000
DTSTAMP:20260419T192322
CREATED:20241017T181411Z
LAST-MODIFIED:20241017T181434Z
UID:10008934-1755115200-1755118800@www.suo.ca
SUMMARY:UDC dance class
DESCRIPTION:Unite Dance Club will be having weekly dance classes every Wednesday from 8-9. Register on Rubric! \nLocation: On Pointe Studio
URL:https://www.suo.ca/event/udc-dance-class/2025-08-13/
LOCATION:On Pointe Studio\, 6 3185 VIA CENTRALE\, Kelowna\, B.C\, V1V 2A7\, Canada
CATEGORIES:All Ages,Student Associations
ATTACH;FMTTYPE=image/png:https://www.suo.ca/wp-content/uploads/2021/08/Unite-Dance-club.png
ORGANIZER;CN="Unite Dance Club":MAILTO:unitedanceclub1@gmail.com
END:VEVENT
BEGIN:VEVENT
DTSTART;TZID=America/Vancouver:20250815T170000
DTEND;TZID=America/Vancouver:20250815T220000
DTSTAMP:20260419T192322
CREATED:20250214T212548Z
LAST-MODIFIED:20250214T213208Z
UID:10009740-1755277200-1755295200@www.suo.ca
SUMMARY:Weekly TTRPG night
DESCRIPTION:Weekly RPG night in ART112. \nLocation: Art 112\, 203\, 103\, 206\, 208
URL:https://www.suo.ca/event/weekly-ttrpg-night/2025-08-15/
LOCATION:Arts Building\, UBCO Campus\, 1147 Research Road\, Kelowna\, British Columbia\, V1V 1V7\, Canada
CATEGORIES:All Ages,Student Associations
ATTACH;FMTTYPE=image/svg+xml:https://www.suo.ca/wp-content/uploads/2021/12/SUO-Logo.svg
ORGANIZER;CN="Games Club":MAILTO:gamesclubokanagan@gmail.com
END:VEVENT
BEGIN:VEVENT
DTSTART;TZID=America/Vancouver:20250816T120000
DTEND;TZID=America/Vancouver:20250816T190000
DTSTAMP:20260419T192322
CREATED:20250416T190155Z
LAST-MODIFIED:20250416T190426Z
UID:10010085-1755345600-1755370800@www.suo.ca
SUMMARY:UBCO x OKSL Super Smash Bros. Ultimate Tournament
DESCRIPTION:Weekly Super Smash Bros. Ultimate Tournaments held every Saturday at UBCO. \nLocation: LIB 312
URL:https://www.suo.ca/event/ubco-x-oksl-super-smash-bros-ultimate-tournament-2/2025-08-16/
LOCATION:Library\, UBCO Campus\, 3287 University Way\, Kelowna\, British Columbia\, V1V 1V7\, Canada
CATEGORIES:All Ages,Student Associations
ATTACH;FMTTYPE=image/png:https://www.suo.ca/wp-content/uploads/2021/08/OKEA_Esports_Logo.png
ORGANIZER;CN="Okanagan Esports Association":MAILTO:OkanaganEsportsAssociation@outlook.com
END:VEVENT
END:VCALENDAR