BEGIN:VCALENDAR
VERSION:2.0
PRODID:-//Students’ Union Okanagan of UBC - ECPv6.5.0//NONSGML v1.0//EN
CALSCALE:GREGORIAN
METHOD:PUBLISH
X-WR-CALNAME:Students’ Union Okanagan of UBC
X-ORIGINAL-URL:https://www.suo.ca
X-WR-CALDESC:Events for Students’ Union Okanagan of UBC
REFRESH-INTERVAL;VALUE=DURATION:PT1H
X-Robots-Tag:noindex
X-PUBLISHED-TTL:PT1H
BEGIN:VTIMEZONE
TZID:America/Vancouver
BEGIN:DAYLIGHT
TZOFFSETFROM:-0800
TZOFFSETTO:-0700
TZNAME:PDT
DTSTART:20250309T100000
END:DAYLIGHT
BEGIN:STANDARD
TZOFFSETFROM:-0700
TZOFFSETTO:-0800
TZNAME:PST
DTSTART:20251102T090000
END:STANDARD
END:VTIMEZONE
BEGIN:VEVENT
DTSTART;TZID=America/Vancouver:20250903T200000
DTEND;TZID=America/Vancouver:20250903T210000
DTSTAMP:20260420T023645
CREATED:20241017T181411Z
LAST-MODIFIED:20241017T181434Z
UID:10008937-1756929600-1756933200@www.suo.ca
SUMMARY:UDC dance class
DESCRIPTION:Unite Dance Club will be having weekly dance classes every Wednesday from 8-9. Register on Rubric! \nLocation: On Pointe Studio
URL:https://www.suo.ca/event/udc-dance-class/2025-09-03/
LOCATION:On Pointe Studio\, 6 3185 VIA CENTRALE\, Kelowna\, B.C\, V1V 2A7\, Canada
CATEGORIES:All Ages,Student Associations
ATTACH;FMTTYPE=image/png:https://www.suo.ca/wp-content/uploads/2021/08/Unite-Dance-club.png
ORGANIZER;CN="Unite Dance Club":MAILTO:unitedanceclub1@gmail.com
END:VEVENT
BEGIN:VEVENT
DTSTART;TZID=America/Vancouver:20250905T170000
DTEND;TZID=America/Vancouver:20250905T220000
DTSTAMP:20260420T023645
CREATED:20250214T212548Z
LAST-MODIFIED:20250214T213208Z
UID:10009743-1757091600-1757109600@www.suo.ca
SUMMARY:Weekly TTRPG night
DESCRIPTION:Weekly RPG night in ART112. \nLocation: Art 112\, 203\, 103\, 206\, 208
URL:https://www.suo.ca/event/weekly-ttrpg-night/2025-09-05/
LOCATION:Arts Building\, UBCO Campus\, 1147 Research Road\, Kelowna\, British Columbia\, V1V 1V7\, Canada
CATEGORIES:All Ages,Student Associations
ATTACH;FMTTYPE=image/svg+xml:https://www.suo.ca/wp-content/uploads/2021/12/SUO-Logo.svg
ORGANIZER;CN="Games Club":MAILTO:gamesclubokanagan@gmail.com
END:VEVENT
BEGIN:VEVENT
DTSTART;TZID=America/Vancouver:20250906T120000
DTEND;TZID=America/Vancouver:20250906T190000
DTSTAMP:20260420T023645
CREATED:20250416T190155Z
LAST-MODIFIED:20250416T190426Z
UID:10010088-1757160000-1757185200@www.suo.ca
SUMMARY:UBCO x OKSL Super Smash Bros. Ultimate Tournament
DESCRIPTION:Weekly Super Smash Bros. Ultimate Tournaments held every Saturday at UBCO. \nLocation: LIB 312
URL:https://www.suo.ca/event/ubco-x-oksl-super-smash-bros-ultimate-tournament-2/2025-09-06/
LOCATION:Library\, UBCO Campus\, 3287 University Way\, Kelowna\, British Columbia\, V1V 1V7\, Canada
CATEGORIES:All Ages,Student Associations
ATTACH;FMTTYPE=image/png:https://www.suo.ca/wp-content/uploads/2021/08/OKEA_Esports_Logo.png
ORGANIZER;CN="Okanagan Esports Association":MAILTO:OkanaganEsportsAssociation@outlook.com
END:VEVENT
BEGIN:VEVENT
DTSTART;TZID=America/Vancouver:20250910T200000
DTEND;TZID=America/Vancouver:20250910T210000
DTSTAMP:20260420T023645
CREATED:20241017T181411Z
LAST-MODIFIED:20241017T181434Z
UID:10008938-1757534400-1757538000@www.suo.ca
SUMMARY:UDC dance class
DESCRIPTION:Unite Dance Club will be having weekly dance classes every Wednesday from 8-9. Register on Rubric! \nLocation: On Pointe Studio
URL:https://www.suo.ca/event/udc-dance-class/2025-09-10/
LOCATION:On Pointe Studio\, 6 3185 VIA CENTRALE\, Kelowna\, B.C\, V1V 2A7\, Canada
CATEGORIES:All Ages,Student Associations
ATTACH;FMTTYPE=image/png:https://www.suo.ca/wp-content/uploads/2021/08/Unite-Dance-club.png
ORGANIZER;CN="Unite Dance Club":MAILTO:unitedanceclub1@gmail.com
END:VEVENT
BEGIN:VEVENT
DTSTART;TZID=America/Vancouver:20250912T170000
DTEND;TZID=America/Vancouver:20250912T220000
DTSTAMP:20260420T023645
CREATED:20250214T212548Z
LAST-MODIFIED:20250214T213208Z
UID:10009744-1757696400-1757714400@www.suo.ca
SUMMARY:Weekly TTRPG night
DESCRIPTION:Weekly RPG night in ART112. \nLocation: Art 112\, 203\, 103\, 206\, 208
URL:https://www.suo.ca/event/weekly-ttrpg-night/2025-09-12/
LOCATION:Arts Building\, UBCO Campus\, 1147 Research Road\, Kelowna\, British Columbia\, V1V 1V7\, Canada
CATEGORIES:All Ages,Student Associations
ATTACH;FMTTYPE=image/svg+xml:https://www.suo.ca/wp-content/uploads/2021/12/SUO-Logo.svg
ORGANIZER;CN="Games Club":MAILTO:gamesclubokanagan@gmail.com
END:VEVENT
BEGIN:VEVENT
DTSTART;TZID=America/Vancouver:20250913T120000
DTEND;TZID=America/Vancouver:20250913T190000
DTSTAMP:20260420T023645
CREATED:20250416T190155Z
LAST-MODIFIED:20250416T190426Z
UID:10010089-1757764800-1757790000@www.suo.ca
SUMMARY:UBCO x OKSL Super Smash Bros. Ultimate Tournament
DESCRIPTION:Weekly Super Smash Bros. Ultimate Tournaments held every Saturday at UBCO. \nLocation: LIB 312
URL:https://www.suo.ca/event/ubco-x-oksl-super-smash-bros-ultimate-tournament-2/2025-09-13/
LOCATION:Library\, UBCO Campus\, 3287 University Way\, Kelowna\, British Columbia\, V1V 1V7\, Canada
CATEGORIES:All Ages,Student Associations
ATTACH;FMTTYPE=image/png:https://www.suo.ca/wp-content/uploads/2021/08/OKEA_Esports_Logo.png
ORGANIZER;CN="Okanagan Esports Association":MAILTO:OkanaganEsportsAssociation@outlook.com
END:VEVENT
BEGIN:VEVENT
DTSTART;TZID=America/Vancouver:20250917T200000
DTEND;TZID=America/Vancouver:20250917T210000
DTSTAMP:20260420T023645
CREATED:20241017T181411Z
LAST-MODIFIED:20241017T181434Z
UID:10008939-1758139200-1758142800@www.suo.ca
SUMMARY:UDC dance class
DESCRIPTION:Unite Dance Club will be having weekly dance classes every Wednesday from 8-9. Register on Rubric! \nLocation: On Pointe Studio
URL:https://www.suo.ca/event/udc-dance-class/2025-09-17/
LOCATION:On Pointe Studio\, 6 3185 VIA CENTRALE\, Kelowna\, B.C\, V1V 2A7\, Canada
CATEGORIES:All Ages,Student Associations
ATTACH;FMTTYPE=image/png:https://www.suo.ca/wp-content/uploads/2021/08/Unite-Dance-club.png
ORGANIZER;CN="Unite Dance Club":MAILTO:unitedanceclub1@gmail.com
END:VEVENT
BEGIN:VEVENT
DTSTART;TZID=America/Vancouver:20250919T170000
DTEND;TZID=America/Vancouver:20250919T220000
DTSTAMP:20260420T023645
CREATED:20250214T212548Z
LAST-MODIFIED:20250214T213208Z
UID:10009745-1758301200-1758319200@www.suo.ca
SUMMARY:Weekly TTRPG night
DESCRIPTION:Weekly RPG night in ART112. \nLocation: Art 112\, 203\, 103\, 206\, 208
URL:https://www.suo.ca/event/weekly-ttrpg-night/2025-09-19/
LOCATION:Arts Building\, UBCO Campus\, 1147 Research Road\, Kelowna\, British Columbia\, V1V 1V7\, Canada
CATEGORIES:All Ages,Student Associations
ATTACH;FMTTYPE=image/svg+xml:https://www.suo.ca/wp-content/uploads/2021/12/SUO-Logo.svg
ORGANIZER;CN="Games Club":MAILTO:gamesclubokanagan@gmail.com
END:VEVENT
BEGIN:VEVENT
DTSTART;TZID=America/Vancouver:20250920T120000
DTEND;TZID=America/Vancouver:20250920T190000
DTSTAMP:20260420T023645
CREATED:20250416T190155Z
LAST-MODIFIED:20250416T190426Z
UID:10010090-1758369600-1758394800@www.suo.ca
SUMMARY:UBCO x OKSL Super Smash Bros. Ultimate Tournament
DESCRIPTION:Weekly Super Smash Bros. Ultimate Tournaments held every Saturday at UBCO. \nLocation: LIB 312
URL:https://www.suo.ca/event/ubco-x-oksl-super-smash-bros-ultimate-tournament-2/2025-09-20/
LOCATION:Library\, UBCO Campus\, 3287 University Way\, Kelowna\, British Columbia\, V1V 1V7\, Canada
CATEGORIES:All Ages,Student Associations
ATTACH;FMTTYPE=image/png:https://www.suo.ca/wp-content/uploads/2021/08/OKEA_Esports_Logo.png
ORGANIZER;CN="Okanagan Esports Association":MAILTO:OkanaganEsportsAssociation@outlook.com
END:VEVENT
BEGIN:VEVENT
DTSTART;TZID=America/Vancouver:20250924T200000
DTEND;TZID=America/Vancouver:20250924T210000
DTSTAMP:20260420T023645
CREATED:20241017T181411Z
LAST-MODIFIED:20241017T181434Z
UID:10008940-1758744000-1758747600@www.suo.ca
SUMMARY:UDC dance class
DESCRIPTION:Unite Dance Club will be having weekly dance classes every Wednesday from 8-9. Register on Rubric! \nLocation: On Pointe Studio
URL:https://www.suo.ca/event/udc-dance-class/2025-09-24/
LOCATION:On Pointe Studio\, 6 3185 VIA CENTRALE\, Kelowna\, B.C\, V1V 2A7\, Canada
CATEGORIES:All Ages,Student Associations
ATTACH;FMTTYPE=image/png:https://www.suo.ca/wp-content/uploads/2021/08/Unite-Dance-club.png
ORGANIZER;CN="Unite Dance Club":MAILTO:unitedanceclub1@gmail.com
END:VEVENT
BEGIN:VEVENT
DTSTART;TZID=America/Vancouver:20250926T170000
DTEND;TZID=America/Vancouver:20250926T220000
DTSTAMP:20260420T023645
CREATED:20250214T212548Z
LAST-MODIFIED:20250214T213208Z
UID:10009746-1758906000-1758924000@www.suo.ca
SUMMARY:Weekly TTRPG night
DESCRIPTION:Weekly RPG night in ART112. \nLocation: Art 112\, 203\, 103\, 206\, 208
URL:https://www.suo.ca/event/weekly-ttrpg-night/2025-09-26/
LOCATION:Arts Building\, UBCO Campus\, 1147 Research Road\, Kelowna\, British Columbia\, V1V 1V7\, Canada
CATEGORIES:All Ages,Student Associations
ATTACH;FMTTYPE=image/svg+xml:https://www.suo.ca/wp-content/uploads/2021/12/SUO-Logo.svg
ORGANIZER;CN="Games Club":MAILTO:gamesclubokanagan@gmail.com
END:VEVENT
BEGIN:VEVENT
DTSTART;TZID=America/Vancouver:20250927T120000
DTEND;TZID=America/Vancouver:20250927T190000
DTSTAMP:20260420T023645
CREATED:20250416T190155Z
LAST-MODIFIED:20250416T190426Z
UID:10010091-1758974400-1758999600@www.suo.ca
SUMMARY:UBCO x OKSL Super Smash Bros. Ultimate Tournament
DESCRIPTION:Weekly Super Smash Bros. Ultimate Tournaments held every Saturday at UBCO. \nLocation: LIB 312
URL:https://www.suo.ca/event/ubco-x-oksl-super-smash-bros-ultimate-tournament-2/2025-09-27/
LOCATION:Library\, UBCO Campus\, 3287 University Way\, Kelowna\, British Columbia\, V1V 1V7\, Canada
CATEGORIES:All Ages,Student Associations
ATTACH;FMTTYPE=image/png:https://www.suo.ca/wp-content/uploads/2021/08/OKEA_Esports_Logo.png
ORGANIZER;CN="Okanagan Esports Association":MAILTO:OkanaganEsportsAssociation@outlook.com
END:VEVENT
BEGIN:VEVENT
DTSTART;TZID=America/Vancouver:20251001T200000
DTEND;TZID=America/Vancouver:20251001T210000
DTSTAMP:20260420T023645
CREATED:20241017T181411Z
LAST-MODIFIED:20241017T181434Z
UID:10008941-1759348800-1759352400@www.suo.ca
SUMMARY:UDC dance class
DESCRIPTION:Unite Dance Club will be having weekly dance classes every Wednesday from 8-9. Register on Rubric! \nLocation: On Pointe Studio
URL:https://www.suo.ca/event/udc-dance-class/2025-10-01/
LOCATION:On Pointe Studio\, 6 3185 VIA CENTRALE\, Kelowna\, B.C\, V1V 2A7\, Canada
CATEGORIES:All Ages,Student Associations
ATTACH;FMTTYPE=image/png:https://www.suo.ca/wp-content/uploads/2021/08/Unite-Dance-club.png
ORGANIZER;CN="Unite Dance Club":MAILTO:unitedanceclub1@gmail.com
END:VEVENT
BEGIN:VEVENT
DTSTART;TZID=America/Vancouver:20251003T170000
DTEND;TZID=America/Vancouver:20251003T220000
DTSTAMP:20260420T023645
CREATED:20250214T212548Z
LAST-MODIFIED:20250214T213208Z
UID:10009747-1759510800-1759528800@www.suo.ca
SUMMARY:Weekly TTRPG night
DESCRIPTION:Weekly RPG night in ART112. \nLocation: Art 112\, 203\, 103\, 206\, 208
URL:https://www.suo.ca/event/weekly-ttrpg-night/2025-10-03/
LOCATION:Arts Building\, UBCO Campus\, 1147 Research Road\, Kelowna\, British Columbia\, V1V 1V7\, Canada
CATEGORIES:All Ages,Student Associations
ATTACH;FMTTYPE=image/svg+xml:https://www.suo.ca/wp-content/uploads/2021/12/SUO-Logo.svg
ORGANIZER;CN="Games Club":MAILTO:gamesclubokanagan@gmail.com
END:VEVENT
BEGIN:VEVENT
DTSTART;TZID=America/Vancouver:20251004T120000
DTEND;TZID=America/Vancouver:20251004T190000
DTSTAMP:20260420T023645
CREATED:20250416T190155Z
LAST-MODIFIED:20250416T190426Z
UID:10010092-1759579200-1759604400@www.suo.ca
SUMMARY:UBCO x OKSL Super Smash Bros. Ultimate Tournament
DESCRIPTION:Weekly Super Smash Bros. Ultimate Tournaments held every Saturday at UBCO. \nLocation: LIB 312
URL:https://www.suo.ca/event/ubco-x-oksl-super-smash-bros-ultimate-tournament-2/2025-10-04/
LOCATION:Library\, UBCO Campus\, 3287 University Way\, Kelowna\, British Columbia\, V1V 1V7\, Canada
CATEGORIES:All Ages,Student Associations
ATTACH;FMTTYPE=image/png:https://www.suo.ca/wp-content/uploads/2021/08/OKEA_Esports_Logo.png
ORGANIZER;CN="Okanagan Esports Association":MAILTO:OkanaganEsportsAssociation@outlook.com
END:VEVENT
BEGIN:VEVENT
DTSTART;TZID=America/Vancouver:20251005T180000
DTEND;TZID=America/Vancouver:20251005T193000
DTSTAMP:20260420T023645
CREATED:20251002T182547Z
LAST-MODIFIED:20251002T182547Z
UID:10010488-1759687200-1759692600@www.suo.ca
SUMMARY:Let's Talk Social Work
DESCRIPTION:Join us for an informal monthly Zoom session created for MSW students from all streams. Each month brings a mix of open Q&A\, peer mentorship\, and panel discussions with fellow students and special guests. It’s a space to ask questions\, share experiences\, and connect across cohorts while building both academic support and community. Whether you’re after study tips\, practice insights\, or simply want to meet others in the program\, you’ll find a welcoming place to learn\, share\, and grow together. \n  \nIndividuals will be able to attend over Zoom and will be able to find the Zoom link in an email sent out to the students as well as on our course social media.
URL:https://www.suo.ca/event/lets-talk-social-work/2025-10-05/
LOCATION:British Columbia
CATEGORIES:Student Associations
ATTACH;FMTTYPE=image/jpeg:https://www.suo.ca/wp-content/uploads/2025/09/541212309_18172591384356225_7647033553902813711_n.jpg
END:VEVENT
BEGIN:VEVENT
DTSTART;TZID=America/Vancouver:20251008T200000
DTEND;TZID=America/Vancouver:20251008T210000
DTSTAMP:20260420T023645
CREATED:20241017T181411Z
LAST-MODIFIED:20241017T181434Z
UID:10008942-1759953600-1759957200@www.suo.ca
SUMMARY:UDC dance class
DESCRIPTION:Unite Dance Club will be having weekly dance classes every Wednesday from 8-9. Register on Rubric! \nLocation: On Pointe Studio
URL:https://www.suo.ca/event/udc-dance-class/2025-10-08/
LOCATION:On Pointe Studio\, 6 3185 VIA CENTRALE\, Kelowna\, B.C\, V1V 2A7\, Canada
CATEGORIES:All Ages,Student Associations
ATTACH;FMTTYPE=image/png:https://www.suo.ca/wp-content/uploads/2021/08/Unite-Dance-club.png
ORGANIZER;CN="Unite Dance Club":MAILTO:unitedanceclub1@gmail.com
END:VEVENT
BEGIN:VEVENT
DTSTART;TZID=America/Vancouver:20251009T163000
DTEND;TZID=America/Vancouver:20251127T200000
DTSTAMP:20260420T023645
CREATED:20251008T175754Z
LAST-MODIFIED:20251008T175754Z
UID:10010468-1760027400-1764273600@www.suo.ca
SUMMARY:Midterm Melodies
DESCRIPTION:Just a study session with some chill music so people can focus near the end of the week. Might use Pomodoro as part of it\, and if people are interested\, (and willing to help pay) some food. \nEME 1153
URL:https://www.suo.ca/event/midterm-melodies/2025-10-09/
LOCATION:EME Building\, UBCO Campus\, 1137 Alumni Avenue\, Kelowna\, British Columbia\, V1V 1V7\, Canada
CATEGORIES:Student Associations
ATTACH;FMTTYPE=image/png:https://www.suo.ca/wp-content/uploads/2025/09/Screenshot-2025-10-08-105711.png
ORGANIZER;CN="Piano Club":MAILTO:pianoclub.kelowna@gmail.com
END:VEVENT
BEGIN:VEVENT
DTSTART;TZID=America/Vancouver:20251009T180000
DTEND;TZID=America/Vancouver:20251009T210000
DTSTAMP:20260420T023645
CREATED:20251002T181109Z
LAST-MODIFIED:20251002T181851Z
UID:10010435-1760032800-1760043600@www.suo.ca
SUMMARY:Hooked on Helping - Granny Style
DESCRIPTION:A night of crochet/knitting granny squares to make a collaborative blanket! All skill levels welcome. Supplies and snacks provided. Oct. 9th 6-9pm UNC 335. Free tickets available on Rubric! Limited quantities available\, sales end Oct. 8th 11:59pm.
URL:https://www.suo.ca/event/hooked-on-helping-granny-style/
LOCATION:UNC 335\, 3272 University Way\, Kelowna\, British Columbia\, V1V 1V7\, Canada
CATEGORIES:Student Associations
ATTACH;FMTTYPE=image/png:https://www.suo.ca/wp-content/uploads/2025/10/Screenshot-2025-10-02-111541.png
ORGANIZER;CN="Loops of Love":MAILTO:loopsoflovesuo@gmail.com
END:VEVENT
BEGIN:VEVENT
DTSTART;TZID=America/Vancouver:20251010T160000
DTEND;TZID=America/Vancouver:20251010T180000
DTSTAMP:20260420T023645
CREATED:20251008T181132Z
LAST-MODIFIED:20251008T181132Z
UID:10010592-1760112000-1760119200@www.suo.ca
SUMMARY:Coffees for KCR Fall Midterm Study Session
DESCRIPTION:We will have food and have a space for students to study and chill \nART 219
URL:https://www.suo.ca/event/coffees-for-kcr-fall-midterm-study-session/
LOCATION:Arts Building\, UBCO Campus\, 1147 Research Road\, Kelowna\, British Columbia\, V1V 1V7\, Canada
CATEGORIES:Student Associations
ATTACH;FMTTYPE=image/png:https://www.suo.ca/wp-content/uploads/2025/10/Screenshot-2025-10-08-110955.png
ORGANIZER;CN="Coffees for KCR":MAILTO:coffeesforcharity@gmail.com
END:VEVENT
BEGIN:VEVENT
DTSTART;TZID=America/Vancouver:20251010T170000
DTEND;TZID=America/Vancouver:20251010T190000
DTSTAMP:20260420T023645
CREATED:20251008T180520Z
LAST-MODIFIED:20251008T180520Z
UID:10010571-1760115600-1760122800@www.suo.ca
SUMMARY:OKMotorrad Info Session Night
DESCRIPTION:This event is an information session for students interested in OKMotorrad. The session will provide details about the team’s ongoing technical projects as well as an overview of the MotoStudent competition. Attendees will have the opportunity to learn more about how they can get involved. \nEME 2181 \n\n\n\n\n\n\nAttendees will be addressesed via okmotorrad@gmail.com. Room is being left open to non-registered attendees. \n\n\n\n\n\n\n\n\n\n\n\n\n\n\n\n 
URL:https://www.suo.ca/event/okmotorrad-info-session-night/
LOCATION:EME Building\, UBCO Campus\, 1137 Alumni Avenue\, Kelowna\, British Columbia\, V1V 1V7\, Canada
CATEGORIES:Student Associations
END:VEVENT
BEGIN:VEVENT
DTSTART;TZID=America/Vancouver:20251010T170000
DTEND;TZID=America/Vancouver:20251010T220000
DTSTAMP:20260420T023645
CREATED:20250214T212548Z
LAST-MODIFIED:20250214T213208Z
UID:10009748-1760115600-1760133600@www.suo.ca
SUMMARY:Weekly TTRPG night
DESCRIPTION:Weekly RPG night in ART112. \nLocation: Art 112\, 203\, 103\, 206\, 208
URL:https://www.suo.ca/event/weekly-ttrpg-night/2025-10-10/
LOCATION:Arts Building\, UBCO Campus\, 1147 Research Road\, Kelowna\, British Columbia\, V1V 1V7\, Canada
CATEGORIES:All Ages,Student Associations
ATTACH;FMTTYPE=image/svg+xml:https://www.suo.ca/wp-content/uploads/2021/12/SUO-Logo.svg
ORGANIZER;CN="Games Club":MAILTO:gamesclubokanagan@gmail.com
END:VEVENT
BEGIN:VEVENT
DTSTART;TZID=America/Vancouver:20251011T120000
DTEND;TZID=America/Vancouver:20251011T190000
DTSTAMP:20260420T023645
CREATED:20250416T190155Z
LAST-MODIFIED:20250416T190426Z
UID:10010093-1760184000-1760209200@www.suo.ca
SUMMARY:UBCO x OKSL Super Smash Bros. Ultimate Tournament
DESCRIPTION:Weekly Super Smash Bros. Ultimate Tournaments held every Saturday at UBCO. \nLocation: LIB 312
URL:https://www.suo.ca/event/ubco-x-oksl-super-smash-bros-ultimate-tournament-2/2025-10-11/
LOCATION:Library\, UBCO Campus\, 3287 University Way\, Kelowna\, British Columbia\, V1V 1V7\, Canada
CATEGORIES:All Ages,Student Associations
ATTACH;FMTTYPE=image/png:https://www.suo.ca/wp-content/uploads/2021/08/OKEA_Esports_Logo.png
ORGANIZER;CN="Okanagan Esports Association":MAILTO:OkanaganEsportsAssociation@outlook.com
END:VEVENT
BEGIN:VEVENT
DTSTART;TZID=America/Vancouver:20251014T120000
DTEND;TZID=America/Vancouver:20251014T130000
DTSTAMP:20260420T023645
CREATED:20251002T190134Z
LAST-MODIFIED:20251002T190134Z
UID:10010235-1760443200-1760446800@www.suo.ca
SUMMARY:EGSS Meet and Greet and Mingling Pizza Party
DESCRIPTION:WE are inviting the Engineering graduate students of UBCO to a cozy mingling and pizza party at the graduate collegium. \nRegistration: free on Rubric!
URL:https://www.suo.ca/event/egss-meet-and-greet-and-mingling-pizza-party/
LOCATION:ASC 460\, Arts and Science Centre (ASC) - 130. 3187 University Way\, Kelowna\, BC V1V 1V7\, Kelowna\, BC\, V1V 1V7\, Canada
CATEGORIES:Graduate Student Committee,Student Associations
ATTACH;FMTTYPE=image/jpeg:https://www.suo.ca/wp-content/uploads/2025/09/SAlogo_EngineeringGSS.jpg
ORGANIZER;CN="Engineering Graduates Student Society":MAILTO:egss.suo@gmail.com
END:VEVENT
BEGIN:VEVENT
DTSTART;TZID=America/Vancouver:20251014T170000
DTEND;TZID=America/Vancouver:20251014T190000
DTSTAMP:20260420T023645
CREATED:20251008T173150Z
LAST-MODIFIED:20251008T173150Z
UID:10010498-1760461200-1760468400@www.suo.ca
SUMMARY:ASTR 112 Review Session
DESCRIPTION:Join us for a review session to prepare for the upcoming ASTR 112 exam. We’ll go over key concepts\, solve practice problems\, and answer your questions to help you feel confident for the test. \nSCI 333
URL:https://www.suo.ca/event/astr-112-review-session/
LOCATION:Science Building\, UBCO Campus\, 1177 Research Road\, Kelowna\, British Columbia\, V1V 1V7\, Canada
CATEGORIES:Student Associations
ATTACH;FMTTYPE=image/png:https://www.suo.ca/wp-content/uploads/2025/10/SAlogo_Quantitativescu_directory_logo.png
ORGANIZER;CN="Quantitative Sciences Course Union":MAILTO:qscu.main@gmail.com
END:VEVENT
BEGIN:VEVENT
DTSTART;TZID=America/Vancouver:20251014T183000
DTEND;TZID=America/Vancouver:20251014T200000
DTSTAMP:20260420T023645
CREATED:20251014T185230Z
LAST-MODIFIED:20251014T185230Z
UID:10010882-1760466600-1760472000@www.suo.ca
SUMMARY:Welcome Event for Delegates
DESCRIPTION:The room is being booked to host the Welcome Event for Delegates\, which serves as an official introduction to the team and the start of the competition journey. This event will provide delegates with an overview of JDC West\, outline key expectations\, and share important logistical details. It will also be an opportunity for delegates to meet and interact with the executive team\, fostering early connections and setting a positive\, collaborative tone for the rest of the event. \nEME 1101
URL:https://www.suo.ca/event/welcome-event-for-delegates/
LOCATION:EME Building\, UBCO Campus\, 1137 Alumni Avenue\, Kelowna\, British Columbia\, V1V 1V7\, Canada
CATEGORIES:Student Associations
ATTACH;FMTTYPE=image/jpeg:https://www.suo.ca/wp-content/uploads/2025/10/SAlogo_JDCWest-Okanagan.jpg
ORGANIZER;CN="JDC West Club":MAILTO:captains@jdcwokanagan.com
END:VEVENT
BEGIN:VEVENT
DTSTART;TZID=America/Vancouver:20251015T180000
DTEND;TZID=America/Vancouver:20251015T200000
DTSTAMP:20260420T023645
CREATED:20251008T181455Z
LAST-MODIFIED:20251008T181455Z
UID:10010599-1760551200-1760558400@www.suo.ca
SUMMARY:OPURC Abstract Writing Workshop
DESCRIPTION:Learn how to write a research abstract in preparation for the Okanagan Psychology Undergraduate Research Conference \nART 208
URL:https://www.suo.ca/event/opurc-abstract-writing-workshop/
LOCATION:Arts Building\, UBCO Campus\, 1147 Research Road\, Kelowna\, British Columbia\, V1V 1V7\, Canada
CATEGORIES:Student Associations
ATTACH;FMTTYPE=image/png:https://www.suo.ca/wp-content/uploads/2025/10/SAlogo_PsychologyCU.png
ORGANIZER;CN="Psychology Course Union":MAILTO:Psychologycourseunion@gmail.com
END:VEVENT
BEGIN:VEVENT
DTSTART;TZID=America/Vancouver:20251015T200000
DTEND;TZID=America/Vancouver:20251015T210000
DTSTAMP:20260420T023645
CREATED:20241017T181411Z
LAST-MODIFIED:20241017T181434Z
UID:10008943-1760558400-1760562000@www.suo.ca
SUMMARY:UDC dance class
DESCRIPTION:Unite Dance Club will be having weekly dance classes every Wednesday from 8-9. Register on Rubric! \nLocation: On Pointe Studio
URL:https://www.suo.ca/event/udc-dance-class/2025-10-15/
LOCATION:On Pointe Studio\, 6 3185 VIA CENTRALE\, Kelowna\, B.C\, V1V 2A7\, Canada
CATEGORIES:All Ages,Student Associations
ATTACH;FMTTYPE=image/png:https://www.suo.ca/wp-content/uploads/2021/08/Unite-Dance-club.png
ORGANIZER;CN="Unite Dance Club":MAILTO:unitedanceclub1@gmail.com
END:VEVENT
BEGIN:VEVENT
DTSTART;TZID=America/Vancouver:20251016T080000
DTEND;TZID=America/Vancouver:20251016T110000
DTSTAMP:20260420T023645
CREATED:20251008T174845Z
LAST-MODIFIED:20251008T174845Z
UID:10010582-1760601600-1760612400@www.suo.ca
SUMMARY:Midterm Study Session
DESCRIPTION:Come hang out with the SCU team\, grab study snacks\, and prep for midterm season! \nEME 1151 \n 
URL:https://www.suo.ca/event/midterm-study-session-3/
LOCATION:EME Building\, UBCO Campus\, 1137 Alumni Avenue\, Kelowna\, British Columbia\, V1V 1V7\, Canada
CATEGORIES:Student Associations
ATTACH;FMTTYPE=image/jpeg:https://www.suo.ca/wp-content/uploads/2025/10/SAlogo_SociologyCU.jpg
ORGANIZER;CN="Sociology Course Union":MAILTO:sociologycourseunion@gmail.com
END:VEVENT
BEGIN:VEVENT
DTSTART;TZID=America/Vancouver:20251016T163000
DTEND;TZID=America/Vancouver:20251204T200000
DTSTAMP:20260420T023645
CREATED:20251008T175754Z
LAST-MODIFIED:20251008T175754Z
UID:10010605-1760632200-1764878400@www.suo.ca
SUMMARY:Midterm Melodies
DESCRIPTION:Just a study session with some chill music so people can focus near the end of the week. Might use Pomodoro as part of it\, and if people are interested\, (and willing to help pay) some food. \nEME 1153
URL:https://www.suo.ca/event/midterm-melodies/2025-10-16/
LOCATION:EME Building\, UBCO Campus\, 1137 Alumni Avenue\, Kelowna\, British Columbia\, V1V 1V7\, Canada
CATEGORIES:Student Associations
ATTACH;FMTTYPE=image/png:https://www.suo.ca/wp-content/uploads/2025/09/Screenshot-2025-10-08-105711.png
ORGANIZER;CN="Piano Club":MAILTO:pianoclub.kelowna@gmail.com
END:VEVENT
END:VCALENDAR