BEGIN:VCALENDAR
VERSION:2.0
PRODID:-//Students’ Union Okanagan of UBC - ECPv6.5.0//NONSGML v1.0//EN
CALSCALE:GREGORIAN
METHOD:PUBLISH
X-WR-CALNAME:Students’ Union Okanagan of UBC
X-ORIGINAL-URL:https://www.suo.ca
X-WR-CALDESC:Events for Students’ Union Okanagan of UBC
REFRESH-INTERVAL;VALUE=DURATION:PT1H
X-Robots-Tag:noindex
X-PUBLISHED-TTL:PT1H
BEGIN:VTIMEZONE
TZID:America/Vancouver
BEGIN:DAYLIGHT
TZOFFSETFROM:-0800
TZOFFSETTO:-0700
TZNAME:PDT
DTSTART:20260308T100000
END:DAYLIGHT
BEGIN:STANDARD
TZOFFSETFROM:-0700
TZOFFSETTO:-0800
TZNAME:PST
DTSTART:20261101T090000
END:STANDARD
END:VTIMEZONE
BEGIN:VEVENT
DTSTART;TZID=America/Vancouver:20260402T163000
DTEND;TZID=America/Vancouver:20260521T210000
DTSTAMP:20260421T201437
CREATED:20251008T175754Z
LAST-MODIFIED:20251008T175754Z
UID:10010629-1775147400-1779397200@www.suo.ca
SUMMARY:Midterm Melodies
DESCRIPTION:Just a study session with some chill music so people can focus near the end of the week. Might use Pomodoro as part of it\, and if people are interested\, (and willing to help pay) some food. \nEME 1153
URL:https://www.suo.ca/event/midterm-melodies/2026-04-02/
LOCATION:EME Building\, UBCO Campus\, 1137 Alumni Avenue\, Kelowna\, British Columbia\, V1V 1V7\, Canada
CATEGORIES:Student Associations
ATTACH;FMTTYPE=image/png:https://www.suo.ca/wp-content/uploads/2025/09/Screenshot-2025-10-08-105711.png
ORGANIZER;CN="Piano Club":MAILTO:pianoclub.kelowna@gmail.com
END:VEVENT
BEGIN:VEVENT
DTSTART;TZID=America/Vancouver:20260402T170000
DTEND;TZID=America/Vancouver:20260702T210000
DTSTAMP:20260421T201437
CREATED:20251212T233543Z
LAST-MODIFIED:20251212T233543Z
UID:10012612-1775149200-1783026000@www.suo.ca
SUMMARY:Thursday Night Worship Gathering
DESCRIPTION:Thursday nights are our weekly on-campus worship gathering where we engage teachings from the bible around relevant topics for university students. It’s a place where everyone is welcome\, seeking to know Jesus is prioritized\, and authentic relationships are valued.
URL:https://www.suo.ca/event/thursday-night-worship-gathering/2026-04-02/
LOCATION:ASC 130\, UBCO Campus\, 3187 University Way\, Kelowna\, British Columbia\, V1V 1V7\, Canada
CATEGORIES:Student Associations
ATTACH;FMTTYPE=image/png:https://www.suo.ca/wp-content/uploads/2025/11/SAlogo_UniversityCM.png
END:VEVENT
BEGIN:VEVENT
DTSTART;TZID=America/Vancouver:20260404T100000
DTEND;TZID=America/Vancouver:20260425T210000
DTSTAMP:20260421T201437
CREATED:20251031T201831Z
LAST-MODIFIED:20251031T201831Z
UID:10011463-1775296800-1777150800@www.suo.ca
SUMMARY:Afrochella
DESCRIPTION:Dance performances and lessons on dance history. The events will be celebrating Black History Month
URL:https://www.suo.ca/event/afrochella/2026-04-04/
LOCATION:UNC 200 Ballroom\, 3272 University Way\, UNC200\, Kelowna\, British Columbia\, V1V 1V7\, Canada
CATEGORIES:Student Associations
ATTACH;FMTTYPE=image/jpeg:https://www.suo.ca/wp-content/uploads/2025/10/SAlogo_FusionDance.jpg
END:VEVENT
BEGIN:VEVENT
DTSTART;TZID=America/Vancouver:20260404T110000
DTEND;TZID=America/Vancouver:20260725T150000
DTSTAMP:20260421T201437
CREATED:20251202T181632Z
LAST-MODIFIED:20251202T181632Z
UID:10012567-1775300400-1784991600@www.suo.ca
SUMMARY:Ogopogo Solar Weekly Meeting
DESCRIPTION:Ogopogo Solar Racing Weekly Meetings \nLIB 317
URL:https://www.suo.ca/event/ogopogo-solar-weekly-meeting/2026-04-04/
LOCATION:Library\, UBCO Campus\, 3287 University Way\, Kelowna\, British Columbia\, V1V 1V7\, Canada
CATEGORIES:Student Associations
ORGANIZER;CN="Ogopogo Solar Vehicle Club":MAILTO:ogopogosolar@gmail.com
END:VEVENT
BEGIN:VEVENT
DTSTART;TZID=America/Vancouver:20260409T163000
DTEND;TZID=America/Vancouver:20260528T210000
DTSTAMP:20260421T201437
CREATED:20251008T175754Z
LAST-MODIFIED:20251008T175754Z
UID:10010630-1775752200-1780002000@www.suo.ca
SUMMARY:Midterm Melodies
DESCRIPTION:Just a study session with some chill music so people can focus near the end of the week. Might use Pomodoro as part of it\, and if people are interested\, (and willing to help pay) some food. \nEME 1153
URL:https://www.suo.ca/event/midterm-melodies/2026-04-09/
LOCATION:EME Building\, UBCO Campus\, 1137 Alumni Avenue\, Kelowna\, British Columbia\, V1V 1V7\, Canada
CATEGORIES:Student Associations
ATTACH;FMTTYPE=image/png:https://www.suo.ca/wp-content/uploads/2025/09/Screenshot-2025-10-08-105711.png
ORGANIZER;CN="Piano Club":MAILTO:pianoclub.kelowna@gmail.com
END:VEVENT
BEGIN:VEVENT
DTSTART;TZID=America/Vancouver:20260409T170000
DTEND;TZID=America/Vancouver:20260709T210000
DTSTAMP:20260421T201437
CREATED:20251212T233543Z
LAST-MODIFIED:20251212T233543Z
UID:10012613-1775754000-1783630800@www.suo.ca
SUMMARY:Thursday Night Worship Gathering
DESCRIPTION:Thursday nights are our weekly on-campus worship gathering where we engage teachings from the bible around relevant topics for university students. It’s a place where everyone is welcome\, seeking to know Jesus is prioritized\, and authentic relationships are valued.
URL:https://www.suo.ca/event/thursday-night-worship-gathering/2026-04-09/
LOCATION:ASC 130\, UBCO Campus\, 3187 University Way\, Kelowna\, British Columbia\, V1V 1V7\, Canada
CATEGORIES:Student Associations
ATTACH;FMTTYPE=image/png:https://www.suo.ca/wp-content/uploads/2025/11/SAlogo_UniversityCM.png
END:VEVENT
BEGIN:VEVENT
DTSTART;TZID=America/Vancouver:20260411T100000
DTEND;TZID=America/Vancouver:20260502T210000
DTSTAMP:20260421T201437
CREATED:20251031T201831Z
LAST-MODIFIED:20251031T201831Z
UID:10011464-1775901600-1777755600@www.suo.ca
SUMMARY:Afrochella
DESCRIPTION:Dance performances and lessons on dance history. The events will be celebrating Black History Month
URL:https://www.suo.ca/event/afrochella/2026-04-11/
LOCATION:UNC 200 Ballroom\, 3272 University Way\, UNC200\, Kelowna\, British Columbia\, V1V 1V7\, Canada
CATEGORIES:Student Associations
ATTACH;FMTTYPE=image/jpeg:https://www.suo.ca/wp-content/uploads/2025/10/SAlogo_FusionDance.jpg
END:VEVENT
BEGIN:VEVENT
DTSTART;TZID=America/Vancouver:20260411T110000
DTEND;TZID=America/Vancouver:20260801T150000
DTSTAMP:20260421T201437
CREATED:20251202T181632Z
LAST-MODIFIED:20251202T181632Z
UID:10012568-1775905200-1785596400@www.suo.ca
SUMMARY:Ogopogo Solar Weekly Meeting
DESCRIPTION:Ogopogo Solar Racing Weekly Meetings \nLIB 317
URL:https://www.suo.ca/event/ogopogo-solar-weekly-meeting/2026-04-11/
LOCATION:Library\, UBCO Campus\, 3287 University Way\, Kelowna\, British Columbia\, V1V 1V7\, Canada
CATEGORIES:Student Associations
ORGANIZER;CN="Ogopogo Solar Vehicle Club":MAILTO:ogopogosolar@gmail.com
END:VEVENT
BEGIN:VEVENT
DTSTART;TZID=America/Vancouver:20260416T163000
DTEND;TZID=America/Vancouver:20260604T210000
DTSTAMP:20260421T201437
CREATED:20251008T175754Z
LAST-MODIFIED:20251008T175754Z
UID:10010631-1776357000-1780606800@www.suo.ca
SUMMARY:Midterm Melodies
DESCRIPTION:Just a study session with some chill music so people can focus near the end of the week. Might use Pomodoro as part of it\, and if people are interested\, (and willing to help pay) some food. \nEME 1153
URL:https://www.suo.ca/event/midterm-melodies/2026-04-16/
LOCATION:EME Building\, UBCO Campus\, 1137 Alumni Avenue\, Kelowna\, British Columbia\, V1V 1V7\, Canada
CATEGORIES:Student Associations
ATTACH;FMTTYPE=image/png:https://www.suo.ca/wp-content/uploads/2025/09/Screenshot-2025-10-08-105711.png
ORGANIZER;CN="Piano Club":MAILTO:pianoclub.kelowna@gmail.com
END:VEVENT
BEGIN:VEVENT
DTSTART;TZID=America/Vancouver:20260418T100000
DTEND;TZID=America/Vancouver:20260509T210000
DTSTAMP:20260421T201437
CREATED:20251031T201831Z
LAST-MODIFIED:20251031T201831Z
UID:10011465-1776506400-1778360400@www.suo.ca
SUMMARY:Afrochella
DESCRIPTION:Dance performances and lessons on dance history. The events will be celebrating Black History Month
URL:https://www.suo.ca/event/afrochella/2026-04-18/
LOCATION:UNC 200 Ballroom\, 3272 University Way\, UNC200\, Kelowna\, British Columbia\, V1V 1V7\, Canada
CATEGORIES:Student Associations
ATTACH;FMTTYPE=image/jpeg:https://www.suo.ca/wp-content/uploads/2025/10/SAlogo_FusionDance.jpg
END:VEVENT
BEGIN:VEVENT
DTSTART;TZID=America/Vancouver:20260418T110000
DTEND;TZID=America/Vancouver:20260808T150000
DTSTAMP:20260421T201437
CREATED:20251202T181632Z
LAST-MODIFIED:20251202T181632Z
UID:10012569-1776510000-1786201200@www.suo.ca
SUMMARY:Ogopogo Solar Weekly Meeting
DESCRIPTION:Ogopogo Solar Racing Weekly Meetings \nLIB 317
URL:https://www.suo.ca/event/ogopogo-solar-weekly-meeting/2026-04-18/
LOCATION:Library\, UBCO Campus\, 3287 University Way\, Kelowna\, British Columbia\, V1V 1V7\, Canada
CATEGORIES:Student Associations
ORGANIZER;CN="Ogopogo Solar Vehicle Club":MAILTO:ogopogosolar@gmail.com
END:VEVENT
BEGIN:VEVENT
DTSTART;TZID=America/Vancouver:20260421T180000
DTEND;TZID=America/Vancouver:20260421T230000
DTSTAMP:20260421T201437
CREATED:20251031T203304Z
LAST-MODIFIED:20251031T203304Z
UID:10011520-1776794400-1776812400@www.suo.ca
SUMMARY:OPURC Awards Night and Dinner (Poster Presentations)
DESCRIPTION:Please join us after the amazing research presentations at OPURC. There will be catering and many awards to be given out to exceptional students.
URL:https://www.suo.ca/event/opurc-awards-night-and-dinner-poster-presentations/2026-04-21/
LOCATION:UNC 200 Ballroom\, 3272 University Way\, UNC200\, Kelowna\, British Columbia\, V1V 1V7\, Canada
CATEGORIES:Student Associations
ATTACH;FMTTYPE=image/png:https://www.suo.ca/wp-content/uploads/2025/10/SAlogo_PsychologyCU.png
ORGANIZER;CN="Psychology Course Union":MAILTO:Psychologycourseunion@gmail.com
END:VEVENT
BEGIN:VEVENT
DTSTART;TZID=America/Vancouver:20260422T103000
DTEND;TZID=America/Vancouver:20260422T153000
DTSTAMP:20260421T201437
CREATED:20251031T181220Z
LAST-MODIFIED:20251031T181220Z
UID:10011235-1776853800-1776871800@www.suo.ca
SUMMARY:Gingerbread ticket sales
DESCRIPTION:In person ticket sale for our annual gingerbread competition November 29th\, 2025.
URL:https://www.suo.ca/event/gingerbread-ticket-sales/2026-04-22/
LOCATION:British Columbia
CATEGORIES:Student Associations
ATTACH;FMTTYPE=image/jpeg:https://www.suo.ca/wp-content/uploads/2025/10/SAlogo_FilipinoSA.jpg
ORGANIZER;CN="Filipino Student Association":MAILTO:fsasuo@gmail.com
END:VEVENT
BEGIN:VEVENT
DTSTART;TZID=America/Vancouver:20260422T180000
DTEND;TZID=America/Vancouver:20260422T230000
DTSTAMP:20260421T201437
CREATED:20251031T203304Z
LAST-MODIFIED:20251031T203304Z
UID:10011521-1776880800-1776898800@www.suo.ca
SUMMARY:OPURC Awards Night and Dinner (Poster Presentations)
DESCRIPTION:Please join us after the amazing research presentations at OPURC. There will be catering and many awards to be given out to exceptional students.
URL:https://www.suo.ca/event/opurc-awards-night-and-dinner-poster-presentations/2026-04-22/
LOCATION:UNC 200 Ballroom\, 3272 University Way\, UNC200\, Kelowna\, British Columbia\, V1V 1V7\, Canada
CATEGORIES:Student Associations
ATTACH;FMTTYPE=image/png:https://www.suo.ca/wp-content/uploads/2025/10/SAlogo_PsychologyCU.png
ORGANIZER;CN="Psychology Course Union":MAILTO:Psychologycourseunion@gmail.com
END:VEVENT
BEGIN:VEVENT
DTSTART;TZID=America/Vancouver:20260423T103000
DTEND;TZID=America/Vancouver:20260423T153000
DTSTAMP:20260421T201437
CREATED:20251031T181220Z
LAST-MODIFIED:20251031T181220Z
UID:10011236-1776940200-1776958200@www.suo.ca
SUMMARY:Gingerbread ticket sales
DESCRIPTION:In person ticket sale for our annual gingerbread competition November 29th\, 2025.
URL:https://www.suo.ca/event/gingerbread-ticket-sales/2026-04-23/
LOCATION:British Columbia
CATEGORIES:Student Associations
ATTACH;FMTTYPE=image/jpeg:https://www.suo.ca/wp-content/uploads/2025/10/SAlogo_FilipinoSA.jpg
ORGANIZER;CN="Filipino Student Association":MAILTO:fsasuo@gmail.com
END:VEVENT
BEGIN:VEVENT
DTSTART;TZID=America/Vancouver:20260423T163000
DTEND;TZID=America/Vancouver:20260611T210000
DTSTAMP:20260421T201437
CREATED:20251008T175754Z
LAST-MODIFIED:20251008T175754Z
UID:10010632-1776961800-1781211600@www.suo.ca
SUMMARY:Midterm Melodies
DESCRIPTION:Just a study session with some chill music so people can focus near the end of the week. Might use Pomodoro as part of it\, and if people are interested\, (and willing to help pay) some food. \nEME 1153
URL:https://www.suo.ca/event/midterm-melodies/2026-04-23/
LOCATION:EME Building\, UBCO Campus\, 1137 Alumni Avenue\, Kelowna\, British Columbia\, V1V 1V7\, Canada
CATEGORIES:Student Associations
ATTACH;FMTTYPE=image/png:https://www.suo.ca/wp-content/uploads/2025/09/Screenshot-2025-10-08-105711.png
ORGANIZER;CN="Piano Club":MAILTO:pianoclub.kelowna@gmail.com
END:VEVENT
BEGIN:VEVENT
DTSTART;TZID=America/Vancouver:20260423T180000
DTEND;TZID=America/Vancouver:20260423T230000
DTSTAMP:20260421T201437
CREATED:20251031T203304Z
LAST-MODIFIED:20251031T203304Z
UID:10011522-1776967200-1776985200@www.suo.ca
SUMMARY:OPURC Awards Night and Dinner (Poster Presentations)
DESCRIPTION:Please join us after the amazing research presentations at OPURC. There will be catering and many awards to be given out to exceptional students.
URL:https://www.suo.ca/event/opurc-awards-night-and-dinner-poster-presentations/2026-04-23/
LOCATION:UNC 200 Ballroom\, 3272 University Way\, UNC200\, Kelowna\, British Columbia\, V1V 1V7\, Canada
CATEGORIES:Student Associations
ATTACH;FMTTYPE=image/png:https://www.suo.ca/wp-content/uploads/2025/10/SAlogo_PsychologyCU.png
ORGANIZER;CN="Psychology Course Union":MAILTO:Psychologycourseunion@gmail.com
END:VEVENT
BEGIN:VEVENT
DTSTART;TZID=America/Vancouver:20260424T103000
DTEND;TZID=America/Vancouver:20260424T153000
DTSTAMP:20260421T201437
CREATED:20251031T181220Z
LAST-MODIFIED:20251031T181220Z
UID:10011237-1777026600-1777044600@www.suo.ca
SUMMARY:Gingerbread ticket sales
DESCRIPTION:In person ticket sale for our annual gingerbread competition November 29th\, 2025.
URL:https://www.suo.ca/event/gingerbread-ticket-sales/2026-04-24/
LOCATION:British Columbia
CATEGORIES:Student Associations
ATTACH;FMTTYPE=image/jpeg:https://www.suo.ca/wp-content/uploads/2025/10/SAlogo_FilipinoSA.jpg
ORGANIZER;CN="Filipino Student Association":MAILTO:fsasuo@gmail.com
END:VEVENT
BEGIN:VEVENT
DTSTART;TZID=America/Vancouver:20260424T180000
DTEND;TZID=America/Vancouver:20260424T230000
DTSTAMP:20260421T201437
CREATED:20251031T203304Z
LAST-MODIFIED:20251031T203304Z
UID:10011523-1777053600-1777071600@www.suo.ca
SUMMARY:OPURC Awards Night and Dinner (Poster Presentations)
DESCRIPTION:Please join us after the amazing research presentations at OPURC. There will be catering and many awards to be given out to exceptional students.
URL:https://www.suo.ca/event/opurc-awards-night-and-dinner-poster-presentations/2026-04-24/
LOCATION:UNC 200 Ballroom\, 3272 University Way\, UNC200\, Kelowna\, British Columbia\, V1V 1V7\, Canada
CATEGORIES:Student Associations
ATTACH;FMTTYPE=image/png:https://www.suo.ca/wp-content/uploads/2025/10/SAlogo_PsychologyCU.png
ORGANIZER;CN="Psychology Course Union":MAILTO:Psychologycourseunion@gmail.com
END:VEVENT
BEGIN:VEVENT
DTSTART;TZID=America/Vancouver:20260425T100000
DTEND;TZID=America/Vancouver:20260516T210000
DTSTAMP:20260421T201437
CREATED:20251031T201831Z
LAST-MODIFIED:20251031T201831Z
UID:10011466-1777111200-1778965200@www.suo.ca
SUMMARY:Afrochella
DESCRIPTION:Dance performances and lessons on dance history. The events will be celebrating Black History Month
URL:https://www.suo.ca/event/afrochella/2026-04-25/
LOCATION:UNC 200 Ballroom\, 3272 University Way\, UNC200\, Kelowna\, British Columbia\, V1V 1V7\, Canada
CATEGORIES:Student Associations
ATTACH;FMTTYPE=image/jpeg:https://www.suo.ca/wp-content/uploads/2025/10/SAlogo_FusionDance.jpg
END:VEVENT
BEGIN:VEVENT
DTSTART;TZID=America/Vancouver:20260425T103000
DTEND;TZID=America/Vancouver:20260425T153000
DTSTAMP:20260421T201437
CREATED:20251031T181220Z
LAST-MODIFIED:20251031T181220Z
UID:10011238-1777113000-1777131000@www.suo.ca
SUMMARY:Gingerbread ticket sales
DESCRIPTION:In person ticket sale for our annual gingerbread competition November 29th\, 2025.
URL:https://www.suo.ca/event/gingerbread-ticket-sales/2026-04-25/
LOCATION:British Columbia
CATEGORIES:Student Associations
ATTACH;FMTTYPE=image/jpeg:https://www.suo.ca/wp-content/uploads/2025/10/SAlogo_FilipinoSA.jpg
ORGANIZER;CN="Filipino Student Association":MAILTO:fsasuo@gmail.com
END:VEVENT
BEGIN:VEVENT
DTSTART;TZID=America/Vancouver:20260425T110000
DTEND;TZID=America/Vancouver:20260815T150000
DTSTAMP:20260421T201437
CREATED:20251202T181632Z
LAST-MODIFIED:20251202T181632Z
UID:10012570-1777114800-1786806000@www.suo.ca
SUMMARY:Ogopogo Solar Weekly Meeting
DESCRIPTION:Ogopogo Solar Racing Weekly Meetings \nLIB 317
URL:https://www.suo.ca/event/ogopogo-solar-weekly-meeting/2026-04-25/
LOCATION:Library\, UBCO Campus\, 3287 University Way\, Kelowna\, British Columbia\, V1V 1V7\, Canada
CATEGORIES:Student Associations
ORGANIZER;CN="Ogopogo Solar Vehicle Club":MAILTO:ogopogosolar@gmail.com
END:VEVENT
BEGIN:VEVENT
DTSTART;TZID=America/Vancouver:20260425T120000
DTEND;TZID=America/Vancouver:20260425T190000
DTSTAMP:20260421T201437
CREATED:20250416T190155Z
LAST-MODIFIED:20250416T190426Z
UID:10010121-1777118400-1777143600@www.suo.ca
SUMMARY:UBCO x OKSL Super Smash Bros. Ultimate Tournament
DESCRIPTION:Weekly Super Smash Bros. Ultimate Tournaments held every Saturday at UBCO. \nLocation: LIB 312
URL:https://www.suo.ca/event/ubco-x-oksl-super-smash-bros-ultimate-tournament-2/2026-04-25/
LOCATION:Library\, UBCO Campus\, 3287 University Way\, Kelowna\, British Columbia\, V1V 1V7\, Canada
CATEGORIES:All Ages,Student Associations
ATTACH;FMTTYPE=image/png:https://www.suo.ca/wp-content/uploads/2021/08/OKEA_Esports_Logo.png
ORGANIZER;CN="Okanagan Esports Association":MAILTO:OkanaganEsportsAssociation@outlook.com
END:VEVENT
BEGIN:VEVENT
DTSTART;TZID=America/Vancouver:20260425T180000
DTEND;TZID=America/Vancouver:20260425T230000
DTSTAMP:20260421T201437
CREATED:20251031T203304Z
LAST-MODIFIED:20251031T203304Z
UID:10011524-1777140000-1777158000@www.suo.ca
SUMMARY:OPURC Awards Night and Dinner (Poster Presentations)
DESCRIPTION:Please join us after the amazing research presentations at OPURC. There will be catering and many awards to be given out to exceptional students.
URL:https://www.suo.ca/event/opurc-awards-night-and-dinner-poster-presentations/2026-04-25/
LOCATION:UNC 200 Ballroom\, 3272 University Way\, UNC200\, Kelowna\, British Columbia\, V1V 1V7\, Canada
CATEGORIES:Student Associations
ATTACH;FMTTYPE=image/png:https://www.suo.ca/wp-content/uploads/2025/10/SAlogo_PsychologyCU.png
ORGANIZER;CN="Psychology Course Union":MAILTO:Psychologycourseunion@gmail.com
END:VEVENT
BEGIN:VEVENT
DTSTART;TZID=America/Vancouver:20260426T103000
DTEND;TZID=America/Vancouver:20260426T153000
DTSTAMP:20260421T201437
CREATED:20251031T181220Z
LAST-MODIFIED:20251031T181220Z
UID:10011239-1777199400-1777217400@www.suo.ca
SUMMARY:Gingerbread ticket sales
DESCRIPTION:In person ticket sale for our annual gingerbread competition November 29th\, 2025.
URL:https://www.suo.ca/event/gingerbread-ticket-sales/2026-04-26/
LOCATION:British Columbia
CATEGORIES:Student Associations
ATTACH;FMTTYPE=image/jpeg:https://www.suo.ca/wp-content/uploads/2025/10/SAlogo_FilipinoSA.jpg
ORGANIZER;CN="Filipino Student Association":MAILTO:fsasuo@gmail.com
END:VEVENT
BEGIN:VEVENT
DTSTART;TZID=America/Vancouver:20260426T180000
DTEND;TZID=America/Vancouver:20260426T230000
DTSTAMP:20260421T201437
CREATED:20251031T203304Z
LAST-MODIFIED:20251031T203304Z
UID:10011525-1777226400-1777244400@www.suo.ca
SUMMARY:OPURC Awards Night and Dinner (Poster Presentations)
DESCRIPTION:Please join us after the amazing research presentations at OPURC. There will be catering and many awards to be given out to exceptional students.
URL:https://www.suo.ca/event/opurc-awards-night-and-dinner-poster-presentations/2026-04-26/
LOCATION:UNC 200 Ballroom\, 3272 University Way\, UNC200\, Kelowna\, British Columbia\, V1V 1V7\, Canada
CATEGORIES:Student Associations
ATTACH;FMTTYPE=image/png:https://www.suo.ca/wp-content/uploads/2025/10/SAlogo_PsychologyCU.png
ORGANIZER;CN="Psychology Course Union":MAILTO:Psychologycourseunion@gmail.com
END:VEVENT
BEGIN:VEVENT
DTSTART;TZID=America/Vancouver:20260427T103000
DTEND;TZID=America/Vancouver:20260427T153000
DTSTAMP:20260421T201437
CREATED:20251031T181220Z
LAST-MODIFIED:20251031T181220Z
UID:10011240-1777285800-1777303800@www.suo.ca
SUMMARY:Gingerbread ticket sales
DESCRIPTION:In person ticket sale for our annual gingerbread competition November 29th\, 2025.
URL:https://www.suo.ca/event/gingerbread-ticket-sales/2026-04-27/
LOCATION:British Columbia
CATEGORIES:Student Associations
ATTACH;FMTTYPE=image/jpeg:https://www.suo.ca/wp-content/uploads/2025/10/SAlogo_FilipinoSA.jpg
ORGANIZER;CN="Filipino Student Association":MAILTO:fsasuo@gmail.com
END:VEVENT
BEGIN:VEVENT
DTSTART;TZID=America/Vancouver:20260427T180000
DTEND;TZID=America/Vancouver:20260427T190000
DTSTAMP:20260421T201437
CREATED:20251117T204516Z
LAST-MODIFIED:20251117T204516Z
UID:10012365-1777312800-1777316400@www.suo.ca
SUMMARY:ASL Club General Meeting
DESCRIPTION:During this meeting we will be covering the ASL alphabet\, fingerspelling and how to introduce yourself in sign language! We will also briefly be discussing topics such as name signs\, the differences between deaf and Deaf\, as well as some “homework” \nART 114
URL:https://www.suo.ca/event/asl-club-general-meeting/2026-04-27/
LOCATION:Arts Building\, UBCO Campus\, 1147 Research Road\, Kelowna\, British Columbia\, V1V 1V7\, Canada
CATEGORIES:Student Associations
END:VEVENT
BEGIN:VEVENT
DTSTART;TZID=America/Vancouver:20260427T180000
DTEND;TZID=America/Vancouver:20260427T230000
DTSTAMP:20260421T201437
CREATED:20251031T203304Z
LAST-MODIFIED:20251031T203304Z
UID:10011526-1777312800-1777330800@www.suo.ca
SUMMARY:OPURC Awards Night and Dinner (Poster Presentations)
DESCRIPTION:Please join us after the amazing research presentations at OPURC. There will be catering and many awards to be given out to exceptional students.
URL:https://www.suo.ca/event/opurc-awards-night-and-dinner-poster-presentations/2026-04-27/
LOCATION:UNC 200 Ballroom\, 3272 University Way\, UNC200\, Kelowna\, British Columbia\, V1V 1V7\, Canada
CATEGORIES:Student Associations
ATTACH;FMTTYPE=image/png:https://www.suo.ca/wp-content/uploads/2025/10/SAlogo_PsychologyCU.png
ORGANIZER;CN="Psychology Course Union":MAILTO:Psychologycourseunion@gmail.com
END:VEVENT
BEGIN:VEVENT
DTSTART;TZID=America/Vancouver:20260427T183000
DTEND;TZID=America/Vancouver:20260427T200000
DTSTAMP:20260421T201437
CREATED:20251020T202403Z
LAST-MODIFIED:20251020T202403Z
UID:10010970-1777314600-1777320000@www.suo.ca
SUMMARY:General meeting
DESCRIPTION:General weekly meeting \nART 281
URL:https://www.suo.ca/event/general-meeting-2/2026-04-27/
LOCATION:Arts Building\, UBCO Campus\, 1147 Research Road\, Kelowna\, British Columbia\, V1V 1V7\, Canada
CATEGORIES:Student Associations
END:VEVENT
END:VCALENDAR