BEGIN:VCALENDAR
VERSION:2.0
PRODID:-//Students’ Union Okanagan of UBC - ECPv6.5.0//NONSGML v1.0//EN
CALSCALE:GREGORIAN
METHOD:PUBLISH
X-ORIGINAL-URL:https://www.suo.ca
X-WR-CALDESC:Events for Students’ Union Okanagan of UBC
REFRESH-INTERVAL;VALUE=DURATION:PT1H
X-Robots-Tag:noindex
X-PUBLISHED-TTL:PT1H
BEGIN:VTIMEZONE
TZID:America/Vancouver
BEGIN:DAYLIGHT
TZOFFSETFROM:-0800
TZOFFSETTO:-0700
TZNAME:PDT
DTSTART:20260308T100000
END:DAYLIGHT
BEGIN:STANDARD
TZOFFSETFROM:-0700
TZOFFSETTO:-0800
TZNAME:PST
DTSTART:20261101T090000
END:STANDARD
END:VTIMEZONE
BEGIN:VEVENT
DTSTART;TZID=America/Vancouver:20260122T170000
DTEND;TZID=America/Vancouver:20260423T220000
DTSTAMP:20260420T061538
CREATED:20251212T233543Z
LAST-MODIFIED:20251212T233543Z
UID:10012602-1769101200-1776981600@www.suo.ca
SUMMARY:Thursday Night Worship Gathering
DESCRIPTION:Thursday nights are our weekly on-campus worship gathering where we engage teachings from the bible around relevant topics for university students. It’s a place where everyone is welcome\, seeking to know Jesus is prioritized\, and authentic relationships are valued.
URL:https://www.suo.ca/event/thursday-night-worship-gathering/2026-01-22/
LOCATION:ASC 130\, UBCO Campus\, 3187 University Way\, Kelowna\, British Columbia\, V1V 1V7\, Canada
CATEGORIES:Student Associations
ATTACH;FMTTYPE=image/png:https://www.suo.ca/wp-content/uploads/2025/11/SAlogo_UniversityCM.png
END:VEVENT
BEGIN:VEVENT
DTSTART;TZID=America/Vancouver:20260129T170000
DTEND;TZID=America/Vancouver:20260430T220000
DTSTAMP:20260420T061538
CREATED:20251212T233543Z
LAST-MODIFIED:20251212T233543Z
UID:10012603-1769706000-1777586400@www.suo.ca
SUMMARY:Thursday Night Worship Gathering
DESCRIPTION:Thursday nights are our weekly on-campus worship gathering where we engage teachings from the bible around relevant topics for university students. It’s a place where everyone is welcome\, seeking to know Jesus is prioritized\, and authentic relationships are valued.
URL:https://www.suo.ca/event/thursday-night-worship-gathering/2026-01-29/
LOCATION:ASC 130\, UBCO Campus\, 3187 University Way\, Kelowna\, British Columbia\, V1V 1V7\, Canada
CATEGORIES:Student Associations
ATTACH;FMTTYPE=image/png:https://www.suo.ca/wp-content/uploads/2025/11/SAlogo_UniversityCM.png
END:VEVENT
BEGIN:VEVENT
DTSTART;TZID=America/Vancouver:20260205T170000
DTEND;TZID=America/Vancouver:20260507T220000
DTSTAMP:20260420T061538
CREATED:20251212T233543Z
LAST-MODIFIED:20251212T233543Z
UID:10012604-1770310800-1778191200@www.suo.ca
SUMMARY:Thursday Night Worship Gathering
DESCRIPTION:Thursday nights are our weekly on-campus worship gathering where we engage teachings from the bible around relevant topics for university students. It’s a place where everyone is welcome\, seeking to know Jesus is prioritized\, and authentic relationships are valued.
URL:https://www.suo.ca/event/thursday-night-worship-gathering/2026-02-05/
LOCATION:ASC 130\, UBCO Campus\, 3187 University Way\, Kelowna\, British Columbia\, V1V 1V7\, Canada
CATEGORIES:Student Associations
ATTACH;FMTTYPE=image/png:https://www.suo.ca/wp-content/uploads/2025/11/SAlogo_UniversityCM.png
END:VEVENT
BEGIN:VEVENT
DTSTART;TZID=America/Vancouver:20260212T170000
DTEND;TZID=America/Vancouver:20260514T220000
DTSTAMP:20260420T061538
CREATED:20251212T233543Z
LAST-MODIFIED:20251212T233543Z
UID:10012605-1770915600-1778796000@www.suo.ca
SUMMARY:Thursday Night Worship Gathering
DESCRIPTION:Thursday nights are our weekly on-campus worship gathering where we engage teachings from the bible around relevant topics for university students. It’s a place where everyone is welcome\, seeking to know Jesus is prioritized\, and authentic relationships are valued.
URL:https://www.suo.ca/event/thursday-night-worship-gathering/2026-02-12/
LOCATION:ASC 130\, UBCO Campus\, 3187 University Way\, Kelowna\, British Columbia\, V1V 1V7\, Canada
CATEGORIES:Student Associations
ATTACH;FMTTYPE=image/png:https://www.suo.ca/wp-content/uploads/2025/11/SAlogo_UniversityCM.png
END:VEVENT
BEGIN:VEVENT
DTSTART;TZID=America/Vancouver:20260219T170000
DTEND;TZID=America/Vancouver:20260521T220000
DTSTAMP:20260420T061538
CREATED:20251212T233543Z
LAST-MODIFIED:20251212T233543Z
UID:10012606-1771520400-1779400800@www.suo.ca
SUMMARY:Thursday Night Worship Gathering
DESCRIPTION:Thursday nights are our weekly on-campus worship gathering where we engage teachings from the bible around relevant topics for university students. It’s a place where everyone is welcome\, seeking to know Jesus is prioritized\, and authentic relationships are valued.
URL:https://www.suo.ca/event/thursday-night-worship-gathering/2026-02-19/
LOCATION:ASC 130\, UBCO Campus\, 3187 University Way\, Kelowna\, British Columbia\, V1V 1V7\, Canada
CATEGORIES:Student Associations
ATTACH;FMTTYPE=image/png:https://www.suo.ca/wp-content/uploads/2025/11/SAlogo_UniversityCM.png
END:VEVENT
BEGIN:VEVENT
DTSTART;TZID=America/Vancouver:20260226T170000
DTEND;TZID=America/Vancouver:20260528T220000
DTSTAMP:20260420T061538
CREATED:20251212T233543Z
LAST-MODIFIED:20251212T233543Z
UID:10012607-1772125200-1780005600@www.suo.ca
SUMMARY:Thursday Night Worship Gathering
DESCRIPTION:Thursday nights are our weekly on-campus worship gathering where we engage teachings from the bible around relevant topics for university students. It’s a place where everyone is welcome\, seeking to know Jesus is prioritized\, and authentic relationships are valued.
URL:https://www.suo.ca/event/thursday-night-worship-gathering/2026-02-26/
LOCATION:ASC 130\, UBCO Campus\, 3187 University Way\, Kelowna\, British Columbia\, V1V 1V7\, Canada
CATEGORIES:Student Associations
ATTACH;FMTTYPE=image/png:https://www.suo.ca/wp-content/uploads/2025/11/SAlogo_UniversityCM.png
END:VEVENT
BEGIN:VEVENT
DTSTART;TZID=America/Vancouver:20260305T170000
DTEND;TZID=America/Vancouver:20260604T220000
DTSTAMP:20260420T061538
CREATED:20251212T233543Z
LAST-MODIFIED:20251212T233543Z
UID:10012608-1772730000-1780610400@www.suo.ca
SUMMARY:Thursday Night Worship Gathering
DESCRIPTION:Thursday nights are our weekly on-campus worship gathering where we engage teachings from the bible around relevant topics for university students. It’s a place where everyone is welcome\, seeking to know Jesus is prioritized\, and authentic relationships are valued.
URL:https://www.suo.ca/event/thursday-night-worship-gathering/2026-03-05/
LOCATION:ASC 130\, UBCO Campus\, 3187 University Way\, Kelowna\, British Columbia\, V1V 1V7\, Canada
CATEGORIES:Student Associations
ATTACH;FMTTYPE=image/png:https://www.suo.ca/wp-content/uploads/2025/11/SAlogo_UniversityCM.png
END:VEVENT
BEGIN:VEVENT
DTSTART;TZID=America/Vancouver:20260312T170000
DTEND;TZID=America/Vancouver:20260611T210000
DTSTAMP:20260420T061538
CREATED:20251212T233543Z
LAST-MODIFIED:20251212T233543Z
UID:10012609-1773334800-1781211600@www.suo.ca
SUMMARY:Thursday Night Worship Gathering
DESCRIPTION:Thursday nights are our weekly on-campus worship gathering where we engage teachings from the bible around relevant topics for university students. It’s a place where everyone is welcome\, seeking to know Jesus is prioritized\, and authentic relationships are valued.
URL:https://www.suo.ca/event/thursday-night-worship-gathering/2026-03-12/
LOCATION:ASC 130\, UBCO Campus\, 3187 University Way\, Kelowna\, British Columbia\, V1V 1V7\, Canada
CATEGORIES:Student Associations
ATTACH;FMTTYPE=image/png:https://www.suo.ca/wp-content/uploads/2025/11/SAlogo_UniversityCM.png
END:VEVENT
BEGIN:VEVENT
DTSTART;TZID=America/Vancouver:20260319T170000
DTEND;TZID=America/Vancouver:20260618T210000
DTSTAMP:20260420T061538
CREATED:20251212T233543Z
LAST-MODIFIED:20251212T233543Z
UID:10012610-1773939600-1781816400@www.suo.ca
SUMMARY:Thursday Night Worship Gathering
DESCRIPTION:Thursday nights are our weekly on-campus worship gathering where we engage teachings from the bible around relevant topics for university students. It’s a place where everyone is welcome\, seeking to know Jesus is prioritized\, and authentic relationships are valued.
URL:https://www.suo.ca/event/thursday-night-worship-gathering/2026-03-19/
LOCATION:ASC 130\, UBCO Campus\, 3187 University Way\, Kelowna\, British Columbia\, V1V 1V7\, Canada
CATEGORIES:Student Associations
ATTACH;FMTTYPE=image/png:https://www.suo.ca/wp-content/uploads/2025/11/SAlogo_UniversityCM.png
END:VEVENT
BEGIN:VEVENT
DTSTART;TZID=America/Vancouver:20260326T170000
DTEND;TZID=America/Vancouver:20260625T210000
DTSTAMP:20260420T061538
CREATED:20251212T233543Z
LAST-MODIFIED:20251212T233543Z
UID:10012611-1774544400-1782421200@www.suo.ca
SUMMARY:Thursday Night Worship Gathering
DESCRIPTION:Thursday nights are our weekly on-campus worship gathering where we engage teachings from the bible around relevant topics for university students. It’s a place where everyone is welcome\, seeking to know Jesus is prioritized\, and authentic relationships are valued.
URL:https://www.suo.ca/event/thursday-night-worship-gathering/2026-03-26/
LOCATION:ASC 130\, UBCO Campus\, 3187 University Way\, Kelowna\, British Columbia\, V1V 1V7\, Canada
CATEGORIES:Student Associations
ATTACH;FMTTYPE=image/png:https://www.suo.ca/wp-content/uploads/2025/11/SAlogo_UniversityCM.png
END:VEVENT
BEGIN:VEVENT
DTSTART;TZID=America/Vancouver:20260402T170000
DTEND;TZID=America/Vancouver:20260702T210000
DTSTAMP:20260420T061538
CREATED:20251212T233543Z
LAST-MODIFIED:20251212T233543Z
UID:10012612-1775149200-1783026000@www.suo.ca
SUMMARY:Thursday Night Worship Gathering
DESCRIPTION:Thursday nights are our weekly on-campus worship gathering where we engage teachings from the bible around relevant topics for university students. It’s a place where everyone is welcome\, seeking to know Jesus is prioritized\, and authentic relationships are valued.
URL:https://www.suo.ca/event/thursday-night-worship-gathering/2026-04-02/
LOCATION:ASC 130\, UBCO Campus\, 3187 University Way\, Kelowna\, British Columbia\, V1V 1V7\, Canada
CATEGORIES:Student Associations
ATTACH;FMTTYPE=image/png:https://www.suo.ca/wp-content/uploads/2025/11/SAlogo_UniversityCM.png
END:VEVENT
BEGIN:VEVENT
DTSTART;TZID=America/Vancouver:20260409T170000
DTEND;TZID=America/Vancouver:20260709T210000
DTSTAMP:20260420T061538
CREATED:20251212T233543Z
LAST-MODIFIED:20251212T233543Z
UID:10012613-1775754000-1783630800@www.suo.ca
SUMMARY:Thursday Night Worship Gathering
DESCRIPTION:Thursday nights are our weekly on-campus worship gathering where we engage teachings from the bible around relevant topics for university students. It’s a place where everyone is welcome\, seeking to know Jesus is prioritized\, and authentic relationships are valued.
URL:https://www.suo.ca/event/thursday-night-worship-gathering/2026-04-09/
LOCATION:ASC 130\, UBCO Campus\, 3187 University Way\, Kelowna\, British Columbia\, V1V 1V7\, Canada
CATEGORIES:Student Associations
ATTACH;FMTTYPE=image/png:https://www.suo.ca/wp-content/uploads/2025/11/SAlogo_UniversityCM.png
END:VEVENT
END:VCALENDAR