BEGIN:VCALENDAR
VERSION:2.0
PRODID:-//Students’ Union Okanagan of UBC - ECPv6.5.0//NONSGML v1.0//EN
CALSCALE:GREGORIAN
METHOD:PUBLISH
X-WR-CALNAME:Students’ Union Okanagan of UBC
X-ORIGINAL-URL:https://www.suo.ca
X-WR-CALDESC:Events for Students’ Union Okanagan of UBC
REFRESH-INTERVAL;VALUE=DURATION:PT1H
X-Robots-Tag:noindex
X-PUBLISHED-TTL:PT1H
BEGIN:VTIMEZONE
TZID:America/Vancouver
BEGIN:DAYLIGHT
TZOFFSETFROM:-0800
TZOFFSETTO:-0700
TZNAME:PDT
DTSTART:20260308T100000
END:DAYLIGHT
BEGIN:STANDARD
TZOFFSETFROM:-0700
TZOFFSETTO:-0800
TZNAME:PST
DTSTART:20261101T090000
END:STANDARD
END:VTIMEZONE
BEGIN:VEVENT
DTSTART;TZID=America/Vancouver:20260326T170000
DTEND;TZID=America/Vancouver:20260625T210000
DTSTAMP:20260420T075751
CREATED:20251212T233543Z
LAST-MODIFIED:20251212T233543Z
UID:10012611-1774544400-1782421200@www.suo.ca
SUMMARY:Thursday Night Worship Gathering
DESCRIPTION:Thursday nights are our weekly on-campus worship gathering where we engage teachings from the bible around relevant topics for university students. It’s a place where everyone is welcome\, seeking to know Jesus is prioritized\, and authentic relationships are valued.
URL:https://www.suo.ca/event/thursday-night-worship-gathering/2026-03-26/
LOCATION:ASC 130\, UBCO Campus\, 3187 University Way\, Kelowna\, British Columbia\, V1V 1V7\, Canada
CATEGORIES:Student Associations
ATTACH;FMTTYPE=image/png:https://www.suo.ca/wp-content/uploads/2025/11/SAlogo_UniversityCM.png
END:VEVENT
BEGIN:VEVENT
DTSTART;TZID=America/Vancouver:20260402T170000
DTEND;TZID=America/Vancouver:20260702T210000
DTSTAMP:20260420T075751
CREATED:20251212T233543Z
LAST-MODIFIED:20251212T233543Z
UID:10012612-1775149200-1783026000@www.suo.ca
SUMMARY:Thursday Night Worship Gathering
DESCRIPTION:Thursday nights are our weekly on-campus worship gathering where we engage teachings from the bible around relevant topics for university students. It’s a place where everyone is welcome\, seeking to know Jesus is prioritized\, and authentic relationships are valued.
URL:https://www.suo.ca/event/thursday-night-worship-gathering/2026-04-02/
LOCATION:ASC 130\, UBCO Campus\, 3187 University Way\, Kelowna\, British Columbia\, V1V 1V7\, Canada
CATEGORIES:Student Associations
ATTACH;FMTTYPE=image/png:https://www.suo.ca/wp-content/uploads/2025/11/SAlogo_UniversityCM.png
END:VEVENT
BEGIN:VEVENT
DTSTART;TZID=America/Vancouver:20260409T170000
DTEND;TZID=America/Vancouver:20260709T210000
DTSTAMP:20260420T075751
CREATED:20251212T233543Z
LAST-MODIFIED:20251212T233543Z
UID:10012613-1775754000-1783630800@www.suo.ca
SUMMARY:Thursday Night Worship Gathering
DESCRIPTION:Thursday nights are our weekly on-campus worship gathering where we engage teachings from the bible around relevant topics for university students. It’s a place where everyone is welcome\, seeking to know Jesus is prioritized\, and authentic relationships are valued.
URL:https://www.suo.ca/event/thursday-night-worship-gathering/2026-04-09/
LOCATION:ASC 130\, UBCO Campus\, 3187 University Way\, Kelowna\, British Columbia\, V1V 1V7\, Canada
CATEGORIES:Student Associations
ATTACH;FMTTYPE=image/png:https://www.suo.ca/wp-content/uploads/2025/11/SAlogo_UniversityCM.png
END:VEVENT
END:VCALENDAR