BEGIN:VCALENDAR
VERSION:2.0
PRODID:-//Students’ Union Okanagan of UBC - ECPv6.5.0//NONSGML v1.0//EN
CALSCALE:GREGORIAN
METHOD:PUBLISH
X-WR-CALNAME:Students’ Union Okanagan of UBC
X-ORIGINAL-URL:https://www.suo.ca
X-WR-CALDESC:Events for Students’ Union Okanagan of UBC
REFRESH-INTERVAL;VALUE=DURATION:PT1H
X-Robots-Tag:noindex
X-PUBLISHED-TTL:PT1H
BEGIN:VTIMEZONE
TZID:America/Vancouver
BEGIN:DAYLIGHT
TZOFFSETFROM:-0800
TZOFFSETTO:-0700
TZNAME:PDT
DTSTART:20230312T100000
END:DAYLIGHT
BEGIN:STANDARD
TZOFFSETFROM:-0700
TZOFFSETTO:-0800
TZNAME:PST
DTSTART:20231105T090000
END:STANDARD
BEGIN:DAYLIGHT
TZOFFSETFROM:-0800
TZOFFSETTO:-0700
TZNAME:PDT
DTSTART:20240310T100000
END:DAYLIGHT
BEGIN:STANDARD
TZOFFSETFROM:-0700
TZOFFSETTO:-0800
TZNAME:PST
DTSTART:20241103T090000
END:STANDARD
BEGIN:DAYLIGHT
TZOFFSETFROM:-0800
TZOFFSETTO:-0700
TZNAME:PDT
DTSTART:20250309T100000
END:DAYLIGHT
BEGIN:STANDARD
TZOFFSETFROM:-0700
TZOFFSETTO:-0800
TZNAME:PST
DTSTART:20251102T090000
END:STANDARD
END:VTIMEZONE
BEGIN:VEVENT
DTSTART;TZID=America/Vancouver:20250221T170000
DTEND;TZID=America/Vancouver:20250221T190000
DTSTAMP:20260419T073615
CREATED:20241212T165334Z
LAST-MODIFIED:20241212T165542Z
UID:10009292-1740157200-1740164400@www.suo.ca
SUMMARY:Weekly Anime Showing
DESCRIPTION:Come join us for some fun anime showings every week to discover a new show\, find the spark to rewatch an old favorite\, or just meet up with fellow anime watchers for some snacks! \nLocation: ART 104
URL:https://www.suo.ca/event/weekly-anime-showing/2025-02-21/
LOCATION:Arts Building\, UBCO Campus\, 1147 Research Road\, Kelowna\, British Columbia\, V1V 1V7\, Canada
CATEGORIES:All Ages,Student Associations
ATTACH;FMTTYPE=image/png:https://www.suo.ca/wp-content/uploads/2023/10/SAlogo_2024_Anime.png
ORGANIZER;CN="Okanagan Anime Club":MAILTO:animemangaclub0923@gmail.com
END:VEVENT
BEGIN:VEVENT
DTSTART;TZID=America/Vancouver:20250214T170000
DTEND;TZID=America/Vancouver:20250214T190000
DTSTAMP:20260419T073615
CREATED:20241212T165334Z
LAST-MODIFIED:20241212T165542Z
UID:10009291-1739552400-1739559600@www.suo.ca
SUMMARY:Weekly Anime Showing
DESCRIPTION:Come join us for some fun anime showings every week to discover a new show\, find the spark to rewatch an old favorite\, or just meet up with fellow anime watchers for some snacks! \nLocation: ART 104
URL:https://www.suo.ca/event/weekly-anime-showing/2025-02-14/
LOCATION:Arts Building\, UBCO Campus\, 1147 Research Road\, Kelowna\, British Columbia\, V1V 1V7\, Canada
CATEGORIES:All Ages,Student Associations
ATTACH;FMTTYPE=image/png:https://www.suo.ca/wp-content/uploads/2023/10/SAlogo_2024_Anime.png
ORGANIZER;CN="Okanagan Anime Club":MAILTO:animemangaclub0923@gmail.com
END:VEVENT
BEGIN:VEVENT
DTSTART;TZID=America/Vancouver:20250207T170000
DTEND;TZID=America/Vancouver:20250207T190000
DTSTAMP:20260419T073615
CREATED:20241212T165334Z
LAST-MODIFIED:20241212T165542Z
UID:10009290-1738947600-1738954800@www.suo.ca
SUMMARY:Weekly Anime Showing
DESCRIPTION:Come join us for some fun anime showings every week to discover a new show\, find the spark to rewatch an old favorite\, or just meet up with fellow anime watchers for some snacks! \nLocation: ART 104
URL:https://www.suo.ca/event/weekly-anime-showing/2025-02-07/
LOCATION:Arts Building\, UBCO Campus\, 1147 Research Road\, Kelowna\, British Columbia\, V1V 1V7\, Canada
CATEGORIES:All Ages,Student Associations
ATTACH;FMTTYPE=image/png:https://www.suo.ca/wp-content/uploads/2023/10/SAlogo_2024_Anime.png
ORGANIZER;CN="Okanagan Anime Club":MAILTO:animemangaclub0923@gmail.com
END:VEVENT
BEGIN:VEVENT
DTSTART;TZID=America/Vancouver:20250131T170000
DTEND;TZID=America/Vancouver:20250131T190000
DTSTAMP:20260419T073615
CREATED:20241212T165334Z
LAST-MODIFIED:20241212T165542Z
UID:10009289-1738342800-1738350000@www.suo.ca
SUMMARY:Weekly Anime Showing
DESCRIPTION:Come join us for some fun anime showings every week to discover a new show\, find the spark to rewatch an old favorite\, or just meet up with fellow anime watchers for some snacks! \nLocation: ART 104
URL:https://www.suo.ca/event/weekly-anime-showing/2025-01-31/
LOCATION:Arts Building\, UBCO Campus\, 1147 Research Road\, Kelowna\, British Columbia\, V1V 1V7\, Canada
CATEGORIES:All Ages,Student Associations
ATTACH;FMTTYPE=image/png:https://www.suo.ca/wp-content/uploads/2023/10/SAlogo_2024_Anime.png
ORGANIZER;CN="Okanagan Anime Club":MAILTO:animemangaclub0923@gmail.com
END:VEVENT
BEGIN:VEVENT
DTSTART;TZID=America/Vancouver:20250124T170000
DTEND;TZID=America/Vancouver:20250124T190000
DTSTAMP:20260419T073615
CREATED:20241212T165334Z
LAST-MODIFIED:20241212T165542Z
UID:10009288-1737738000-1737745200@www.suo.ca
SUMMARY:Weekly Anime Showing
DESCRIPTION:Come join us for some fun anime showings every week to discover a new show\, find the spark to rewatch an old favorite\, or just meet up with fellow anime watchers for some snacks! \nLocation: ART 104
URL:https://www.suo.ca/event/weekly-anime-showing/2025-01-24/
LOCATION:Arts Building\, UBCO Campus\, 1147 Research Road\, Kelowna\, British Columbia\, V1V 1V7\, Canada
CATEGORIES:All Ages,Student Associations
ATTACH;FMTTYPE=image/png:https://www.suo.ca/wp-content/uploads/2023/10/SAlogo_2024_Anime.png
ORGANIZER;CN="Okanagan Anime Club":MAILTO:animemangaclub0923@gmail.com
END:VEVENT
BEGIN:VEVENT
DTSTART;TZID=America/Vancouver:20250117T170000
DTEND;TZID=America/Vancouver:20250117T190000
DTSTAMP:20260419T073615
CREATED:20241212T165334Z
LAST-MODIFIED:20241212T165542Z
UID:10009287-1737133200-1737140400@www.suo.ca
SUMMARY:Weekly Anime Showing
DESCRIPTION:Come join us for some fun anime showings every week to discover a new show\, find the spark to rewatch an old favorite\, or just meet up with fellow anime watchers for some snacks! \nLocation: ART 104
URL:https://www.suo.ca/event/weekly-anime-showing/2025-01-17/
LOCATION:Arts Building\, UBCO Campus\, 1147 Research Road\, Kelowna\, British Columbia\, V1V 1V7\, Canada
CATEGORIES:All Ages,Student Associations
ATTACH;FMTTYPE=image/png:https://www.suo.ca/wp-content/uploads/2023/10/SAlogo_2024_Anime.png
ORGANIZER;CN="Okanagan Anime Club":MAILTO:animemangaclub0923@gmail.com
END:VEVENT
BEGIN:VEVENT
DTSTART;TZID=America/Vancouver:20250110T170000
DTEND;TZID=America/Vancouver:20250110T190000
DTSTAMP:20260419T073615
CREATED:20241212T165334Z
LAST-MODIFIED:20241212T165542Z
UID:10009281-1736528400-1736535600@www.suo.ca
SUMMARY:Weekly Anime Showing
DESCRIPTION:Come join us for some fun anime showings every week to discover a new show\, find the spark to rewatch an old favorite\, or just meet up with fellow anime watchers for some snacks! \nLocation: ART 104
URL:https://www.suo.ca/event/weekly-anime-showing/2025-01-10/
LOCATION:Arts Building\, UBCO Campus\, 1147 Research Road\, Kelowna\, British Columbia\, V1V 1V7\, Canada
CATEGORIES:All Ages,Student Associations
ATTACH;FMTTYPE=image/png:https://www.suo.ca/wp-content/uploads/2023/10/SAlogo_2024_Anime.png
ORGANIZER;CN="Okanagan Anime Club":MAILTO:animemangaclub0923@gmail.com
END:VEVENT
BEGIN:VEVENT
DTSTART;TZID=America/Vancouver:20241202T180000
DTEND;TZID=America/Vancouver:20241202T210000
DTSTAMP:20260419T073615
CREATED:20241107T221011Z
LAST-MODIFIED:20241107T221011Z
UID:10009132-1733162400-1733173200@www.suo.ca
SUMMARY:Christmas Jeopardy
DESCRIPTION:We are hosting a Jeopardy before the finals begin! Join us for a chance to win some awesome prizes and find new friends\, or just come by for some free pizza! \nLocation: FIP 121
URL:https://www.suo.ca/event/christmas-jeopardy/
LOCATION:FIPKE Building\, UBCO Campus\, 3247 University Way\, Kelowna\, British Columbia\, V1V 1V7\, Canada
CATEGORIES:All Ages,Student Associations
ATTACH;FMTTYPE=image/svg+xml:https://www.suo.ca/wp-content/uploads/2021/12/SUO-Logo.svg
ORGANIZER;CN="Okanagan Anime Club":MAILTO:animemangaclub0923@gmail.com
END:VEVENT
BEGIN:VEVENT
DTSTART;TZID=America/Vancouver:20241129T170000
DTEND;TZID=America/Vancouver:20241129T190000
DTSTAMP:20260419T073615
CREATED:20240823T163431Z
LAST-MODIFIED:20240823T163431Z
UID:10007927-1732899600-1732906800@www.suo.ca
SUMMARY:Weekly Anime Showings
DESCRIPTION:Every week\, we will play some games and watch 3 episodes of anime! There will be snacks too!! \nLocation: ART 102
URL:https://www.suo.ca/event/weekly-anime-showings/2024-11-29/
LOCATION:Arts Building\, UBCO Campus\, 1147 Research Road\, Kelowna\, British Columbia\, V1V 1V7\, Canada
CATEGORIES:All Ages,Student Associations
ATTACH;FMTTYPE=image/png:https://www.suo.ca/wp-content/uploads/2023/10/SAlogo_2024_Anime.png
ORGANIZER;CN="Okanagan Anime Club":MAILTO:animemangaclub0923@gmail.com
END:VEVENT
BEGIN:VEVENT
DTSTART;TZID=America/Vancouver:20241122T170000
DTEND;TZID=America/Vancouver:20241122T190000
DTSTAMP:20260419T073615
CREATED:20240823T163431Z
LAST-MODIFIED:20240823T163431Z
UID:10007926-1732294800-1732302000@www.suo.ca
SUMMARY:Weekly Anime Showings
DESCRIPTION:Every week\, we will play some games and watch 3 episodes of anime! There will be snacks too!! \nLocation: ART 102
URL:https://www.suo.ca/event/weekly-anime-showings/2024-11-22/
LOCATION:Arts Building\, UBCO Campus\, 1147 Research Road\, Kelowna\, British Columbia\, V1V 1V7\, Canada
CATEGORIES:All Ages,Student Associations
ATTACH;FMTTYPE=image/png:https://www.suo.ca/wp-content/uploads/2023/10/SAlogo_2024_Anime.png
ORGANIZER;CN="Okanagan Anime Club":MAILTO:animemangaclub0923@gmail.com
END:VEVENT
BEGIN:VEVENT
DTSTART;TZID=America/Vancouver:20241115T170000
DTEND;TZID=America/Vancouver:20241115T190000
DTSTAMP:20260419T073615
CREATED:20240823T163431Z
LAST-MODIFIED:20240823T163431Z
UID:10007925-1731690000-1731697200@www.suo.ca
SUMMARY:Weekly Anime Showings
DESCRIPTION:Every week\, we will play some games and watch 3 episodes of anime! There will be snacks too!! \nLocation: ART 102
URL:https://www.suo.ca/event/weekly-anime-showings/2024-11-15/
LOCATION:Arts Building\, UBCO Campus\, 1147 Research Road\, Kelowna\, British Columbia\, V1V 1V7\, Canada
CATEGORIES:All Ages,Student Associations
ATTACH;FMTTYPE=image/png:https://www.suo.ca/wp-content/uploads/2023/10/SAlogo_2024_Anime.png
ORGANIZER;CN="Okanagan Anime Club":MAILTO:animemangaclub0923@gmail.com
END:VEVENT
BEGIN:VEVENT
DTSTART;TZID=America/Vancouver:20241108T170000
DTEND;TZID=America/Vancouver:20241108T190000
DTSTAMP:20260419T073615
CREATED:20240823T163431Z
LAST-MODIFIED:20240823T163431Z
UID:10007924-1731085200-1731092400@www.suo.ca
SUMMARY:Weekly Anime Showings
DESCRIPTION:Every week\, we will play some games and watch 3 episodes of anime! There will be snacks too!! \nLocation: ART 102
URL:https://www.suo.ca/event/weekly-anime-showings/2024-11-08/
LOCATION:Arts Building\, UBCO Campus\, 1147 Research Road\, Kelowna\, British Columbia\, V1V 1V7\, Canada
CATEGORIES:All Ages,Student Associations
ATTACH;FMTTYPE=image/png:https://www.suo.ca/wp-content/uploads/2023/10/SAlogo_2024_Anime.png
ORGANIZER;CN="Okanagan Anime Club":MAILTO:animemangaclub0923@gmail.com
END:VEVENT
BEGIN:VEVENT
DTSTART;TZID=America/Vancouver:20241101T170000
DTEND;TZID=America/Vancouver:20241101T190000
DTSTAMP:20260419T073615
CREATED:20240823T163431Z
LAST-MODIFIED:20240823T163431Z
UID:10007923-1730480400-1730487600@www.suo.ca
SUMMARY:Weekly Anime Showings
DESCRIPTION:Every week\, we will play some games and watch 3 episodes of anime! There will be snacks too!! \nLocation: ART 102
URL:https://www.suo.ca/event/weekly-anime-showings/2024-11-01/
LOCATION:Arts Building\, UBCO Campus\, 1147 Research Road\, Kelowna\, British Columbia\, V1V 1V7\, Canada
CATEGORIES:All Ages,Student Associations
ATTACH;FMTTYPE=image/png:https://www.suo.ca/wp-content/uploads/2023/10/SAlogo_2024_Anime.png
ORGANIZER;CN="Okanagan Anime Club":MAILTO:animemangaclub0923@gmail.com
END:VEVENT
BEGIN:VEVENT
DTSTART;TZID=America/Vancouver:20241030T180000
DTEND;TZID=America/Vancouver:20241030T213000
DTSTAMP:20260419T073615
CREATED:20241010T180805Z
LAST-MODIFIED:20241010T180805Z
UID:10008461-1730311200-1730323800@www.suo.ca
SUMMARY:Anime Halloween Event
DESCRIPTION:The Okanagan Anime Club will be hosting another one of our well-known Jeopardy parties! Come to our event for Halloween for the chance to win amazing prizes\, or just hang out with some like-minded people (with food too of course)\nAlso\, feel free to dress up\, it could be from an anime\, manga\, game\, or anything in between!!\nWe hope to see you there! \nLocation: FIP 121
URL:https://www.suo.ca/event/anime-halloween-event/
LOCATION:FIPKE Building\, UBCO Campus\, 3247 University Way\, Kelowna\, British Columbia\, V1V 1V7\, Canada
CATEGORIES:All Ages,Student Associations
ATTACH;FMTTYPE=image/png:https://www.suo.ca/wp-content/uploads/2023/10/SAlogo_2024_Anime.png
ORGANIZER;CN="Okanagan Anime Club":MAILTO:animemangaclub0923@gmail.com
END:VEVENT
BEGIN:VEVENT
DTSTART;TZID=America/Vancouver:20241025T170000
DTEND;TZID=America/Vancouver:20241025T190000
DTSTAMP:20260419T073615
CREATED:20240823T163431Z
LAST-MODIFIED:20240823T163431Z
UID:10007922-1729875600-1729882800@www.suo.ca
SUMMARY:Weekly Anime Showings
DESCRIPTION:Every week\, we will play some games and watch 3 episodes of anime! There will be snacks too!! \nLocation: ART 102
URL:https://www.suo.ca/event/weekly-anime-showings/2024-10-25/
LOCATION:Arts Building\, UBCO Campus\, 1147 Research Road\, Kelowna\, British Columbia\, V1V 1V7\, Canada
CATEGORIES:All Ages,Student Associations
ATTACH;FMTTYPE=image/png:https://www.suo.ca/wp-content/uploads/2023/10/SAlogo_2024_Anime.png
ORGANIZER;CN="Okanagan Anime Club":MAILTO:animemangaclub0923@gmail.com
END:VEVENT
BEGIN:VEVENT
DTSTART;TZID=America/Vancouver:20241018T170000
DTEND;TZID=America/Vancouver:20241018T190000
DTSTAMP:20260419T073615
CREATED:20240823T163431Z
LAST-MODIFIED:20240823T163431Z
UID:10007921-1729270800-1729278000@www.suo.ca
SUMMARY:Weekly Anime Showings
DESCRIPTION:Every week\, we will play some games and watch 3 episodes of anime! There will be snacks too!! \nLocation: ART 102
URL:https://www.suo.ca/event/weekly-anime-showings/2024-10-18/
LOCATION:Arts Building\, UBCO Campus\, 1147 Research Road\, Kelowna\, British Columbia\, V1V 1V7\, Canada
CATEGORIES:All Ages,Student Associations
ATTACH;FMTTYPE=image/png:https://www.suo.ca/wp-content/uploads/2023/10/SAlogo_2024_Anime.png
ORGANIZER;CN="Okanagan Anime Club":MAILTO:animemangaclub0923@gmail.com
END:VEVENT
BEGIN:VEVENT
DTSTART;TZID=America/Vancouver:20241011T170000
DTEND;TZID=America/Vancouver:20241011T190000
DTSTAMP:20260419T073615
CREATED:20240823T163431Z
LAST-MODIFIED:20240823T163431Z
UID:10007920-1728666000-1728673200@www.suo.ca
SUMMARY:Weekly Anime Showings
DESCRIPTION:Every week\, we will play some games and watch 3 episodes of anime! There will be snacks too!! \nLocation: ART 102
URL:https://www.suo.ca/event/weekly-anime-showings/2024-10-11/
LOCATION:Arts Building\, UBCO Campus\, 1147 Research Road\, Kelowna\, British Columbia\, V1V 1V7\, Canada
CATEGORIES:All Ages,Student Associations
ATTACH;FMTTYPE=image/png:https://www.suo.ca/wp-content/uploads/2023/10/SAlogo_2024_Anime.png
ORGANIZER;CN="Okanagan Anime Club":MAILTO:animemangaclub0923@gmail.com
END:VEVENT
BEGIN:VEVENT
DTSTART;TZID=America/Vancouver:20241004T170000
DTEND;TZID=America/Vancouver:20241004T190000
DTSTAMP:20260419T073615
CREATED:20240823T163431Z
LAST-MODIFIED:20240823T163431Z
UID:10007919-1728061200-1728068400@www.suo.ca
SUMMARY:Weekly Anime Showings
DESCRIPTION:Every week\, we will play some games and watch 3 episodes of anime! There will be snacks too!! \nLocation: ART 102
URL:https://www.suo.ca/event/weekly-anime-showings/2024-10-04/
LOCATION:Arts Building\, UBCO Campus\, 1147 Research Road\, Kelowna\, British Columbia\, V1V 1V7\, Canada
CATEGORIES:All Ages,Student Associations
ATTACH;FMTTYPE=image/png:https://www.suo.ca/wp-content/uploads/2023/10/SAlogo_2024_Anime.png
ORGANIZER;CN="Okanagan Anime Club":MAILTO:animemangaclub0923@gmail.com
END:VEVENT
BEGIN:VEVENT
DTSTART;TZID=America/Vancouver:20240927T170000
DTEND;TZID=America/Vancouver:20240927T190000
DTSTAMP:20260419T073615
CREATED:20240823T163431Z
LAST-MODIFIED:20240823T163431Z
UID:10007918-1727456400-1727463600@www.suo.ca
SUMMARY:Weekly Anime Showings
DESCRIPTION:Every week\, we will play some games and watch 3 episodes of anime! There will be snacks too!! \nLocation: ART 102
URL:https://www.suo.ca/event/weekly-anime-showings/2024-09-27/
LOCATION:Arts Building\, UBCO Campus\, 1147 Research Road\, Kelowna\, British Columbia\, V1V 1V7\, Canada
CATEGORIES:All Ages,Student Associations
ATTACH;FMTTYPE=image/png:https://www.suo.ca/wp-content/uploads/2023/10/SAlogo_2024_Anime.png
ORGANIZER;CN="Okanagan Anime Club":MAILTO:animemangaclub0923@gmail.com
END:VEVENT
BEGIN:VEVENT
DTSTART;TZID=America/Vancouver:20240920T170000
DTEND;TZID=America/Vancouver:20240920T190000
DTSTAMP:20260419T073615
CREATED:20240823T163431Z
LAST-MODIFIED:20240823T163431Z
UID:10007917-1726851600-1726858800@www.suo.ca
SUMMARY:Weekly Anime Showings
DESCRIPTION:Every week\, we will play some games and watch 3 episodes of anime! There will be snacks too!! \nLocation: ART 102
URL:https://www.suo.ca/event/weekly-anime-showings/2024-09-20/
LOCATION:Arts Building\, UBCO Campus\, 1147 Research Road\, Kelowna\, British Columbia\, V1V 1V7\, Canada
CATEGORIES:All Ages,Student Associations
ATTACH;FMTTYPE=image/png:https://www.suo.ca/wp-content/uploads/2023/10/SAlogo_2024_Anime.png
ORGANIZER;CN="Okanagan Anime Club":MAILTO:animemangaclub0923@gmail.com
END:VEVENT
BEGIN:VEVENT
DTSTART;TZID=America/Vancouver:20240913T170000
DTEND;TZID=America/Vancouver:20240913T190000
DTSTAMP:20260419T073615
CREATED:20240823T163431Z
LAST-MODIFIED:20240823T163431Z
UID:10007916-1726246800-1726254000@www.suo.ca
SUMMARY:Weekly Anime Showings
DESCRIPTION:Every week\, we will play some games and watch 3 episodes of anime! There will be snacks too!! \nLocation: ART 102
URL:https://www.suo.ca/event/weekly-anime-showings/2024-09-13/
LOCATION:Arts Building\, UBCO Campus\, 1147 Research Road\, Kelowna\, British Columbia\, V1V 1V7\, Canada
CATEGORIES:All Ages,Student Associations
ATTACH;FMTTYPE=image/png:https://www.suo.ca/wp-content/uploads/2023/10/SAlogo_2024_Anime.png
ORGANIZER;CN="Okanagan Anime Club":MAILTO:animemangaclub0923@gmail.com
END:VEVENT
BEGIN:VEVENT
DTSTART;TZID=America/Vancouver:20240906T170000
DTEND;TZID=America/Vancouver:20240906T190000
DTSTAMP:20260419T073615
CREATED:20240823T163431Z
LAST-MODIFIED:20240823T163431Z
UID:10007908-1725642000-1725649200@www.suo.ca
SUMMARY:Weekly Anime Showings
DESCRIPTION:Every week\, we will play some games and watch 3 episodes of anime! There will be snacks too!! \nLocation: ART 102
URL:https://www.suo.ca/event/weekly-anime-showings/2024-09-06/
LOCATION:Arts Building\, UBCO Campus\, 1147 Research Road\, Kelowna\, British Columbia\, V1V 1V7\, Canada
CATEGORIES:All Ages,Student Associations
ATTACH;FMTTYPE=image/png:https://www.suo.ca/wp-content/uploads/2023/10/SAlogo_2024_Anime.png
ORGANIZER;CN="Okanagan Anime Club":MAILTO:animemangaclub0923@gmail.com
END:VEVENT
BEGIN:VEVENT
DTSTART;TZID=America/Vancouver:20240323T170000
DTEND;TZID=America/Vancouver:20240323T200000
DTSTAMP:20260419T073615
CREATED:20240307T195432Z
LAST-MODIFIED:20240307T195432Z
UID:10007689-1711213200-1711224000@www.suo.ca
SUMMARY:Jeopardy
DESCRIPTION:Prize-winning activity\, watching Anime\, and snacking. \nLocation: ART 214
URL:https://www.suo.ca/event/jeopardy/
LOCATION:Arts Building\, UBCO Campus\, 1147 Research Road\, Kelowna\, British Columbia\, V1V 1V7\, Canada
CATEGORIES:All Ages,Student Associations
ATTACH;FMTTYPE=image/svg+xml:https://www.suo.ca/wp-content/uploads/2021/12/SUO-Logo.svg
ORGANIZER;CN="Okanagan Anime Club":MAILTO:animemangaclub0923@gmail.com
END:VEVENT
BEGIN:VEVENT
DTSTART;TZID=America/Vancouver:20240315T170000
DTEND;TZID=America/Vancouver:20240315T193000
DTSTAMP:20260419T073615
CREATED:20240212T212641Z
LAST-MODIFIED:20240212T212641Z
UID:10007233-1710522000-1710531000@www.suo.ca
SUMMARY:Bi-weekly anime showing
DESCRIPTION:Everyone gets together to watch anime\, eat snacks\, and play some games. \nLocation: ART 219
URL:https://www.suo.ca/event/bi-weekly-anime-showing-2/2024-03-15/
LOCATION:Arts Building Atrium\, UBCO Campus\, 1147 Research Road\, Kelowna\, British Columbia\, V1V 1V7\, Canada
CATEGORIES:All Ages,Student Associations
ATTACH;FMTTYPE=image/svg+xml:https://www.suo.ca/wp-content/uploads/2021/12/SUO-Logo.svg
ORGANIZER;CN="Okanagan Anime Club":MAILTO:animemangaclub0923@gmail.com
END:VEVENT
BEGIN:VEVENT
DTSTART;TZID=America/Vancouver:20240301T170000
DTEND;TZID=America/Vancouver:20240301T193000
DTSTAMP:20260419T073615
CREATED:20240212T212641Z
LAST-MODIFIED:20240212T212641Z
UID:10007159-1709312400-1709321400@www.suo.ca
SUMMARY:Bi-weekly anime showing
DESCRIPTION:Everyone gets together to watch anime\, eat snacks\, and play some games. \nLocation: ART 219
URL:https://www.suo.ca/event/bi-weekly-anime-showing-2/2024-03-01/
LOCATION:Arts Building Atrium\, UBCO Campus\, 1147 Research Road\, Kelowna\, British Columbia\, V1V 1V7\, Canada
CATEGORIES:All Ages,Student Associations
ATTACH;FMTTYPE=image/svg+xml:https://www.suo.ca/wp-content/uploads/2021/12/SUO-Logo.svg
ORGANIZER;CN="Okanagan Anime Club":MAILTO:animemangaclub0923@gmail.com
END:VEVENT
BEGIN:VEVENT
DTSTART;TZID=America/Vancouver:20231216T170000
DTEND;TZID=America/Vancouver:20231216T200000
DTSTAMP:20260419T073615
CREATED:20231213T190822Z
LAST-MODIFIED:20231214T173523Z
UID:10006325-1702746000-1702756800@www.suo.ca
SUMMARY:Christmas Cinema Night
DESCRIPTION:Come join the Anime and Manga Club in a Christmas movie screening! They will be screening an anime film\, Tokyo Godfathers\, directed by Satoshi Kon. It tells a heartwarming and poignant story on a snowy Christmas Eve in Tokyo. \nFree entry and food & snacks provided. \nLocation: ART 114
URL:https://www.suo.ca/event/christmas-cinema-night/
LOCATION:Arts Building\, UBCO Campus\, 1147 Research Road\, Kelowna\, British Columbia\, V1V 1V7\, Canada
CATEGORIES:All Ages,Student Associations
ATTACH;FMTTYPE=image/png:https://www.suo.ca/wp-content/uploads/2023/12/Poster_sizeCorrected.png
ORGANIZER;CN="Okanagan Anime Club":MAILTO:animemangaclub0923@gmail.com
END:VEVENT
END:VCALENDAR