BEGIN:VCALENDAR
VERSION:2.0
PRODID:-//Students’ Union Okanagan of UBC - ECPv6.5.0//NONSGML v1.0//EN
CALSCALE:GREGORIAN
METHOD:PUBLISH
X-ORIGINAL-URL:https://www.suo.ca
X-WR-CALDESC:Events for Students’ Union Okanagan of UBC
REFRESH-INTERVAL;VALUE=DURATION:PT1H
X-Robots-Tag:noindex
X-PUBLISHED-TTL:PT1H
BEGIN:VTIMEZONE
TZID:America/Vancouver
BEGIN:DAYLIGHT
TZOFFSETFROM:-0800
TZOFFSETTO:-0700
TZNAME:PDT
DTSTART:20230312T100000
END:DAYLIGHT
BEGIN:STANDARD
TZOFFSETFROM:-0700
TZOFFSETTO:-0800
TZNAME:PST
DTSTART:20231105T090000
END:STANDARD
BEGIN:DAYLIGHT
TZOFFSETFROM:-0800
TZOFFSETTO:-0700
TZNAME:PDT
DTSTART:20240310T100000
END:DAYLIGHT
BEGIN:STANDARD
TZOFFSETFROM:-0700
TZOFFSETTO:-0800
TZNAME:PST
DTSTART:20241103T090000
END:STANDARD
END:VTIMEZONE
BEGIN:VEVENT
DTSTART;TZID=America/Vancouver:20240228T180000
DTEND;TZID=America/Vancouver:20240228T210000
DTSTAMP:20260419T092149
CREATED:20240216T164525Z
LAST-MODIFIED:20240216T164525Z
UID:10007226-1709143200-1709154000@www.suo.ca
SUMMARY:Blind Date with a Book
DESCRIPTION:Everyone will get the chance to submit a genre of book that they have always wanted to read! On the day of the event book lovers will get the chance to pick a mysterious book and play fun games to get the book of their choice. Snacks will be provided. \nLocation: EME global collegium
URL:https://www.suo.ca/event/blind-date-with-a-book/
LOCATION:EME Building\, UBCO Campus\, 1137 Alumni Avenue\, Kelowna\, British Columbia\, V1V 1V7\, Canada
CATEGORIES:All Ages,Student Associations
ATTACH;FMTTYPE=image/svg+xml:https://www.suo.ca/wp-content/uploads/2021/12/SUO-Logo.svg
ORGANIZER;CN="Book Club":MAILTO:bclubv1v@gmail.com
END:VEVENT
BEGIN:VEVENT
DTSTART;TZID=America/Vancouver:20231123T190000
DTEND;TZID=America/Vancouver:20231123T220000
DTSTAMP:20260419T092149
CREATED:20231110T183027Z
LAST-MODIFIED:20231120T220305Z
UID:10006101-1700766000-1700776800@www.suo.ca
SUMMARY:Book Club Movie Night
DESCRIPTION:Join the book club for a fun night at the movies. We will be screening Diary of a Wimpy Kid: Rodrick Rules. Snacks and drinks will be available for purchase. Those who come to the event will be entered into a giveaway for a $20 UBC bookstore gift card. \nGet your tickets here \n  \nLocation: Library 305 \n 
URL:https://www.suo.ca/event/book-club-movie-night/
LOCATION:Library\, UBCO Campus\, 3287 University Way\, Kelowna\, British Columbia\, V1V 1V7\, Canada
CATEGORIES:All Ages,Student Associations
ATTACH;FMTTYPE=image/png:https://www.suo.ca/wp-content/uploads/2023/11/moviereel_book_club.png
ORGANIZER;CN="Book Club":MAILTO:bclubv1v@gmail.com
END:VEVENT
BEGIN:VEVENT
DTSTART;TZID=America/Vancouver:20231109T110000
DTEND;TZID=America/Vancouver:20231109T150000
DTSTAMP:20260419T092149
CREATED:20231027T194513Z
LAST-MODIFIED:20231027T194513Z
UID:10005961-1699527600-1699542000@www.suo.ca
SUMMARY:Bake Sale and Book Swap
DESCRIPTION:We will be raising money to donate to a selected charity by selling baked goods. We will also be collecting books for people to swap out with their own books\, just take\, or leave books. \nLocation: EME 0020
URL:https://www.suo.ca/event/bake-sale-and-book-swap/
LOCATION:EME Building\, UBCO Campus\, 1137 Alumni Avenue\, Kelowna\, British Columbia\, V1V 1V7\, Canada
CATEGORIES:All Ages,Student Associations
ATTACH;FMTTYPE=image/svg+xml:https://www.suo.ca/wp-content/uploads/2021/12/SUO-Logo.svg
ORGANIZER;CN="Book Club":MAILTO:bclubv1v@gmail.com
END:VEVENT
BEGIN:VEVENT
DTSTART;TZID=America/Vancouver:20230411T140000
DTEND;TZID=America/Vancouver:20230411T170000
DTSTAMP:20260419T092149
CREATED:20230327T205048Z
LAST-MODIFIED:20230327T205048Z
UID:10003430-1681221600-1681232400@www.suo.ca
SUMMARY:Book Club Bake Sale
DESCRIPTION:The Book Club is hosting a bake sale to raise money for the Okanagan Regional Library System. There we will be selling brownies\, cookies\, and rice Krispie’s! \n  \nLocated: UNC 001 Foyer
URL:https://www.suo.ca/event/book-club-bake-sale/
LOCATION:UNC Foyer\, UBCO Campus\, 3272 University Way\, Kelowna\, British Columbia\, V1V 1V7\, Canada
CATEGORIES:All Ages,Student Associations
ATTACH;FMTTYPE=image/svg+xml:https://www.suo.ca/wp-content/uploads/2021/12/SUO-Logo.svg
ORGANIZER;CN="Book Club":MAILTO:bclubv1v@gmail.com
END:VEVENT
END:VCALENDAR