BEGIN:VCALENDAR
VERSION:2.0
PRODID:-//Students’ Union Okanagan of UBC - ECPv6.5.0//NONSGML v1.0//EN
CALSCALE:GREGORIAN
METHOD:PUBLISH
X-ORIGINAL-URL:https://www.suo.ca
X-WR-CALDESC:Events for Students’ Union Okanagan of UBC
REFRESH-INTERVAL;VALUE=DURATION:PT1H
X-Robots-Tag:noindex
X-PUBLISHED-TTL:PT1H
BEGIN:VTIMEZONE
TZID:America/Vancouver
BEGIN:DAYLIGHT
TZOFFSETFROM:-0800
TZOFFSETTO:-0700
TZNAME:PDT
DTSTART:20210314T100000
END:DAYLIGHT
BEGIN:STANDARD
TZOFFSETFROM:-0700
TZOFFSETTO:-0800
TZNAME:PST
DTSTART:20211107T090000
END:STANDARD
END:VTIMEZONE
BEGIN:VEVENT
DTSTART;TZID=America/Vancouver:20211202T190000
DTEND;TZID=America/Vancouver:20211202T210000
DTSTAMP:20260420T080638
CREATED:20211124T204710Z
LAST-MODIFIED:20211124T204710Z
UID:10002244-1638471600-1638478800@www.suo.ca
SUMMARY:Gay Movie Night
DESCRIPTION:It’s a holiday movie night with a queer-focused film. \nRegister by email: ubcoengiqueers@gmail.com
URL:https://www.suo.ca/event/gay-movie-night/
LOCATION:UNC200 Ballroom\, 3272 University Way\, UNC200\, Kelowna\, British Columbia\, V1V 1V7\, Canada
ORGANIZER;CN="Engiqueers":MAILTO:ubcoengiqueers@gmail.com
END:VEVENT
END:VCALENDAR