BEGIN:VCALENDAR
VERSION:2.0
PRODID:-//Students’ Union Okanagan of UBC - ECPv6.5.0//NONSGML v1.0//EN
CALSCALE:GREGORIAN
METHOD:PUBLISH
X-ORIGINAL-URL:https://www.suo.ca
X-WR-CALDESC:Events for Students’ Union Okanagan of UBC
REFRESH-INTERVAL;VALUE=DURATION:PT1H
X-Robots-Tag:noindex
X-PUBLISHED-TTL:PT1H
BEGIN:VTIMEZONE
TZID:America/Vancouver
BEGIN:DAYLIGHT
TZOFFSETFROM:-0800
TZOFFSETTO:-0700
TZNAME:PDT
DTSTART:20230312T100000
END:DAYLIGHT
BEGIN:STANDARD
TZOFFSETFROM:-0700
TZOFFSETTO:-0800
TZNAME:PST
DTSTART:20231105T090000
END:STANDARD
END:VTIMEZONE
BEGIN:VEVENT
DTSTART;TZID=America/Vancouver:20230209T184500
DTEND;TZID=America/Vancouver:20230209T201500
DTSTAMP:20260422T021042
CREATED:20221221T202022Z
LAST-MODIFIED:20221221T202022Z
UID:10002899-1675968300-1675973700@www.suo.ca
SUMMARY:Workshop: Intro to Olympic Weightlifting
DESCRIPTION:With this workshop\, members will learn the basics of Olympic Weightlifting: the Snatch and Clean & Jerk and practice movement patterns with Temenos Athletics.
URL:https://www.suo.ca/event/workshop-intro-to-olympic-weightlifting/
LOCATION:Temenos Athletics\, 1155 St Paul St\, Kelowna\, British Columbia\, V1Y 2C6\, Canada
CATEGORIES:All Ages,Student Associations
ATTACH;FMTTYPE=image/png:https://www.suo.ca/wp-content/uploads/2022/10/Student-Association-Event.png
ORGANIZER;CN="Girls Who Lift":MAILTO:girlswholiftsuo@gmail.com
END:VEVENT
BEGIN:VEVENT
DTSTART;TZID=America/Vancouver:20230129T150000
DTEND;TZID=America/Vancouver:20230129T163000
DTSTAMP:20260422T021042
CREATED:20221221T201644Z
LAST-MODIFIED:20221221T201644Z
UID:10002898-1675004400-1675009800@www.suo.ca
SUMMARY:Workshop: Intro to Powerlifting
DESCRIPTION:With this workshop\, members will learn the basics of powerlifting\, the Squat\, Bench and Deadlift and practice movement patterns with Laura J Evans of TWP Fitness.
URL:https://www.suo.ca/event/workshop-intro-to-powerlifting/
LOCATION:TWP Fitness\, 109 - 1851 Kirschner Road\, Kelowna\, British Columbia\, V1Y 4N7\, Canada
CATEGORIES:All Ages,Student Associations
ATTACH;FMTTYPE=image/png:https://www.suo.ca/wp-content/uploads/2022/10/Student-Association-Event.png
ORGANIZER;CN="Girls Who Lift":MAILTO:girlswholiftsuo@gmail.com
END:VEVENT
BEGIN:VEVENT
DTSTART;TZID=America/Vancouver:20230119T184500
DTEND;TZID=America/Vancouver:20230119T194500
DTSTAMP:20260422T021042
CREATED:20221215T192106Z
LAST-MODIFIED:20221215T192106Z
UID:10002889-1674153900-1674157500@www.suo.ca
SUMMARY:Intro to Lifting: Learn to Deadlift
DESCRIPTION:Girls Who Lift @ UBCO presents our first workshop of the semester in collaboration with Temenos Athletics. With this movement-based workshop\, members will learn the basics of the deadlift\, both conventional and sumo style\, practice their movement and test their maxes at the end!
URL:https://www.suo.ca/event/intro-to-lifting-learn-to-deadlift/
LOCATION:Temenos Athletics\, 1155 St Paul St\, Kelowna\, British Columbia\, V1Y 2C6\, Canada
CATEGORIES:All Ages,Student Associations
ATTACH;FMTTYPE=image/jpeg:https://www.suo.ca/wp-content/uploads/2022/07/SUO-Student-Associations.jpg
ORGANIZER;CN="Girls Who Lift":MAILTO:girlswholiftsuo@gmail.com
END:VEVENT
END:VCALENDAR