BEGIN:VCALENDAR
VERSION:2.0
PRODID:-//Students’ Union Okanagan of UBC - ECPv6.5.0//NONSGML v1.0//EN
CALSCALE:GREGORIAN
METHOD:PUBLISH
X-ORIGINAL-URL:https://www.suo.ca
X-WR-CALDESC:Events for Students’ Union Okanagan of UBC
REFRESH-INTERVAL;VALUE=DURATION:PT1H
X-Robots-Tag:noindex
X-PUBLISHED-TTL:PT1H
BEGIN:VTIMEZONE
TZID:America/Vancouver
BEGIN:DAYLIGHT
TZOFFSETFROM:-0800
TZOFFSETTO:-0700
TZNAME:PDT
DTSTART:20230312T100000
END:DAYLIGHT
BEGIN:STANDARD
TZOFFSETFROM:-0700
TZOFFSETTO:-0800
TZNAME:PST
DTSTART:20231105T090000
END:STANDARD
END:VTIMEZONE
BEGIN:VEVENT
DTSTART;TZID=America/Vancouver:20230304T150000
DTEND;TZID=America/Vancouver:20230304T230000
DTSTAMP:20260420T025915
CREATED:20230206T214636Z
LAST-MODIFIED:20230206T214636Z
UID:10003178-1677942000-1677970800@www.suo.ca
SUMMARY:Graduate Student Cultural Night
DESCRIPTION:The UBCO graduate student facilitators\, along with the SUO Graduate Student Committee and Engineering Graduate Student Society\, are hosting a graduate student cultural night\, where you can come and represent your own culture or get to know the people from all the variety of cultures present on campus. \n  \nLocated: UNC 200 Ballroom
URL:https://www.suo.ca/event/graduate-student-cultural-night/
LOCATION:UNC 200 Ballroom\, 3272 University Way\, UNC200\, Kelowna\, British Columbia\, V1V 1V7\, Canada
CATEGORIES:All Ages,Student Associations
ATTACH;FMTTYPE=image/png:https://www.suo.ca/wp-content/uploads/2021/10/suo-logo-for-posters_light_background.png
ORGANIZER;CN="Graduate Student Committee":MAILTO:graduate.representative@suo.ca
END:VEVENT
END:VCALENDAR