BEGIN:VCALENDAR
VERSION:2.0
PRODID:-//Students’ Union Okanagan of UBC - ECPv6.5.0//NONSGML v1.0//EN
CALSCALE:GREGORIAN
METHOD:PUBLISH
X-ORIGINAL-URL:https://www.suo.ca
X-WR-CALDESC:Events for Students’ Union Okanagan of UBC
REFRESH-INTERVAL;VALUE=DURATION:PT1H
X-Robots-Tag:noindex
X-PUBLISHED-TTL:PT1H
BEGIN:VTIMEZONE
TZID:America/Vancouver
BEGIN:DAYLIGHT
TZOFFSETFROM:-0800
TZOFFSETTO:-0700
TZNAME:PDT
DTSTART:20220313T100000
END:DAYLIGHT
BEGIN:STANDARD
TZOFFSETFROM:-0700
TZOFFSETTO:-0800
TZNAME:PST
DTSTART:20221106T090000
END:STANDARD
BEGIN:DAYLIGHT
TZOFFSETFROM:-0800
TZOFFSETTO:-0700
TZNAME:PDT
DTSTART:20230312T100000
END:DAYLIGHT
BEGIN:STANDARD
TZOFFSETFROM:-0700
TZOFFSETTO:-0800
TZNAME:PST
DTSTART:20231105T090000
END:STANDARD
BEGIN:DAYLIGHT
TZOFFSETFROM:-0800
TZOFFSETTO:-0700
TZNAME:PDT
DTSTART:20240310T100000
END:DAYLIGHT
BEGIN:STANDARD
TZOFFSETFROM:-0700
TZOFFSETTO:-0800
TZNAME:PST
DTSTART:20241103T090000
END:STANDARD
END:VTIMEZONE
BEGIN:VEVENT
DTSTART;TZID=America/Vancouver:20240315T180000
DTEND;TZID=America/Vancouver:20240315T180000
DTSTAMP:20260420T173031
CREATED:20240314T214230Z
LAST-MODIFIED:20240314T214230Z
UID:10007763-1710525600-1710525600@www.suo.ca
SUMMARY:Human Kinetics Grad Celebration 2024
DESCRIPTION:We are hoping to host a grad banquet for all graduating Human Kinetics students on March 15th/ 2024 at the Laurel Packinghouse. \nGet your tickets here! \n 
URL:https://www.suo.ca/event/human-kinetics-grad-celebration-2024/
LOCATION:Laurel Packinghouse\, 1304 E\, Kelowna\, British Columbia\, Canada
CATEGORIES:All Ages,Student Associations
ATTACH;FMTTYPE=image/svg+xml:https://www.suo.ca/wp-content/uploads/2021/12/SUO-Logo.svg
ORGANIZER;CN="Human Kinetics Student Association":MAILTO:ubc.okanagan.hksu@gmail.com
END:VEVENT
BEGIN:VEVENT
DTSTART;TZID=America/Vancouver:20230413T180000
DTEND;TZID=America/Vancouver:20230413T200000
DTSTAMP:20260420T173031
CREATED:20230403T171848Z
LAST-MODIFIED:20230403T171848Z
UID:10003440-1681408800-1681416000@www.suo.ca
SUMMARY:HKSA AGM
DESCRIPTION:HKSA Annual General Meeting \n  \nLocated: ART 114
URL:https://www.suo.ca/event/hksa-agm/
LOCATION:Arts Building\, UBCO Campus\, 1147 Research Road\, Kelowna\, British Columbia\, V1V 1V7\, Canada
CATEGORIES:All Ages,Student Associations
ATTACH;FMTTYPE=image/svg+xml:https://www.suo.ca/wp-content/uploads/2021/12/SUO-Logo.svg
ORGANIZER;CN="Human Kinetics Student Association":MAILTO:ubc.okanagan.hksu@gmail.com
END:VEVENT
BEGIN:VEVENT
DTSTART;TZID=America/Vancouver:20230403T183000
DTEND;TZID=America/Vancouver:20230403T203000
DTSTAMP:20260420T173031
CREATED:20230302T213420Z
LAST-MODIFIED:20230302T213420Z
UID:10003294-1680546600-1680553800@www.suo.ca
SUMMARY:HKSA Career Night
DESCRIPTION:Human Kinetics Student Association and the HES Peer Leaders will be hosting a Career night with 6 Health and Exercise Professionals. Food and beverages will be provided. This is an excellent networking opportunity for students! \n  \nLocated: UNC 200 ballroom
URL:https://www.suo.ca/event/hksa-career-night/
LOCATION:UNC 200 Ballroom\, 3272 University Way\, UNC200\, Kelowna\, British Columbia\, V1V 1V7\, Canada
CATEGORIES:All Ages,Student Associations
ORGANIZER;CN="Human Kinetics Student Association":MAILTO:ubc.okanagan.hksu@gmail.com
END:VEVENT
BEGIN:VEVENT
DTSTART;TZID=America/Vancouver:20221126T190000
DTEND;TZID=America/Vancouver:20221126T235900
DTSTAMP:20260420T173031
CREATED:20221114T200328Z
LAST-MODIFIED:20221114T200355Z
UID:10002439-1669489200-1669507140@www.suo.ca
SUMMARY:HKSA KBC Burger and Beer night
DESCRIPTION:KBC Burger and Beer night! Tickets are limited to Human Kinetics (and/or HES) students only. Tickets are $15 each\, which will cover 1 drink and 1 burger and a $5 donation to the Movember fundraiser. This is a 19+ event as it is held at a bar. \n  \nLocated: Kelowna brewing Company.
URL:https://www.suo.ca/event/hksa-kbc-burger-and-beer-night/
LOCATION:Kelowna Brewing Company\, #121-975 Academy way\, Kelowna\, British Columbia\, Canada
CATEGORIES:19+,Student Associations
ORGANIZER;CN="Human Kinetics Student Association":MAILTO:ubc.okanagan.hksu@gmail.com
END:VEVENT
BEGIN:VEVENT
DTSTART;TZID=America/Vancouver:20220610T190000
DTEND;TZID=America/Vancouver:20220611T010000
DTSTAMP:20260420T173031
CREATED:20220502T214841Z
LAST-MODIFIED:20220502T214841Z
UID:10002105-1654887600-1654909200@www.suo.ca
SUMMARY:HKSA Grad Gala 2022
DESCRIPTION:Year-end celebration for the HK graduating class of 2022. \nTickets on Eventbrite!
URL:https://www.suo.ca/event/hksa-grad-gala-2022/
LOCATION:Hyatt Place\, 1915 Enterprise Way\, Kelowna\, British Columbia\, V1Y 9S9\, Canada
CATEGORIES:All Ages,Student Associations
ATTACH;FMTTYPE=image/svg+xml:https://www.suo.ca/wp-content/uploads/2021/12/SUO-Logo.svg
ORGANIZER;CN="Human Kinetics Student Association":MAILTO:ubc.okanagan.hksu@gmail.com
END:VEVENT
BEGIN:VEVENT
DTSTART;TZID=America/Vancouver:20220423T090000
DTEND;TZID=America/Vancouver:20220423T170000
DTSTAMP:20260420T173031
CREATED:20220420T211423Z
LAST-MODIFIED:20220420T211423Z
UID:10002103-1650704400-1650733200@www.suo.ca
SUMMARY:Sports Med Taping course
DESCRIPTION:In partnership with UBC-O Human Kinetics Association\, this course will cover taping techniques used in a sport setting through a combination of lecture and practical sessions. Safety considerations\, preventative and supportive techniques will be discussed. Participants will be introduced to procedures for the ankle\, knee\, hip\, elbow\, wrist\, fingers and thumb. \nParticipants are encouraged to wear athletic attire during this course (Shorts and t-shirt) \n* A certificate of completion will be issued. This course is approved for 7.0 BCRPA and 7.0 PE/A2 CMTBC Continuing Education Credits. \nDate: Saturday\, April 23\, 2022 \nTime: 9am – 5pm \nLocation: UBC-O Campus | Room: SCI333 \nRegistration Fee: $170.00 (+GST) \nDallas Tilley\nContact Email: safetyevents.coordinator@sportmedbc.com\n604-294-3050 ext 101 \nNOTE TO CURRENT HK STUDENTS; \nSportMedBC will take all the registration for the course\, through the following link ( \nAthletic Taping Course – Kelowna | SportMedBC\n). The course amount is posted at $170+GST. When any current UBC students register for the course\, use the following discount code “UBCOSTUDENT2022” in the “comments” section on the checkout page\, which provides a 25% discount on the full price. This reimbursement will be processed 2-3 business days after the initial purchase of their course registration.
URL:https://www.suo.ca/event/sports-med-taping-course/
LOCATION:Science Building\, UBCO Campus\, 1177 Research Road\, Kelowna\, British Columbia\, V1V 1V7\, Canada
CATEGORIES:All Ages,Student Associations
ATTACH;FMTTYPE=image/svg+xml:https://www.suo.ca/wp-content/uploads/2021/12/SUO-Logo.svg
ORGANIZER;CN="Human Kinetics Student Association":MAILTO:ubc.okanagan.hksu@gmail.com
END:VEVENT
END:VCALENDAR