BEGIN:VCALENDAR
VERSION:2.0
PRODID:-//Students’ Union Okanagan of UBC - ECPv6.5.0//NONSGML v1.0//EN
CALSCALE:GREGORIAN
METHOD:PUBLISH
X-ORIGINAL-URL:https://www.suo.ca
X-WR-CALDESC:Events for Students’ Union Okanagan of UBC
REFRESH-INTERVAL;VALUE=DURATION:PT1H
X-Robots-Tag:noindex
X-PUBLISHED-TTL:PT1H
BEGIN:VTIMEZONE
TZID:America/Vancouver
BEGIN:DAYLIGHT
TZOFFSETFROM:-0800
TZOFFSETTO:-0700
TZNAME:PDT
DTSTART:20240310T100000
END:DAYLIGHT
BEGIN:STANDARD
TZOFFSETFROM:-0700
TZOFFSETTO:-0800
TZNAME:PST
DTSTART:20241103T090000
END:STANDARD
END:VTIMEZONE
BEGIN:VEVENT
DTSTART;TZID=America/Vancouver:20241025T183000
DTEND;TZID=America/Vancouver:20241025T210000
DTSTAMP:20260420T095921
CREATED:20241021T164254Z
LAST-MODIFIED:20241021T164254Z
UID:10008429-1729881000-1729890000@www.suo.ca
SUMMARY:The Revolution Will Be Zined: A Workshop on Self-Publication for Liberation.
DESCRIPTION:Community members will develop their political and critical voice through a revolutionary medium: the Zine. We’ll provide the materials and a rundown on how to make a zine. \nLocation: UNC 336
URL:https://www.suo.ca/event/the-revolution-will-be-zined-a-workshop-on-self-publication-for-liberation/
LOCATION:UBCO Campus\, 3333 University Way\, Kelowna\, British Columbia\, V1V 1V7\, Canada
CATEGORIES:All Ages,Student Associations
ATTACH;FMTTYPE=image/svg+xml:https://www.suo.ca/wp-content/uploads/2021/12/SUO-Logo.svg
ORGANIZER;CN="Lesbians for Livable Futures":MAILTO:lesbians4liveablefutures@gmail.com
END:VEVENT
END:VCALENDAR