BEGIN:VCALENDAR
VERSION:2.0
PRODID:-//Students’ Union Okanagan of UBC - ECPv6.5.0//NONSGML v1.0//EN
CALSCALE:GREGORIAN
METHOD:PUBLISH
X-ORIGINAL-URL:https://www.suo.ca
X-WR-CALDESC:Events for Students’ Union Okanagan of UBC
REFRESH-INTERVAL;VALUE=DURATION:PT1H
X-Robots-Tag:noindex
X-PUBLISHED-TTL:PT1H
BEGIN:VTIMEZONE
TZID:America/Vancouver
BEGIN:DAYLIGHT
TZOFFSETFROM:-0800
TZOFFSETTO:-0700
TZNAME:PDT
DTSTART:20230312T100000
END:DAYLIGHT
BEGIN:STANDARD
TZOFFSETFROM:-0700
TZOFFSETTO:-0800
TZNAME:PST
DTSTART:20231105T090000
END:STANDARD
BEGIN:DAYLIGHT
TZOFFSETFROM:-0800
TZOFFSETTO:-0700
TZNAME:PDT
DTSTART:20240310T100000
END:DAYLIGHT
BEGIN:STANDARD
TZOFFSETFROM:-0700
TZOFFSETTO:-0800
TZNAME:PST
DTSTART:20241103T090000
END:STANDARD
END:VTIMEZONE
BEGIN:VEVENT
DTSTART;TZID=America/Vancouver:20241113T070000
DTEND;TZID=America/Vancouver:20241113T190000
DTSTAMP:20260419T055456
CREATED:20241017T192222Z
LAST-MODIFIED:20241021T173511Z
UID:10008987-1731481200-1731524400@www.suo.ca
SUMMARY:Calgary Business Trip (CBT)
DESCRIPTION:On the Calgary Business Trip\, students will have the valuable opportunity to meet and network with industry professionals\, gain insights into various fields\, and explore different career paths based on their interests. The trip will take place from November 11th to 14th and offers an exceptional learning experience for all participants. \n 
URL:https://www.suo.ca/event/calgary-business-trip-cbt/2024-11-13/
CATEGORIES:All Ages,Student Associations
ATTACH;FMTTYPE=image/jpeg:https://www.suo.ca/wp-content/uploads/2021/08/MSA-logo.jpg
ORGANIZER;CN="Management Student Association (MSA)":MAILTO:internal@msasuo.ca
END:VEVENT
BEGIN:VEVENT
DTSTART;TZID=America/Vancouver:20241112T070000
DTEND;TZID=America/Vancouver:20241112T190000
DTSTAMP:20260419T055456
CREATED:20241017T192222Z
LAST-MODIFIED:20241021T173511Z
UID:10008986-1731394800-1731438000@www.suo.ca
SUMMARY:Calgary Business Trip (CBT)
DESCRIPTION:On the Calgary Business Trip\, students will have the valuable opportunity to meet and network with industry professionals\, gain insights into various fields\, and explore different career paths based on their interests. The trip will take place from November 11th to 14th and offers an exceptional learning experience for all participants. \n 
URL:https://www.suo.ca/event/calgary-business-trip-cbt/2024-11-12/
CATEGORIES:All Ages,Student Associations
ATTACH;FMTTYPE=image/jpeg:https://www.suo.ca/wp-content/uploads/2021/08/MSA-logo.jpg
ORGANIZER;CN="Management Student Association (MSA)":MAILTO:internal@msasuo.ca
END:VEVENT
BEGIN:VEVENT
DTSTART;TZID=America/Vancouver:20241111T070000
DTEND;TZID=America/Vancouver:20241111T190000
DTSTAMP:20260419T055456
CREATED:20241017T192222Z
LAST-MODIFIED:20241021T173511Z
UID:10008395-1731308400-1731351600@www.suo.ca
SUMMARY:Calgary Business Trip (CBT)
DESCRIPTION:On the Calgary Business Trip\, students will have the valuable opportunity to meet and network with industry professionals\, gain insights into various fields\, and explore different career paths based on their interests. The trip will take place from November 11th to 14th and offers an exceptional learning experience for all participants. \n 
URL:https://www.suo.ca/event/calgary-business-trip-cbt/2024-11-11/
CATEGORIES:All Ages,Student Associations
ATTACH;FMTTYPE=image/jpeg:https://www.suo.ca/wp-content/uploads/2021/08/MSA-logo.jpg
ORGANIZER;CN="Management Student Association (MSA)":MAILTO:internal@msasuo.ca
END:VEVENT
BEGIN:VEVENT
DTSTART;TZID=America/Vancouver:20241020T120000
DTEND;TZID=America/Vancouver:20241020T150000
DTSTAMP:20260419T055456
CREATED:20241017T174313Z
LAST-MODIFIED:20241017T174313Z
UID:10008503-1729425600-1729436400@www.suo.ca
SUMMARY:Finance Club study help for MGMT 310
DESCRIPTION:The Finance Club is holding a free study session with volunteer tutors to help students that are studying for their MGMT 310 midterm. \nLocation: ART 102
URL:https://www.suo.ca/event/finance-club-study-help-for-mgmt-310/
LOCATION:Arts Building\, UBCO Campus\, 1147 Research Road\, Kelowna\, British Columbia\, V1V 1V7\, Canada
CATEGORIES:All Ages,Student Associations
ATTACH;FMTTYPE=image/svg+xml:https://www.suo.ca/wp-content/uploads/2021/12/SUO-Logo.svg
ORGANIZER;CN="Management Student Association (MSA)":MAILTO:internal@msasuo.ca
END:VEVENT
BEGIN:VEVENT
DTSTART;TZID=America/Vancouver:20240929T090000
DTEND;TZID=America/Vancouver:20240929T170000
DTSTAMP:20260419T055456
CREATED:20240905T210829Z
LAST-MODIFIED:20240905T210829Z
UID:10007939-1727600400-1727629200@www.suo.ca
SUMMARY:Suits & Skirts
DESCRIPTION:Join us on Sunday\, September 29th\, for the Suits & Skirts Wine Tour\, which includes visits to 4 wineries\, lunch at Downtown Kelowna along with transportation provided by the MSA. Tickets are limited to 40 and exclusive to Management students only! Check back for more details! \n  \n 
URL:https://www.suo.ca/event/suits-skirts/
LOCATION:UBCO\, 3333 University Way\, Kelowna\, British Columbia\, Canada
CATEGORIES:All Ages,Student Associations
ATTACH;FMTTYPE=image/jpeg:https://www.suo.ca/wp-content/uploads/2021/08/MSA-logo.jpg
ORGANIZER;CN="Management Student Association (MSA)":MAILTO:internal@msasuo.ca
END:VEVENT
BEGIN:VEVENT
DTSTART;TZID=America/Vancouver:20240908T130000
DTEND;TZID=America/Vancouver:20240908T200000
DTSTAMP:20260419T055456
CREATED:20240820T160807Z
LAST-MODIFIED:20240820T160807Z
UID:10007909-1725800400-1725825600@www.suo.ca
SUMMARY:MSA Soccer Tournament
DESCRIPTION:The Management Student Association (MSA) is hosting a charity soccer tournament to raise funds for cancer and oncology research in support of BC Children’s Hospital. This knockout-style event offers teams the chance to compete for a prize pool of $1\,000. All proceeds from the tournament will go straight to the cause. \nCause/Charity: BC Children’s Hospital is the province’s only full-service\, acute \ncare hospital dedicated to serving the medical needs of one million children living in BC and the\nYukon. It is the only pediatric teaching hospital in BC that provides highly specialized training to the\nmedical professionals of tomorrow. \nI encourage you to watch the “ Meet out Kids” videos\, including Rylie’s story.\, Nick and Evelyn. These stories powerfully highlight the impact of your support. \nDuring Childhood Cancer Awareness Month in September\, all funds raised will be matched by the Michael Cuccione Foundation\, amplifying your donation’s impact. \nLearn more about the ongoing research projects like PROFYLE and BRAvE by watching this  Changing the Conversation  featuring Dr. Rod Rassekh  and Dr. Rebecca Deyell . It’s a moving watch\, so be prepared with some tissues! \n 
URL:https://www.suo.ca/event/msa-soccer-tournament/
LOCATION:Nonis Sports Field\, 3257 Knowledge Lane\, Kelowna\, British Columbia\, V1V 1V7\, Canada
CATEGORIES:All Ages,Student Associations
ATTACH;FMTTYPE=image/jpeg:https://www.suo.ca/wp-content/uploads/2021/08/MSA-logo.jpg
ORGANIZER;CN="Management Student Association (MSA)":MAILTO:internal@msasuo.ca
END:VEVENT
BEGIN:VEVENT
DTSTART;TZID=America/Vancouver:20240316T173000
DTEND;TZID=America/Vancouver:20240316T230000
DTSTAMP:20260419T055456
CREATED:20240314T215947Z
LAST-MODIFIED:20240314T220223Z
UID:10007279-1710610200-1710630000@www.suo.ca
SUMMARY:The 16th Annual Distinguished Leadership Gala
DESCRIPTION:A celebration and a chance to highlight the whole management faculty’s accomplishments and hard work this year. We commend students for their hard work over the past year through awards\, recap the MSA’s achievements\, hear from inspiring speakers\, and more. The gala is an opportunity to celebrate the close end of the academic year by networking with peers\, professionals and professors. We will be providing an amazing three-course meal and a welcome drink of your choice. \nGet your tickets here! \nLocation: Metro Hub
URL:https://www.suo.ca/event/the-16th-annual-distinguished-leadership-gala/
LOCATION:Metro Hub\, 1265 Ellis St\, Kelowna\, BC\, V1Y 1Z7\, Canada
CATEGORIES:All Ages,Student Associations
ATTACH;FMTTYPE=image/svg+xml:https://www.suo.ca/wp-content/uploads/2021/12/SUO-Logo.svg
ORGANIZER;CN="Management Student Association (MSA)":MAILTO:internal@msasuo.ca
END:VEVENT
BEGIN:VEVENT
DTSTART;TZID=America/Vancouver:20240313T160000
DTEND;TZID=America/Vancouver:20240313T190000
DTSTAMP:20260419T055456
CREATED:20240307T175230Z
LAST-MODIFIED:20240307T175230Z
UID:10007214-1710345600-1710356400@www.suo.ca
SUMMARY:KPMG Company Showcase
DESCRIPTION:🎉 Dive into the World of Possibilities! Join us for an exclusive Company Showcase featuring KPMG\, in collaboration with the Accounting Club. Uncover the secrets of their dynamic CPA program\, gain insights right on the brink of spring recruitment\, and make connections with industry professionals. Elevate your accounting journey—this event is your gateway to opportunity! 🚀💼 🌟 \n  \nLocation: EME 1101
URL:https://www.suo.ca/event/kpmg-company-showcase/
LOCATION:EME Building\, UBCO Campus\, 1137 Alumni Avenue\, Kelowna\, British Columbia\, V1V 1V7\, Canada
CATEGORIES:All Ages,Student Associations
ATTACH;FMTTYPE=image/svg+xml:https://www.suo.ca/wp-content/uploads/2021/12/SUO-Logo.svg
ORGANIZER;CN="Management Student Association (MSA)":MAILTO:internal@msasuo.ca
END:VEVENT
BEGIN:VEVENT
DTSTART;TZID=America/Vancouver:20240226T153000
DTEND;TZID=America/Vancouver:20240226T173000
DTSTAMP:20260419T055456
CREATED:20240215T224614Z
LAST-MODIFIED:20240215T224614Z
UID:10007215-1708961400-1708968600@www.suo.ca
SUMMARY:Accounting Cram Jam
DESCRIPTION:📚✨ Get Ready to Ace Those Midterms! 🚀 Join us for a Study Fiesta where hitting the books meets ultimate comfort. We’re rolling out the study snacks\, pouring the brain-boosting brew\, and creating a space for you to conquer those midterms like a champ! 🍎📖 Bring your notes\, we’ll provide a cozy spot\, and let’s turn this into your secret weapon for success. 🌟 Don’t just study\, make it a party of productivity! 🎉📚 #StudyFiesta #MidtermMagic 🌈 – Accounting Club \nLocation: ART 204
URL:https://www.suo.ca/event/accounting-cram-jam/
LOCATION:Arts Building\, UBCO Campus\, 1147 Research Road\, Kelowna\, British Columbia\, V1V 1V7\, Canada
CATEGORIES:All Ages,Student Associations
ATTACH;FMTTYPE=image/svg+xml:https://www.suo.ca/wp-content/uploads/2021/12/SUO-Logo.svg
ORGANIZER;CN="Management Student Association (MSA)":MAILTO:internal@msasuo.ca
END:VEVENT
BEGIN:VEVENT
DTSTART;TZID=America/Vancouver:20240213T140000
DTEND;TZID=America/Vancouver:20240213T160000
DTSTAMP:20260419T055456
CREATED:20240209T183524Z
LAST-MODIFIED:20240209T183949Z
UID:10007194-1707832800-1707840000@www.suo.ca
SUMMARY:Marketing Club Valentine’s Day “Play date” Stand
DESCRIPTION:Students can expect a stand filled with interactive games\, delightful prizes\, and an unique opportunity to purchase Valentine’s Day gifts for their special someone!\nThis event promises to be a highlight on campus\, fostering a sense of community while spreading love and joy. Our stand will also be complemented by warm cups of hot cholesterol and other treats.\nDrop by to say hi to our Marketing Club members! We would love to get to know you! \nLocation: UNC 100 foyer
URL:https://www.suo.ca/event/marketing-club-valentines-day-play-date-stand/
LOCATION:UNC Foyer\, UBCO Campus\, 3272 University Way\, Kelowna\, British Columbia\, V1V 1V7\, Canada
CATEGORIES:All Ages,Student Associations
ATTACH;FMTTYPE=image/svg+xml:https://www.suo.ca/wp-content/uploads/2021/12/SUO-Logo.svg
ORGANIZER;CN="Management Student Association (MSA)":MAILTO:internal@msasuo.ca
END:VEVENT
BEGIN:VEVENT
DTSTART;TZID=America/Vancouver:20240202T180000
DTEND;TZID=America/Vancouver:20240202T210000
DTSTAMP:20260419T055456
CREATED:20240201T221850Z
LAST-MODIFIED:20240201T221850Z
UID:10007057-1706896800-1706907600@www.suo.ca
SUMMARY:Annual General Meeting
DESCRIPTION:The Annual General Meeting (AGM) is a meeting that the Management Student Association does where we discuss the events that we did\, upcoming events and any changes that were made to the policy. \nLocation: ART 103
URL:https://www.suo.ca/event/annual-general-meeting-2/
LOCATION:Arts Building\, UBCO Campus\, 1147 Research Road\, Kelowna\, British Columbia\, V1V 1V7\, Canada
CATEGORIES:All Ages,Student Associations
ATTACH;FMTTYPE=image/svg+xml:https://www.suo.ca/wp-content/uploads/2021/12/SUO-Logo.svg
ORGANIZER;CN="Management Student Association (MSA)":MAILTO:internal@msasuo.ca
END:VEVENT
BEGIN:VEVENT
DTSTART;TZID=America/Vancouver:20230213T140000
DTEND;TZID=America/Vancouver:20230213T190000
DTSTAMP:20260419T055456
CREATED:20230131T170253Z
LAST-MODIFIED:20240213T231149Z
UID:10007249-1676296800-1676314800@www.suo.ca
SUMMARY:Kelownafornia
DESCRIPTION:The MSA is bringing back Kelownafornia\, an opportunity to network with your peers while experiencing the many breweries Kelowna has to offer. This event is a walking tour of breweries in downtown Kelowna. \nYou must be a 19+ student majoring in Management and able to provide proof of both. \nTickets available on Eventbrite 
URL:https://www.suo.ca/event/kelownafornia/2023-02-13/
LOCATION:UBCO\, 3333 University Way\, Kelowna\, British Columbia\, Canada
CATEGORIES:19+,Student Associations
ATTACH;FMTTYPE=image/png:https://www.suo.ca/wp-content/uploads/2022/10/Student-Association-Event.png
ORGANIZER;CN="Management Student Association (MSA)":MAILTO:internal@msasuo.ca
END:VEVENT
BEGIN:VEVENT
DTSTART;TZID=America/Vancouver:20230211T140000
DTEND;TZID=America/Vancouver:20230211T190000
DTSTAMP:20260419T055456
CREATED:20230131T170253Z
LAST-MODIFIED:20240213T231149Z
UID:10003108-1676124000-1676142000@www.suo.ca
SUMMARY:Kelownafornia
DESCRIPTION:The MSA is bringing back Kelownafornia\, an opportunity to network with your peers while experiencing the many breweries Kelowna has to offer. This event is a walking tour of breweries in downtown Kelowna. \nYou must be a 19+ student majoring in Management and able to provide proof of both. \nTickets available on Eventbrite 
URL:https://www.suo.ca/event/kelownafornia/2023-02-11/
LOCATION:UBCO\, 3333 University Way\, Kelowna\, British Columbia\, Canada
CATEGORIES:19+,Student Associations
ATTACH;FMTTYPE=image/png:https://www.suo.ca/wp-content/uploads/2022/10/Student-Association-Event.png
ORGANIZER;CN="Management Student Association (MSA)":MAILTO:internal@msasuo.ca
END:VEVENT
END:VCALENDAR