BEGIN:VCALENDAR
VERSION:2.0
PRODID:-//Students’ Union Okanagan of UBC - ECPv6.5.0//NONSGML v1.0//EN
CALSCALE:GREGORIAN
METHOD:PUBLISH
X-WR-CALNAME:Students’ Union Okanagan of UBC
X-ORIGINAL-URL:https://www.suo.ca
X-WR-CALDESC:Events for Students’ Union Okanagan of UBC
REFRESH-INTERVAL;VALUE=DURATION:PT1H
X-Robots-Tag:noindex
X-PUBLISHED-TTL:PT1H
BEGIN:VTIMEZONE
TZID:America/Vancouver
BEGIN:DAYLIGHT
TZOFFSETFROM:-0800
TZOFFSETTO:-0700
TZNAME:PDT
DTSTART:20240310T100000
END:DAYLIGHT
BEGIN:STANDARD
TZOFFSETFROM:-0700
TZOFFSETTO:-0800
TZNAME:PST
DTSTART:20241103T090000
END:STANDARD
BEGIN:DAYLIGHT
TZOFFSETFROM:-0800
TZOFFSETTO:-0700
TZNAME:PDT
DTSTART:20250309T100000
END:DAYLIGHT
BEGIN:STANDARD
TZOFFSETFROM:-0700
TZOFFSETTO:-0800
TZNAME:PST
DTSTART:20251102T090000
END:STANDARD
END:VTIMEZONE
BEGIN:VEVENT
DTSTART;TZID=America/Vancouver:20250319T180000
DTEND;TZID=America/Vancouver:20250319T200000
DTSTAMP:20260420T174616
CREATED:20250314T224002Z
LAST-MODIFIED:20250314T225849Z
UID:10009376-1742407200-1742414400@www.suo.ca
SUMMARY:Career Gala
DESCRIPTION:9 professionals from the medical field will present a 10-minute presentation about what their career entails. There will be some time for questions from students following all presentations. \nLocation: UNC 200 Ballroom
URL:https://www.suo.ca/event/career-gala/
LOCATION:UNC 200 Ballroom\, 3272 University Way\, UNC200\, Kelowna\, British Columbia\, V1V 1V7\, Canada
CATEGORIES:All Ages,Student Associations
ATTACH;FMTTYPE=image/svg+xml:https://www.suo.ca/wp-content/uploads/2021/12/SUO-Logo.svg
ORGANIZER;CN="Medical Expoloration Society":MAILTO:&quot;Medical Exploration Society&quot;
END:VEVENT
BEGIN:VEVENT
DTSTART;TZID=America/Vancouver:20241122T170000
DTEND;TZID=America/Vancouver:20241122T193000
DTSTAMP:20260420T174616
CREATED:20241031T172733Z
LAST-MODIFIED:20241031T172733Z
UID:10009060-1732294800-1732303800@www.suo.ca
SUMMARY:Research Dinner
DESCRIPTION:A research dinner designed to encourage connections between professors and students\, offering students a chance to learn about ongoing research projects and other opportunities available within professors’ labs. \nLocation: LIB 305
URL:https://www.suo.ca/event/research-dinner/
LOCATION:LIB 305\, UBCO Campus\, 3287 University Way\, Kelowna\, British Columbia\, V1V 1V7\, Canada
CATEGORIES:All Ages,Student Associations
ATTACH;FMTTYPE=image/svg+xml:https://www.suo.ca/wp-content/uploads/2021/12/SUO-Logo.svg
ORGANIZER;CN="Medical Expoloration Society":MAILTO:&quot;Medical Exploration Society&quot;
END:VEVENT
BEGIN:VEVENT
DTSTART;TZID=America/Vancouver:20241107T170000
DTEND;TZID=America/Vancouver:20241107T193000
DTSTAMP:20260420T174616
CREATED:20241021T210211Z
LAST-MODIFIED:20241104T164700Z
UID:10008523-1730998800-1731007800@www.suo.ca
SUMMARY:MediConnect
DESCRIPTION:Join the Medical Exploration Society for our upcoming Meet-and-Greet event! This is the perfect opportunity to connect with like-minded students and learn more about how MES can help you on your journey. Light snacks and refreshments will be provided. \nLocation: EME 2111
URL:https://www.suo.ca/event/meet-and-greet/
LOCATION:EME Building\, UBCO Campus\, 1137 Alumni Avenue\, Kelowna\, British Columbia\, V1V 1V7\, Canada
CATEGORIES:All Ages,Student Associations
ATTACH;FMTTYPE=image/svg+xml:https://www.suo.ca/wp-content/uploads/2021/12/SUO-Logo.svg
ORGANIZER;CN="Medical Expoloration Society":MAILTO:&quot;Medical Exploration Society&quot;
END:VEVENT
END:VCALENDAR