BEGIN:VCALENDAR
VERSION:2.0
PRODID:-//Students’ Union Okanagan of UBC - ECPv6.5.0//NONSGML v1.0//EN
CALSCALE:GREGORIAN
METHOD:PUBLISH
X-ORIGINAL-URL:https://www.suo.ca
X-WR-CALDESC:Events for Students’ Union Okanagan of UBC
REFRESH-INTERVAL;VALUE=DURATION:PT1H
X-Robots-Tag:noindex
X-PUBLISHED-TTL:PT1H
BEGIN:VTIMEZONE
TZID:America/Vancouver
BEGIN:DAYLIGHT
TZOFFSETFROM:-0800
TZOFFSETTO:-0700
TZNAME:PDT
DTSTART:20220313T100000
END:DAYLIGHT
BEGIN:STANDARD
TZOFFSETFROM:-0700
TZOFFSETTO:-0800
TZNAME:PST
DTSTART:20221106T090000
END:STANDARD
END:VTIMEZONE
BEGIN:VEVENT
DTSTART;TZID=America/Vancouver:20221201T170000
DTEND;TZID=America/Vancouver:20221201T183000
DTSTAMP:20260419T104918
CREATED:20221026T183442Z
LAST-MODIFIED:20221026T183442Z
UID:10002413-1669914000-1669919400@www.suo.ca
SUMMARY:MUN Practices
DESCRIPTION:To teach our members the rules of MUN and prepare them for external competitions. \n  \nSee list below for full time and location details: \n\nNov 3\, 2022\, 5:00 PM – 6:30 PM RHS 260\nNov 10\, 2022\, 5:00 PM – 6:30 PM RHS 260\nNov 17\, 2022\, 5:30 PM – 7:00 PM RHS 260\nNov 24\, 2022\, 5:30 PM – 7:00 PM RHS 260\nDec 1\, 2022\, 5:30 PM – 7:00 PM RHS 260\nDec 8\, 2022\, 5:00 PM – 6:30 PM RHS 260\n\n 
URL:https://www.suo.ca/event/mun-practices/2022-12-01/
LOCATION:Reichwald Health Sciences Centre\, UBCO Campus\, 1088 Discovery Ave\, Kelowna\, British Columbia\, V1V 1V7\, Canada
CATEGORIES:All Ages,Student Associations
ORGANIZER;CN="Model United Nations":MAILTO:mun.ubco@gmail.com
END:VEVENT
BEGIN:VEVENT
DTSTART;TZID=America/Vancouver:20221124T170000
DTEND;TZID=America/Vancouver:20221124T183000
DTSTAMP:20260419T104918
CREATED:20221026T183442Z
LAST-MODIFIED:20221026T183442Z
UID:10002412-1669309200-1669314600@www.suo.ca
SUMMARY:MUN Practices
DESCRIPTION:To teach our members the rules of MUN and prepare them for external competitions. \n  \nSee list below for full time and location details: \n\nNov 3\, 2022\, 5:00 PM – 6:30 PM RHS 260\nNov 10\, 2022\, 5:00 PM – 6:30 PM RHS 260\nNov 17\, 2022\, 5:30 PM – 7:00 PM RHS 260\nNov 24\, 2022\, 5:30 PM – 7:00 PM RHS 260\nDec 1\, 2022\, 5:30 PM – 7:00 PM RHS 260\nDec 8\, 2022\, 5:00 PM – 6:30 PM RHS 260\n\n 
URL:https://www.suo.ca/event/mun-practices/2022-11-24/
LOCATION:Reichwald Health Sciences Centre\, UBCO Campus\, 1088 Discovery Ave\, Kelowna\, British Columbia\, V1V 1V7\, Canada
CATEGORIES:All Ages,Student Associations
ORGANIZER;CN="Model United Nations":MAILTO:mun.ubco@gmail.com
END:VEVENT
BEGIN:VEVENT
DTSTART;TZID=America/Vancouver:20221117T170000
DTEND;TZID=America/Vancouver:20221117T183000
DTSTAMP:20260419T104918
CREATED:20221026T183442Z
LAST-MODIFIED:20221026T183442Z
UID:10002411-1668704400-1668709800@www.suo.ca
SUMMARY:MUN Practices
DESCRIPTION:To teach our members the rules of MUN and prepare them for external competitions. \n  \nSee list below for full time and location details: \n\nNov 3\, 2022\, 5:00 PM – 6:30 PM RHS 260\nNov 10\, 2022\, 5:00 PM – 6:30 PM RHS 260\nNov 17\, 2022\, 5:30 PM – 7:00 PM RHS 260\nNov 24\, 2022\, 5:30 PM – 7:00 PM RHS 260\nDec 1\, 2022\, 5:30 PM – 7:00 PM RHS 260\nDec 8\, 2022\, 5:00 PM – 6:30 PM RHS 260\n\n 
URL:https://www.suo.ca/event/mun-practices/2022-11-17/
LOCATION:Reichwald Health Sciences Centre\, UBCO Campus\, 1088 Discovery Ave\, Kelowna\, British Columbia\, V1V 1V7\, Canada
CATEGORIES:All Ages,Student Associations
ORGANIZER;CN="Model United Nations":MAILTO:mun.ubco@gmail.com
END:VEVENT
BEGIN:VEVENT
DTSTART;TZID=America/Vancouver:20221110T170000
DTEND;TZID=America/Vancouver:20221110T183000
DTSTAMP:20260419T104918
CREATED:20221026T183442Z
LAST-MODIFIED:20221026T183442Z
UID:10002410-1668099600-1668105000@www.suo.ca
SUMMARY:MUN Practices
DESCRIPTION:To teach our members the rules of MUN and prepare them for external competitions. \n  \nSee list below for full time and location details: \n\nNov 3\, 2022\, 5:00 PM – 6:30 PM RHS 260\nNov 10\, 2022\, 5:00 PM – 6:30 PM RHS 260\nNov 17\, 2022\, 5:30 PM – 7:00 PM RHS 260\nNov 24\, 2022\, 5:30 PM – 7:00 PM RHS 260\nDec 1\, 2022\, 5:30 PM – 7:00 PM RHS 260\nDec 8\, 2022\, 5:00 PM – 6:30 PM RHS 260\n\n 
URL:https://www.suo.ca/event/mun-practices/2022-11-10/
LOCATION:Reichwald Health Sciences Centre\, UBCO Campus\, 1088 Discovery Ave\, Kelowna\, British Columbia\, V1V 1V7\, Canada
CATEGORIES:All Ages,Student Associations
ORGANIZER;CN="Model United Nations":MAILTO:mun.ubco@gmail.com
END:VEVENT
BEGIN:VEVENT
DTSTART;TZID=America/Vancouver:20221103T170000
DTEND;TZID=America/Vancouver:20221103T183000
DTSTAMP:20260419T104918
CREATED:20221026T183442Z
LAST-MODIFIED:20221026T183442Z
UID:10002409-1667494800-1667500200@www.suo.ca
SUMMARY:MUN Practices
DESCRIPTION:To teach our members the rules of MUN and prepare them for external competitions. \n  \nSee list below for full time and location details: \n\nNov 3\, 2022\, 5:00 PM – 6:30 PM RHS 260\nNov 10\, 2022\, 5:00 PM – 6:30 PM RHS 260\nNov 17\, 2022\, 5:30 PM – 7:00 PM RHS 260\nNov 24\, 2022\, 5:30 PM – 7:00 PM RHS 260\nDec 1\, 2022\, 5:30 PM – 7:00 PM RHS 260\nDec 8\, 2022\, 5:00 PM – 6:30 PM RHS 260\n\n 
URL:https://www.suo.ca/event/mun-practices/2022-11-03/
LOCATION:Reichwald Health Sciences Centre\, UBCO Campus\, 1088 Discovery Ave\, Kelowna\, British Columbia\, V1V 1V7\, Canada
CATEGORIES:All Ages,Student Associations
ORGANIZER;CN="Model United Nations":MAILTO:mun.ubco@gmail.com
END:VEVENT
END:VCALENDAR