BEGIN:VCALENDAR
VERSION:2.0
PRODID:-//Students’ Union Okanagan of UBC - ECPv6.5.0//NONSGML v1.0//EN
CALSCALE:GREGORIAN
METHOD:PUBLISH
X-WR-CALNAME:Students’ Union Okanagan of UBC
X-ORIGINAL-URL:https://www.suo.ca
X-WR-CALDESC:Events for Students’ Union Okanagan of UBC
REFRESH-INTERVAL;VALUE=DURATION:PT1H
X-Robots-Tag:noindex
X-PUBLISHED-TTL:PT1H
BEGIN:VTIMEZONE
TZID:America/Vancouver
BEGIN:DAYLIGHT
TZOFFSETFROM:-0800
TZOFFSETTO:-0700
TZNAME:PDT
DTSTART:20240310T100000
END:DAYLIGHT
BEGIN:STANDARD
TZOFFSETFROM:-0700
TZOFFSETTO:-0800
TZNAME:PST
DTSTART:20241103T090000
END:STANDARD
BEGIN:DAYLIGHT
TZOFFSETFROM:-0800
TZOFFSETTO:-0700
TZNAME:PDT
DTSTART:20250309T100000
END:DAYLIGHT
BEGIN:STANDARD
TZOFFSETFROM:-0700
TZOFFSETTO:-0800
TZNAME:PST
DTSTART:20251102T090000
END:STANDARD
END:VTIMEZONE
BEGIN:VEVENT
DTSTART;TZID=America/Vancouver:20250322T100000
DTEND;TZID=America/Vancouver:20250322T150000
DTSTAMP:20260419T092854
CREATED:20250203T181502Z
LAST-MODIFIED:20250203T181502Z
UID:10009621-1742637600-1742655600@www.suo.ca
SUMMARY:Motionball for Special Olympics
DESCRIPTION:Motionball for Special Olympics is a not-for-profit organization that raises awareness and funds for the Special Olympics Canada\, which helps fund local programming for individuals with intellectual disabilities. Motionball Marathon of Sport is our signature event. It’s an amazing event that happens once a year on campus. More than 100 UBCO students will come together to fundraise and play alongside local Special Olympics athletes in a tournament of sports\, friendly competition and inclusion. \nLocation: UBCO gymnasium
URL:https://www.suo.ca/event/motionball-for-special-olympics/
LOCATION:Gymnasium\, UBCO Campus\, 3211 Athletics Court\, Kelowna\, British Columbia\, V1V 1V7\, Canada
CATEGORIES:All Ages,Student Associations
ATTACH;FMTTYPE=image/svg+xml:https://www.suo.ca/wp-content/uploads/2021/12/SUO-Logo.svg
ORGANIZER;CN="MotionballU":MAILTO:motionballuokanagan@gmail.com
END:VEVENT
BEGIN:VEVENT
DTSTART;TZID=America/Vancouver:20240323T090000
DTEND;TZID=America/Vancouver:20240323T150000
DTSTAMP:20260419T092854
CREATED:20240205T175155Z
LAST-MODIFIED:20240208T172823Z
UID:10007164-1711184400-1711206000@www.suo.ca
SUMMARY:motionballU Marathon of Sport
DESCRIPTION:motionball is a national non-profit organization that raises funds and awareness for Special Olympics. The Marathon of Sport is our annual signature event\, which is an amazing day where over 100 UBCO students come out to fundraise and play alongside local Special Olympics athletes for a fun-filled day of sport and inclusion! You can sign up as a team captain\, where you would recruit your friends and create a team to fundraise and participate in the event\, or you can sign up as an individual and we would add you to a team. The registration fee includes coffee and pastries in the morning\, lunch\, and a motionball t-shirt! Plus\, if fundraise at least $50\, you can get your registration fee back. We hope to see you there! \nRegister here! \nLocation: UBCO Gymnasium
URL:https://www.suo.ca/event/motionballu-marathon-of-sport/
LOCATION:UBCO Campus\, 3333 University Way\, Kelowna\, British Columbia\, V1V 1V7\, Canada
CATEGORIES:All Ages,Student Associations
ATTACH;FMTTYPE=image/svg+xml:https://www.suo.ca/wp-content/uploads/2021/12/SUO-Logo.svg
ORGANIZER;CN="MotionballU":MAILTO:motionballuokanagan@gmail.com
END:VEVENT
END:VCALENDAR