BEGIN:VCALENDAR
VERSION:2.0
PRODID:-//Students’ Union Okanagan of UBC - ECPv6.5.0//NONSGML v1.0//EN
CALSCALE:GREGORIAN
METHOD:PUBLISH
X-WR-CALNAME:Students’ Union Okanagan of UBC
X-ORIGINAL-URL:https://www.suo.ca
X-WR-CALDESC:Events for Students’ Union Okanagan of UBC
REFRESH-INTERVAL;VALUE=DURATION:PT1H
X-Robots-Tag:noindex
X-PUBLISHED-TTL:PT1H
BEGIN:VTIMEZONE
TZID:America/Vancouver
BEGIN:DAYLIGHT
TZOFFSETFROM:-0800
TZOFFSETTO:-0700
TZNAME:PDT
DTSTART:20230312T100000
END:DAYLIGHT
BEGIN:STANDARD
TZOFFSETFROM:-0700
TZOFFSETTO:-0800
TZNAME:PST
DTSTART:20231105T090000
END:STANDARD
BEGIN:DAYLIGHT
TZOFFSETFROM:-0800
TZOFFSETTO:-0700
TZNAME:PDT
DTSTART:20240310T100000
END:DAYLIGHT
BEGIN:STANDARD
TZOFFSETFROM:-0700
TZOFFSETTO:-0800
TZNAME:PST
DTSTART:20241103T090000
END:STANDARD
END:VTIMEZONE
BEGIN:VEVENT
DTSTART;TZID=America/Vancouver:20240421T100000
DTEND;TZID=America/Vancouver:20240421T160000
DTSTAMP:20260420T134331
CREATED:20240408T175925Z
LAST-MODIFIED:20240408T175925Z
UID:10007841-1713693600-1713715200@www.suo.ca
SUMMARY:Nepalese New Year Celebration
DESCRIPTION:This booking is requested to organize a get together event for Nepalese Scholar’s Association (NepSA) at UBCO and Nepalese Society of Okanagan valley (NSOV) to celebrate Nepalese New Year and exchange greetings between Nepalese community residing in the Okanagan valley.\nSome ready-made snacks (cookies\, chips etc)\, foods (sandwiches\, pizza) and drinks (coffee\, tea\, soft drinks) will be served. \nLocation: UNC 200 Ballroom
URL:https://www.suo.ca/event/nepalese-new-year-celebration/
LOCATION:UNC 200 Ballroom\, 3272 University Way\, UNC200\, Kelowna\, British Columbia\, V1V 1V7\, Canada
CATEGORIES:All Ages,Student Associations
ATTACH;FMTTYPE=image/svg+xml:https://www.suo.ca/wp-content/uploads/2021/12/SUO-Logo.svg
ORGANIZER;CN="Nepalese Student Association (NepSA)":MAILTO:nepsa.okanagan@gmail.com
END:VEVENT
BEGIN:VEVENT
DTSTART;TZID=America/Vancouver:20231029T090000
DTEND;TZID=America/Vancouver:20231029T170000
DTSTAMP:20260420T134331
CREATED:20231006T164542Z
LAST-MODIFIED:20231027T210619Z
UID:10003539-1698570000-1698598800@www.suo.ca
SUMMARY:Dashain Festival Celebration
DESCRIPTION:Dashain Celebration is an annual major event hosted by NepSA for the students and Nepalese community in the Okanagan Valley.\nOur plan for this year is to bring together the broader Nepalese community in the Okanagan Valley at UBCO by hosting a big festival celebration. We will organize cultural programs like putting on the auspicious Tika and Jamara from seniors and singing\, and dancing cultural performances. The aim is to bring together people who keep an interest in Nepalese culture\, protect and promote Nepalese culture and values\, and traditional food\, dances\, and songs. \n  \nLocation: UNC 200 Ballroom
URL:https://www.suo.ca/event/dashain-festival-celebration/
LOCATION:UNC200 Ballroom\, 3272 University Way\, UNC200\, Kelowna\, British Columbia\, V1V 1V7\, Canada
CATEGORIES:All Ages,Student Associations
ATTACH;FMTTYPE=image/svg+xml:https://www.suo.ca/wp-content/uploads/2021/12/SUO-Logo.svg
ORGANIZER;CN="Nepalese Student Association (NepSA)":MAILTO:nepsa.okanagan@gmail.com
END:VEVENT
END:VCALENDAR