BEGIN:VCALENDAR
VERSION:2.0
PRODID:-//Students’ Union Okanagan of UBC - ECPv6.5.0//NONSGML v1.0//EN
CALSCALE:GREGORIAN
METHOD:PUBLISH
X-ORIGINAL-URL:https://www.suo.ca
X-WR-CALDESC:Events for Students’ Union Okanagan of UBC
REFRESH-INTERVAL;VALUE=DURATION:PT1H
X-Robots-Tag:noindex
X-PUBLISHED-TTL:PT1H
BEGIN:VTIMEZONE
TZID:America/Vancouver
BEGIN:DAYLIGHT
TZOFFSETFROM:-0800
TZOFFSETTO:-0700
TZNAME:PDT
DTSTART:20240310T100000
END:DAYLIGHT
BEGIN:STANDARD
TZOFFSETFROM:-0700
TZOFFSETTO:-0800
TZNAME:PST
DTSTART:20241103T090000
END:STANDARD
END:VTIMEZONE
BEGIN:VEVENT
DTSTART;TZID=America/Vancouver:20241106T110000
DTEND;TZID=America/Vancouver:20241106T140000
DTSTAMP:20260419T084518
CREATED:20241023T173423Z
LAST-MODIFIED:20241023T173423Z
UID:10008992-1730890800-1730901600@www.suo.ca
SUMMARY:Information Booth for Blood drive
DESCRIPTION:we will be giving information at the booth for the upcoming blood donation on campus on November 13th. \nLocation: UNC 100
URL:https://www.suo.ca/event/information-booth-for-blood-drive/
LOCATION:UNC Foyer\, UBCO Campus\, 3272 University Way\, Kelowna\, British Columbia\, V1V 1V7\, Canada
CATEGORIES:All Ages,Student Associations
ATTACH;FMTTYPE=image/svg+xml:https://www.suo.ca/wp-content/uploads/2021/12/SUO-Logo.svg
ORGANIZER;CN="NextGen Blood Club":MAILTO:nextgen.blood.club@gmail.com
END:VEVENT
BEGIN:VEVENT
DTSTART;TZID=America/Vancouver:20240403T110000
DTEND;TZID=America/Vancouver:20240403T174500
DTSTAMP:20260419T084518
CREATED:20240318T194544Z
LAST-MODIFIED:20240318T194544Z
UID:10007708-1712142000-1712166300@www.suo.ca
SUMMARY:Whole Blood Drive donation partnership
DESCRIPTION:As the NextGen team\, we work with CBS and they have an event on campus for students to donate whole blood and as a club\, we will be there to help them and promote plasma donation alongside and answer any questions students have. \nLocation: UNC 100
URL:https://www.suo.ca/event/whole-blood-drive-donation-partnership/
LOCATION:UNC Foyer\, UBCO Campus\, 3272 University Way\, Kelowna\, British Columbia\, V1V 1V7\, Canada
CATEGORIES:All Ages,Student Associations
ATTACH;FMTTYPE=image/svg+xml:https://www.suo.ca/wp-content/uploads/2021/12/SUO-Logo.svg
ORGANIZER;CN="NextGen Blood Club":MAILTO:nextgen.blood.club@gmail.com
END:VEVENT
BEGIN:VEVENT
DTSTART;TZID=America/Vancouver:20240328T113000
DTEND;TZID=America/Vancouver:20240328T130000
DTSTAMP:20260419T084518
CREATED:20240318T193822Z
LAST-MODIFIED:20240318T193822Z
UID:10007711-1711625400-1711630800@www.suo.ca
SUMMARY:Whole Blood + Plasma recruitment
DESCRIPTION:We are doing a recruitment table for the main whole blood donation event that is on April 3rd. Our recruitment table will be to inform students of this event fo them to be able to sign up for a slot on the day and also answer any questions they have about the event and also just provide them info on plasma donation. \nLocation: LIB W
URL:https://www.suo.ca/event/whole-blood-plasma-recruitment/
LOCATION:UBCO Campus\, 3333 University Way\, Kelowna\, British Columbia\, V1V 1V7\, Canada
CATEGORIES:All Ages,Student Associations
ATTACH;FMTTYPE=image/svg+xml:https://www.suo.ca/wp-content/uploads/2021/12/SUO-Logo.svg
ORGANIZER;CN="NextGen Blood Club":MAILTO:nextgen.blood.club@gmail.com
END:VEVENT
END:VCALENDAR