BEGIN:VCALENDAR
VERSION:2.0
PRODID:-//Students’ Union Okanagan of UBC - ECPv6.5.0//NONSGML v1.0//EN
CALSCALE:GREGORIAN
METHOD:PUBLISH
X-ORIGINAL-URL:https://www.suo.ca
X-WR-CALDESC:Events for Students’ Union Okanagan of UBC
REFRESH-INTERVAL;VALUE=DURATION:PT1H
X-Robots-Tag:noindex
X-PUBLISHED-TTL:PT1H
BEGIN:VTIMEZONE
TZID:America/Vancouver
BEGIN:DAYLIGHT
TZOFFSETFROM:-0800
TZOFFSETTO:-0700
TZNAME:PDT
DTSTART:20220313T100000
END:DAYLIGHT
BEGIN:STANDARD
TZOFFSETFROM:-0700
TZOFFSETTO:-0800
TZNAME:PST
DTSTART:20221106T090000
END:STANDARD
BEGIN:DAYLIGHT
TZOFFSETFROM:-0800
TZOFFSETTO:-0700
TZNAME:PDT
DTSTART:20230312T100000
END:DAYLIGHT
BEGIN:STANDARD
TZOFFSETFROM:-0700
TZOFFSETTO:-0800
TZNAME:PST
DTSTART:20231105T090000
END:STANDARD
END:VTIMEZONE
BEGIN:VEVENT
DTSTART;TZID=America/Vancouver:20230313T160000
DTEND;TZID=America/Vancouver:20230313T190000
DTSTAMP:20260420T045240
CREATED:20230125T194854Z
LAST-MODIFIED:20230125T194854Z
UID:10003098-1678723200-1678734000@www.suo.ca
SUMMARY:Local Business Fair
DESCRIPTION:The event will be a business fair where local businesses will have stalls where they can sell locally produced goods to students. \n  \nLocated: UNC 200
URL:https://www.suo.ca/event/local-business-fair-2/
LOCATION:UNC 200 Ballroom\, 3272 University Way\, UNC200\, Kelowna\, British Columbia\, V1V 1V7\, Canada
CATEGORIES:All Ages,Student Associations
ATTACH;FMTTYPE=image/jpeg:https://www.suo.ca/wp-content/uploads/2022/07/SUO-Student-Associations.jpg
ORGANIZER;CN="Pink Backpack Project":MAILTO:pinkbackpackproject@gmail.com
END:VEVENT
BEGIN:VEVENT
DTSTART;TZID=America/Vancouver:20221129T140000
DTEND;TZID=America/Vancouver:20221129T190000
DTSTAMP:20260420T045240
CREATED:20221007T182227Z
LAST-MODIFIED:20221007T182227Z
UID:10002126-1669730400-1669748400@www.suo.ca
SUMMARY:Local Business Fair
DESCRIPTION:We are planning to throw a business fair\, where we invite local businesses to set up stalls and provide them with a platform where they can sell their products to students. This would also provide the students to explore and find local businesses that they might like.
URL:https://www.suo.ca/event/local-business-fair/
LOCATION:UNC 200 Ballroom\, 3272 University Way\, UNC200\, Kelowna\, British Columbia\, V1V 1V7\, Canada
CATEGORIES:All Ages,Student Associations
ATTACH;FMTTYPE=image/png:https://www.suo.ca/wp-content/uploads/2021/05/Layer-1-1.png
ORGANIZER;CN="Pink Backpack Project":MAILTO:pinkbackpackproject@gmail.com
END:VEVENT
BEGIN:VEVENT
DTSTART;TZID=America/Vancouver:20220318T180000
DTEND;TZID=America/Vancouver:20220318T210000
DTSTAMP:20260420T045240
CREATED:20220314T232118Z
LAST-MODIFIED:20220314T232118Z
UID:10002295-1647626400-1647637200@www.suo.ca
SUMMARY:PBP Movie Night
DESCRIPTION:Pink Backpack Project UBCO hosts a Movie Night on Friday. Contact club for more details. \nLocation: UNC 106 (SUO Theatre)
URL:https://www.suo.ca/event/pbp-movie-night/
LOCATION:UBCO Campus\, 3333 University Way\, Kelowna\, British Columbia\, V1V 1V7\, Canada
CATEGORIES:All Ages,Student Associations
ATTACH;FMTTYPE=image/png:https://www.suo.ca/wp-content/uploads/2021/09/Pink-Backpack-logo.png
ORGANIZER;CN="Pink Backpack Project":MAILTO:pinkbackpackproject@gmail.com
END:VEVENT
END:VCALENDAR