BEGIN:VCALENDAR
VERSION:2.0
PRODID:-//Students’ Union Okanagan of UBC - ECPv6.5.0//NONSGML v1.0//EN
CALSCALE:GREGORIAN
METHOD:PUBLISH
X-WR-CALNAME:Students’ Union Okanagan of UBC
X-ORIGINAL-URL:https://www.suo.ca
X-WR-CALDESC:Events for Students’ Union Okanagan of UBC
REFRESH-INTERVAL;VALUE=DURATION:PT1H
X-Robots-Tag:noindex
X-PUBLISHED-TTL:PT1H
BEGIN:VTIMEZONE
TZID:America/Vancouver
BEGIN:DAYLIGHT
TZOFFSETFROM:-0800
TZOFFSETTO:-0700
TZNAME:PDT
DTSTART:20260308T100000
END:DAYLIGHT
BEGIN:STANDARD
TZOFFSETFROM:-0700
TZOFFSETTO:-0800
TZNAME:PST
DTSTART:20261101T090000
END:STANDARD
END:VTIMEZONE
BEGIN:VEVENT
DTSTART;TZID=America/Vancouver:20261121T180000
DTEND;TZID=America/Vancouver:20261121T230000
DTSTAMP:20260419T055458
CREATED:20251031T203304Z
LAST-MODIFIED:20251031T203304Z
UID:10011734-1795284000-1795302000@www.suo.ca
SUMMARY:OPURC Awards Night and Dinner (Poster Presentations)
DESCRIPTION:Please join us after the amazing research presentations at OPURC. There will be catering and many awards to be given out to exceptional students.
URL:https://www.suo.ca/event/opurc-awards-night-and-dinner-poster-presentations/2026-11-21/
LOCATION:UNC 200 Ballroom\, 3272 University Way\, UNC200\, Kelowna\, British Columbia\, V1V 1V7\, Canada
CATEGORIES:Student Associations
ATTACH;FMTTYPE=image/png:https://www.suo.ca/wp-content/uploads/2025/10/SAlogo_PsychologyCU.png
ORGANIZER;CN="Psychology Course Union":MAILTO:Psychologycourseunion@gmail.com
END:VEVENT
BEGIN:VEVENT
DTSTART;TZID=America/Vancouver:20261122T180000
DTEND;TZID=America/Vancouver:20261122T230000
DTSTAMP:20260419T055458
CREATED:20251031T203304Z
LAST-MODIFIED:20251031T203304Z
UID:10011735-1795370400-1795388400@www.suo.ca
SUMMARY:OPURC Awards Night and Dinner (Poster Presentations)
DESCRIPTION:Please join us after the amazing research presentations at OPURC. There will be catering and many awards to be given out to exceptional students.
URL:https://www.suo.ca/event/opurc-awards-night-and-dinner-poster-presentations/2026-11-22/
LOCATION:UNC 200 Ballroom\, 3272 University Way\, UNC200\, Kelowna\, British Columbia\, V1V 1V7\, Canada
CATEGORIES:Student Associations
ATTACH;FMTTYPE=image/png:https://www.suo.ca/wp-content/uploads/2025/10/SAlogo_PsychologyCU.png
ORGANIZER;CN="Psychology Course Union":MAILTO:Psychologycourseunion@gmail.com
END:VEVENT
BEGIN:VEVENT
DTSTART;TZID=America/Vancouver:20261123T180000
DTEND;TZID=America/Vancouver:20261123T230000
DTSTAMP:20260419T055458
CREATED:20251031T203304Z
LAST-MODIFIED:20251031T203304Z
UID:10011736-1795456800-1795474800@www.suo.ca
SUMMARY:OPURC Awards Night and Dinner (Poster Presentations)
DESCRIPTION:Please join us after the amazing research presentations at OPURC. There will be catering and many awards to be given out to exceptional students.
URL:https://www.suo.ca/event/opurc-awards-night-and-dinner-poster-presentations/2026-11-23/
LOCATION:UNC 200 Ballroom\, 3272 University Way\, UNC200\, Kelowna\, British Columbia\, V1V 1V7\, Canada
CATEGORIES:Student Associations
ATTACH;FMTTYPE=image/png:https://www.suo.ca/wp-content/uploads/2025/10/SAlogo_PsychologyCU.png
ORGANIZER;CN="Psychology Course Union":MAILTO:Psychologycourseunion@gmail.com
END:VEVENT
BEGIN:VEVENT
DTSTART;TZID=America/Vancouver:20261124T180000
DTEND;TZID=America/Vancouver:20261124T230000
DTSTAMP:20260419T055458
CREATED:20251031T203304Z
LAST-MODIFIED:20251031T203304Z
UID:10011737-1795543200-1795561200@www.suo.ca
SUMMARY:OPURC Awards Night and Dinner (Poster Presentations)
DESCRIPTION:Please join us after the amazing research presentations at OPURC. There will be catering and many awards to be given out to exceptional students.
URL:https://www.suo.ca/event/opurc-awards-night-and-dinner-poster-presentations/2026-11-24/
LOCATION:UNC 200 Ballroom\, 3272 University Way\, UNC200\, Kelowna\, British Columbia\, V1V 1V7\, Canada
CATEGORIES:Student Associations
ATTACH;FMTTYPE=image/png:https://www.suo.ca/wp-content/uploads/2025/10/SAlogo_PsychologyCU.png
ORGANIZER;CN="Psychology Course Union":MAILTO:Psychologycourseunion@gmail.com
END:VEVENT
BEGIN:VEVENT
DTSTART;TZID=America/Vancouver:20261125T180000
DTEND;TZID=America/Vancouver:20261125T230000
DTSTAMP:20260419T055458
CREATED:20251031T203304Z
LAST-MODIFIED:20251031T203304Z
UID:10011738-1795629600-1795647600@www.suo.ca
SUMMARY:OPURC Awards Night and Dinner (Poster Presentations)
DESCRIPTION:Please join us after the amazing research presentations at OPURC. There will be catering and many awards to be given out to exceptional students.
URL:https://www.suo.ca/event/opurc-awards-night-and-dinner-poster-presentations/2026-11-25/
LOCATION:UNC 200 Ballroom\, 3272 University Way\, UNC200\, Kelowna\, British Columbia\, V1V 1V7\, Canada
CATEGORIES:Student Associations
ATTACH;FMTTYPE=image/png:https://www.suo.ca/wp-content/uploads/2025/10/SAlogo_PsychologyCU.png
ORGANIZER;CN="Psychology Course Union":MAILTO:Psychologycourseunion@gmail.com
END:VEVENT
BEGIN:VEVENT
DTSTART;TZID=America/Vancouver:20261126T180000
DTEND;TZID=America/Vancouver:20261126T230000
DTSTAMP:20260419T055458
CREATED:20251031T203304Z
LAST-MODIFIED:20251031T203304Z
UID:10011739-1795716000-1795734000@www.suo.ca
SUMMARY:OPURC Awards Night and Dinner (Poster Presentations)
DESCRIPTION:Please join us after the amazing research presentations at OPURC. There will be catering and many awards to be given out to exceptional students.
URL:https://www.suo.ca/event/opurc-awards-night-and-dinner-poster-presentations/2026-11-26/
LOCATION:UNC 200 Ballroom\, 3272 University Way\, UNC200\, Kelowna\, British Columbia\, V1V 1V7\, Canada
CATEGORIES:Student Associations
ATTACH;FMTTYPE=image/png:https://www.suo.ca/wp-content/uploads/2025/10/SAlogo_PsychologyCU.png
ORGANIZER;CN="Psychology Course Union":MAILTO:Psychologycourseunion@gmail.com
END:VEVENT
BEGIN:VEVENT
DTSTART;TZID=America/Vancouver:20261127T180000
DTEND;TZID=America/Vancouver:20261127T230000
DTSTAMP:20260419T055458
CREATED:20251031T203304Z
LAST-MODIFIED:20251031T203304Z
UID:10011740-1795802400-1795820400@www.suo.ca
SUMMARY:OPURC Awards Night and Dinner (Poster Presentations)
DESCRIPTION:Please join us after the amazing research presentations at OPURC. There will be catering and many awards to be given out to exceptional students.
URL:https://www.suo.ca/event/opurc-awards-night-and-dinner-poster-presentations/2026-11-27/
LOCATION:UNC 200 Ballroom\, 3272 University Way\, UNC200\, Kelowna\, British Columbia\, V1V 1V7\, Canada
CATEGORIES:Student Associations
ATTACH;FMTTYPE=image/png:https://www.suo.ca/wp-content/uploads/2025/10/SAlogo_PsychologyCU.png
ORGANIZER;CN="Psychology Course Union":MAILTO:Psychologycourseunion@gmail.com
END:VEVENT
BEGIN:VEVENT
DTSTART;TZID=America/Vancouver:20261128T180000
DTEND;TZID=America/Vancouver:20261128T230000
DTSTAMP:20260419T055458
CREATED:20251031T203304Z
LAST-MODIFIED:20251031T203304Z
UID:10011741-1795888800-1795906800@www.suo.ca
SUMMARY:OPURC Awards Night and Dinner (Poster Presentations)
DESCRIPTION:Please join us after the amazing research presentations at OPURC. There will be catering and many awards to be given out to exceptional students.
URL:https://www.suo.ca/event/opurc-awards-night-and-dinner-poster-presentations/2026-11-28/
LOCATION:UNC 200 Ballroom\, 3272 University Way\, UNC200\, Kelowna\, British Columbia\, V1V 1V7\, Canada
CATEGORIES:Student Associations
ATTACH;FMTTYPE=image/png:https://www.suo.ca/wp-content/uploads/2025/10/SAlogo_PsychologyCU.png
ORGANIZER;CN="Psychology Course Union":MAILTO:Psychologycourseunion@gmail.com
END:VEVENT
BEGIN:VEVENT
DTSTART;TZID=America/Vancouver:20261129T180000
DTEND;TZID=America/Vancouver:20261129T230000
DTSTAMP:20260419T055458
CREATED:20251031T203304Z
LAST-MODIFIED:20251031T203304Z
UID:10011742-1795975200-1795993200@www.suo.ca
SUMMARY:OPURC Awards Night and Dinner (Poster Presentations)
DESCRIPTION:Please join us after the amazing research presentations at OPURC. There will be catering and many awards to be given out to exceptional students.
URL:https://www.suo.ca/event/opurc-awards-night-and-dinner-poster-presentations/2026-11-29/
LOCATION:UNC 200 Ballroom\, 3272 University Way\, UNC200\, Kelowna\, British Columbia\, V1V 1V7\, Canada
CATEGORIES:Student Associations
ATTACH;FMTTYPE=image/png:https://www.suo.ca/wp-content/uploads/2025/10/SAlogo_PsychologyCU.png
ORGANIZER;CN="Psychology Course Union":MAILTO:Psychologycourseunion@gmail.com
END:VEVENT
BEGIN:VEVENT
DTSTART;TZID=America/Vancouver:20261130T180000
DTEND;TZID=America/Vancouver:20261130T230000
DTSTAMP:20260419T055458
CREATED:20251031T203304Z
LAST-MODIFIED:20251031T203304Z
UID:10011743-1796061600-1796079600@www.suo.ca
SUMMARY:OPURC Awards Night and Dinner (Poster Presentations)
DESCRIPTION:Please join us after the amazing research presentations at OPURC. There will be catering and many awards to be given out to exceptional students.
URL:https://www.suo.ca/event/opurc-awards-night-and-dinner-poster-presentations/2026-11-30/
LOCATION:UNC 200 Ballroom\, 3272 University Way\, UNC200\, Kelowna\, British Columbia\, V1V 1V7\, Canada
CATEGORIES:Student Associations
ATTACH;FMTTYPE=image/png:https://www.suo.ca/wp-content/uploads/2025/10/SAlogo_PsychologyCU.png
ORGANIZER;CN="Psychology Course Union":MAILTO:Psychologycourseunion@gmail.com
END:VEVENT
BEGIN:VEVENT
DTSTART;TZID=America/Vancouver:20261201T180000
DTEND;TZID=America/Vancouver:20261201T230000
DTSTAMP:20260419T055458
CREATED:20251031T203304Z
LAST-MODIFIED:20251031T203304Z
UID:10011744-1796148000-1796166000@www.suo.ca
SUMMARY:OPURC Awards Night and Dinner (Poster Presentations)
DESCRIPTION:Please join us after the amazing research presentations at OPURC. There will be catering and many awards to be given out to exceptional students.
URL:https://www.suo.ca/event/opurc-awards-night-and-dinner-poster-presentations/2026-12-01/
LOCATION:UNC 200 Ballroom\, 3272 University Way\, UNC200\, Kelowna\, British Columbia\, V1V 1V7\, Canada
CATEGORIES:Student Associations
ATTACH;FMTTYPE=image/png:https://www.suo.ca/wp-content/uploads/2025/10/SAlogo_PsychologyCU.png
ORGANIZER;CN="Psychology Course Union":MAILTO:Psychologycourseunion@gmail.com
END:VEVENT
BEGIN:VEVENT
DTSTART;TZID=America/Vancouver:20261202T180000
DTEND;TZID=America/Vancouver:20261202T230000
DTSTAMP:20260419T055458
CREATED:20251031T203304Z
LAST-MODIFIED:20251031T203304Z
UID:10011745-1796234400-1796252400@www.suo.ca
SUMMARY:OPURC Awards Night and Dinner (Poster Presentations)
DESCRIPTION:Please join us after the amazing research presentations at OPURC. There will be catering and many awards to be given out to exceptional students.
URL:https://www.suo.ca/event/opurc-awards-night-and-dinner-poster-presentations/2026-12-02/
LOCATION:UNC 200 Ballroom\, 3272 University Way\, UNC200\, Kelowna\, British Columbia\, V1V 1V7\, Canada
CATEGORIES:Student Associations
ATTACH;FMTTYPE=image/png:https://www.suo.ca/wp-content/uploads/2025/10/SAlogo_PsychologyCU.png
ORGANIZER;CN="Psychology Course Union":MAILTO:Psychologycourseunion@gmail.com
END:VEVENT
BEGIN:VEVENT
DTSTART;TZID=America/Vancouver:20261203T180000
DTEND;TZID=America/Vancouver:20261203T230000
DTSTAMP:20260419T055458
CREATED:20251031T203304Z
LAST-MODIFIED:20251031T203304Z
UID:10011746-1796320800-1796338800@www.suo.ca
SUMMARY:OPURC Awards Night and Dinner (Poster Presentations)
DESCRIPTION:Please join us after the amazing research presentations at OPURC. There will be catering and many awards to be given out to exceptional students.
URL:https://www.suo.ca/event/opurc-awards-night-and-dinner-poster-presentations/2026-12-03/
LOCATION:UNC 200 Ballroom\, 3272 University Way\, UNC200\, Kelowna\, British Columbia\, V1V 1V7\, Canada
CATEGORIES:Student Associations
ATTACH;FMTTYPE=image/png:https://www.suo.ca/wp-content/uploads/2025/10/SAlogo_PsychologyCU.png
ORGANIZER;CN="Psychology Course Union":MAILTO:Psychologycourseunion@gmail.com
END:VEVENT
BEGIN:VEVENT
DTSTART;TZID=America/Vancouver:20261204T180000
DTEND;TZID=America/Vancouver:20261204T230000
DTSTAMP:20260419T055458
CREATED:20251031T203304Z
LAST-MODIFIED:20251031T203304Z
UID:10011747-1796407200-1796425200@www.suo.ca
SUMMARY:OPURC Awards Night and Dinner (Poster Presentations)
DESCRIPTION:Please join us after the amazing research presentations at OPURC. There will be catering and many awards to be given out to exceptional students.
URL:https://www.suo.ca/event/opurc-awards-night-and-dinner-poster-presentations/2026-12-04/
LOCATION:UNC 200 Ballroom\, 3272 University Way\, UNC200\, Kelowna\, British Columbia\, V1V 1V7\, Canada
CATEGORIES:Student Associations
ATTACH;FMTTYPE=image/png:https://www.suo.ca/wp-content/uploads/2025/10/SAlogo_PsychologyCU.png
ORGANIZER;CN="Psychology Course Union":MAILTO:Psychologycourseunion@gmail.com
END:VEVENT
BEGIN:VEVENT
DTSTART;TZID=America/Vancouver:20261205T180000
DTEND;TZID=America/Vancouver:20261205T230000
DTSTAMP:20260419T055458
CREATED:20251031T203304Z
LAST-MODIFIED:20251031T203304Z
UID:10011748-1796493600-1796511600@www.suo.ca
SUMMARY:OPURC Awards Night and Dinner (Poster Presentations)
DESCRIPTION:Please join us after the amazing research presentations at OPURC. There will be catering and many awards to be given out to exceptional students.
URL:https://www.suo.ca/event/opurc-awards-night-and-dinner-poster-presentations/2026-12-05/
LOCATION:UNC 200 Ballroom\, 3272 University Way\, UNC200\, Kelowna\, British Columbia\, V1V 1V7\, Canada
CATEGORIES:Student Associations
ATTACH;FMTTYPE=image/png:https://www.suo.ca/wp-content/uploads/2025/10/SAlogo_PsychologyCU.png
ORGANIZER;CN="Psychology Course Union":MAILTO:Psychologycourseunion@gmail.com
END:VEVENT
BEGIN:VEVENT
DTSTART;TZID=America/Vancouver:20261206T180000
DTEND;TZID=America/Vancouver:20261206T230000
DTSTAMP:20260419T055458
CREATED:20251031T203304Z
LAST-MODIFIED:20251031T203304Z
UID:10011749-1796580000-1796598000@www.suo.ca
SUMMARY:OPURC Awards Night and Dinner (Poster Presentations)
DESCRIPTION:Please join us after the amazing research presentations at OPURC. There will be catering and many awards to be given out to exceptional students.
URL:https://www.suo.ca/event/opurc-awards-night-and-dinner-poster-presentations/2026-12-06/
LOCATION:UNC 200 Ballroom\, 3272 University Way\, UNC200\, Kelowna\, British Columbia\, V1V 1V7\, Canada
CATEGORIES:Student Associations
ATTACH;FMTTYPE=image/png:https://www.suo.ca/wp-content/uploads/2025/10/SAlogo_PsychologyCU.png
ORGANIZER;CN="Psychology Course Union":MAILTO:Psychologycourseunion@gmail.com
END:VEVENT
BEGIN:VEVENT
DTSTART;TZID=America/Vancouver:20261207T180000
DTEND;TZID=America/Vancouver:20261207T230000
DTSTAMP:20260419T055458
CREATED:20251031T203304Z
LAST-MODIFIED:20251031T203304Z
UID:10011750-1796666400-1796684400@www.suo.ca
SUMMARY:OPURC Awards Night and Dinner (Poster Presentations)
DESCRIPTION:Please join us after the amazing research presentations at OPURC. There will be catering and many awards to be given out to exceptional students.
URL:https://www.suo.ca/event/opurc-awards-night-and-dinner-poster-presentations/2026-12-07/
LOCATION:UNC 200 Ballroom\, 3272 University Way\, UNC200\, Kelowna\, British Columbia\, V1V 1V7\, Canada
CATEGORIES:Student Associations
ATTACH;FMTTYPE=image/png:https://www.suo.ca/wp-content/uploads/2025/10/SAlogo_PsychologyCU.png
ORGANIZER;CN="Psychology Course Union":MAILTO:Psychologycourseunion@gmail.com
END:VEVENT
BEGIN:VEVENT
DTSTART;TZID=America/Vancouver:20261208T180000
DTEND;TZID=America/Vancouver:20261208T230000
DTSTAMP:20260419T055458
CREATED:20251031T203304Z
LAST-MODIFIED:20251031T203304Z
UID:10011751-1796752800-1796770800@www.suo.ca
SUMMARY:OPURC Awards Night and Dinner (Poster Presentations)
DESCRIPTION:Please join us after the amazing research presentations at OPURC. There will be catering and many awards to be given out to exceptional students.
URL:https://www.suo.ca/event/opurc-awards-night-and-dinner-poster-presentations/2026-12-08/
LOCATION:UNC 200 Ballroom\, 3272 University Way\, UNC200\, Kelowna\, British Columbia\, V1V 1V7\, Canada
CATEGORIES:Student Associations
ATTACH;FMTTYPE=image/png:https://www.suo.ca/wp-content/uploads/2025/10/SAlogo_PsychologyCU.png
ORGANIZER;CN="Psychology Course Union":MAILTO:Psychologycourseunion@gmail.com
END:VEVENT
BEGIN:VEVENT
DTSTART;TZID=America/Vancouver:20261209T180000
DTEND;TZID=America/Vancouver:20261209T230000
DTSTAMP:20260419T055458
CREATED:20251031T203304Z
LAST-MODIFIED:20251031T203304Z
UID:10011752-1796839200-1796857200@www.suo.ca
SUMMARY:OPURC Awards Night and Dinner (Poster Presentations)
DESCRIPTION:Please join us after the amazing research presentations at OPURC. There will be catering and many awards to be given out to exceptional students.
URL:https://www.suo.ca/event/opurc-awards-night-and-dinner-poster-presentations/2026-12-09/
LOCATION:UNC 200 Ballroom\, 3272 University Way\, UNC200\, Kelowna\, British Columbia\, V1V 1V7\, Canada
CATEGORIES:Student Associations
ATTACH;FMTTYPE=image/png:https://www.suo.ca/wp-content/uploads/2025/10/SAlogo_PsychologyCU.png
ORGANIZER;CN="Psychology Course Union":MAILTO:Psychologycourseunion@gmail.com
END:VEVENT
BEGIN:VEVENT
DTSTART;TZID=America/Vancouver:20261210T180000
DTEND;TZID=America/Vancouver:20261210T230000
DTSTAMP:20260419T055458
CREATED:20251031T203304Z
LAST-MODIFIED:20251031T203304Z
UID:10011753-1796925600-1796943600@www.suo.ca
SUMMARY:OPURC Awards Night and Dinner (Poster Presentations)
DESCRIPTION:Please join us after the amazing research presentations at OPURC. There will be catering and many awards to be given out to exceptional students.
URL:https://www.suo.ca/event/opurc-awards-night-and-dinner-poster-presentations/2026-12-10/
LOCATION:UNC 200 Ballroom\, 3272 University Way\, UNC200\, Kelowna\, British Columbia\, V1V 1V7\, Canada
CATEGORIES:Student Associations
ATTACH;FMTTYPE=image/png:https://www.suo.ca/wp-content/uploads/2025/10/SAlogo_PsychologyCU.png
ORGANIZER;CN="Psychology Course Union":MAILTO:Psychologycourseunion@gmail.com
END:VEVENT
BEGIN:VEVENT
DTSTART;TZID=America/Vancouver:20261211T180000
DTEND;TZID=America/Vancouver:20261211T230000
DTSTAMP:20260419T055458
CREATED:20251031T203304Z
LAST-MODIFIED:20251031T203304Z
UID:10011754-1797012000-1797030000@www.suo.ca
SUMMARY:OPURC Awards Night and Dinner (Poster Presentations)
DESCRIPTION:Please join us after the amazing research presentations at OPURC. There will be catering and many awards to be given out to exceptional students.
URL:https://www.suo.ca/event/opurc-awards-night-and-dinner-poster-presentations/2026-12-11/
LOCATION:UNC 200 Ballroom\, 3272 University Way\, UNC200\, Kelowna\, British Columbia\, V1V 1V7\, Canada
CATEGORIES:Student Associations
ATTACH;FMTTYPE=image/png:https://www.suo.ca/wp-content/uploads/2025/10/SAlogo_PsychologyCU.png
ORGANIZER;CN="Psychology Course Union":MAILTO:Psychologycourseunion@gmail.com
END:VEVENT
BEGIN:VEVENT
DTSTART;TZID=America/Vancouver:20261212T180000
DTEND;TZID=America/Vancouver:20261212T230000
DTSTAMP:20260419T055458
CREATED:20251031T203304Z
LAST-MODIFIED:20251031T203304Z
UID:10011755-1797098400-1797116400@www.suo.ca
SUMMARY:OPURC Awards Night and Dinner (Poster Presentations)
DESCRIPTION:Please join us after the amazing research presentations at OPURC. There will be catering and many awards to be given out to exceptional students.
URL:https://www.suo.ca/event/opurc-awards-night-and-dinner-poster-presentations/2026-12-12/
LOCATION:UNC 200 Ballroom\, 3272 University Way\, UNC200\, Kelowna\, British Columbia\, V1V 1V7\, Canada
CATEGORIES:Student Associations
ATTACH;FMTTYPE=image/png:https://www.suo.ca/wp-content/uploads/2025/10/SAlogo_PsychologyCU.png
ORGANIZER;CN="Psychology Course Union":MAILTO:Psychologycourseunion@gmail.com
END:VEVENT
BEGIN:VEVENT
DTSTART;TZID=America/Vancouver:20261213T180000
DTEND;TZID=America/Vancouver:20261213T230000
DTSTAMP:20260419T055458
CREATED:20251031T203304Z
LAST-MODIFIED:20251031T203304Z
UID:10011756-1797184800-1797202800@www.suo.ca
SUMMARY:OPURC Awards Night and Dinner (Poster Presentations)
DESCRIPTION:Please join us after the amazing research presentations at OPURC. There will be catering and many awards to be given out to exceptional students.
URL:https://www.suo.ca/event/opurc-awards-night-and-dinner-poster-presentations/2026-12-13/
LOCATION:UNC 200 Ballroom\, 3272 University Way\, UNC200\, Kelowna\, British Columbia\, V1V 1V7\, Canada
CATEGORIES:Student Associations
ATTACH;FMTTYPE=image/png:https://www.suo.ca/wp-content/uploads/2025/10/SAlogo_PsychologyCU.png
ORGANIZER;CN="Psychology Course Union":MAILTO:Psychologycourseunion@gmail.com
END:VEVENT
BEGIN:VEVENT
DTSTART;TZID=America/Vancouver:20261214T180000
DTEND;TZID=America/Vancouver:20261214T230000
DTSTAMP:20260419T055458
CREATED:20251031T203304Z
LAST-MODIFIED:20251031T203304Z
UID:10011757-1797271200-1797289200@www.suo.ca
SUMMARY:OPURC Awards Night and Dinner (Poster Presentations)
DESCRIPTION:Please join us after the amazing research presentations at OPURC. There will be catering and many awards to be given out to exceptional students.
URL:https://www.suo.ca/event/opurc-awards-night-and-dinner-poster-presentations/2026-12-14/
LOCATION:UNC 200 Ballroom\, 3272 University Way\, UNC200\, Kelowna\, British Columbia\, V1V 1V7\, Canada
CATEGORIES:Student Associations
ATTACH;FMTTYPE=image/png:https://www.suo.ca/wp-content/uploads/2025/10/SAlogo_PsychologyCU.png
ORGANIZER;CN="Psychology Course Union":MAILTO:Psychologycourseunion@gmail.com
END:VEVENT
BEGIN:VEVENT
DTSTART;TZID=America/Vancouver:20261215T180000
DTEND;TZID=America/Vancouver:20261215T230000
DTSTAMP:20260419T055458
CREATED:20251031T203304Z
LAST-MODIFIED:20251031T203304Z
UID:10011758-1797357600-1797375600@www.suo.ca
SUMMARY:OPURC Awards Night and Dinner (Poster Presentations)
DESCRIPTION:Please join us after the amazing research presentations at OPURC. There will be catering and many awards to be given out to exceptional students.
URL:https://www.suo.ca/event/opurc-awards-night-and-dinner-poster-presentations/2026-12-15/
LOCATION:UNC 200 Ballroom\, 3272 University Way\, UNC200\, Kelowna\, British Columbia\, V1V 1V7\, Canada
CATEGORIES:Student Associations
ATTACH;FMTTYPE=image/png:https://www.suo.ca/wp-content/uploads/2025/10/SAlogo_PsychologyCU.png
ORGANIZER;CN="Psychology Course Union":MAILTO:Psychologycourseunion@gmail.com
END:VEVENT
BEGIN:VEVENT
DTSTART;TZID=America/Vancouver:20261216T180000
DTEND;TZID=America/Vancouver:20261216T230000
DTSTAMP:20260419T055458
CREATED:20251031T203304Z
LAST-MODIFIED:20251031T203304Z
UID:10011759-1797444000-1797462000@www.suo.ca
SUMMARY:OPURC Awards Night and Dinner (Poster Presentations)
DESCRIPTION:Please join us after the amazing research presentations at OPURC. There will be catering and many awards to be given out to exceptional students.
URL:https://www.suo.ca/event/opurc-awards-night-and-dinner-poster-presentations/2026-12-16/
LOCATION:UNC 200 Ballroom\, 3272 University Way\, UNC200\, Kelowna\, British Columbia\, V1V 1V7\, Canada
CATEGORIES:Student Associations
ATTACH;FMTTYPE=image/png:https://www.suo.ca/wp-content/uploads/2025/10/SAlogo_PsychologyCU.png
ORGANIZER;CN="Psychology Course Union":MAILTO:Psychologycourseunion@gmail.com
END:VEVENT
BEGIN:VEVENT
DTSTART;TZID=America/Vancouver:20261217T180000
DTEND;TZID=America/Vancouver:20261217T230000
DTSTAMP:20260419T055458
CREATED:20251031T203304Z
LAST-MODIFIED:20251031T203304Z
UID:10011760-1797530400-1797548400@www.suo.ca
SUMMARY:OPURC Awards Night and Dinner (Poster Presentations)
DESCRIPTION:Please join us after the amazing research presentations at OPURC. There will be catering and many awards to be given out to exceptional students.
URL:https://www.suo.ca/event/opurc-awards-night-and-dinner-poster-presentations/2026-12-17/
LOCATION:UNC 200 Ballroom\, 3272 University Way\, UNC200\, Kelowna\, British Columbia\, V1V 1V7\, Canada
CATEGORIES:Student Associations
ATTACH;FMTTYPE=image/png:https://www.suo.ca/wp-content/uploads/2025/10/SAlogo_PsychologyCU.png
ORGANIZER;CN="Psychology Course Union":MAILTO:Psychologycourseunion@gmail.com
END:VEVENT
BEGIN:VEVENT
DTSTART;TZID=America/Vancouver:20261218T180000
DTEND;TZID=America/Vancouver:20261218T230000
DTSTAMP:20260419T055458
CREATED:20251031T203304Z
LAST-MODIFIED:20251031T203304Z
UID:10011761-1797616800-1797634800@www.suo.ca
SUMMARY:OPURC Awards Night and Dinner (Poster Presentations)
DESCRIPTION:Please join us after the amazing research presentations at OPURC. There will be catering and many awards to be given out to exceptional students.
URL:https://www.suo.ca/event/opurc-awards-night-and-dinner-poster-presentations/2026-12-18/
LOCATION:UNC 200 Ballroom\, 3272 University Way\, UNC200\, Kelowna\, British Columbia\, V1V 1V7\, Canada
CATEGORIES:Student Associations
ATTACH;FMTTYPE=image/png:https://www.suo.ca/wp-content/uploads/2025/10/SAlogo_PsychologyCU.png
ORGANIZER;CN="Psychology Course Union":MAILTO:Psychologycourseunion@gmail.com
END:VEVENT
BEGIN:VEVENT
DTSTART;TZID=America/Vancouver:20261219T180000
DTEND;TZID=America/Vancouver:20261219T230000
DTSTAMP:20260419T055458
CREATED:20251031T203304Z
LAST-MODIFIED:20251031T203304Z
UID:10011762-1797703200-1797721200@www.suo.ca
SUMMARY:OPURC Awards Night and Dinner (Poster Presentations)
DESCRIPTION:Please join us after the amazing research presentations at OPURC. There will be catering and many awards to be given out to exceptional students.
URL:https://www.suo.ca/event/opurc-awards-night-and-dinner-poster-presentations/2026-12-19/
LOCATION:UNC 200 Ballroom\, 3272 University Way\, UNC200\, Kelowna\, British Columbia\, V1V 1V7\, Canada
CATEGORIES:Student Associations
ATTACH;FMTTYPE=image/png:https://www.suo.ca/wp-content/uploads/2025/10/SAlogo_PsychologyCU.png
ORGANIZER;CN="Psychology Course Union":MAILTO:Psychologycourseunion@gmail.com
END:VEVENT
BEGIN:VEVENT
DTSTART;TZID=America/Vancouver:20261220T180000
DTEND;TZID=America/Vancouver:20261220T230000
DTSTAMP:20260419T055458
CREATED:20251031T203304Z
LAST-MODIFIED:20251031T203304Z
UID:10011763-1797789600-1797807600@www.suo.ca
SUMMARY:OPURC Awards Night and Dinner (Poster Presentations)
DESCRIPTION:Please join us after the amazing research presentations at OPURC. There will be catering and many awards to be given out to exceptional students.
URL:https://www.suo.ca/event/opurc-awards-night-and-dinner-poster-presentations/2026-12-20/
LOCATION:UNC 200 Ballroom\, 3272 University Way\, UNC200\, Kelowna\, British Columbia\, V1V 1V7\, Canada
CATEGORIES:Student Associations
ATTACH;FMTTYPE=image/png:https://www.suo.ca/wp-content/uploads/2025/10/SAlogo_PsychologyCU.png
ORGANIZER;CN="Psychology Course Union":MAILTO:Psychologycourseunion@gmail.com
END:VEVENT
END:VCALENDAR