BEGIN:VCALENDAR
VERSION:2.0
PRODID:-//Students’ Union Okanagan of UBC - ECPv6.5.0//NONSGML v1.0//EN
CALSCALE:GREGORIAN
METHOD:PUBLISH
X-WR-CALNAME:Students’ Union Okanagan of UBC
X-ORIGINAL-URL:https://www.suo.ca
X-WR-CALDESC:Events for Students’ Union Okanagan of UBC
REFRESH-INTERVAL;VALUE=DURATION:PT1H
X-Robots-Tag:noindex
X-PUBLISHED-TTL:PT1H
BEGIN:VTIMEZONE
TZID:America/Vancouver
BEGIN:DAYLIGHT
TZOFFSETFROM:-0800
TZOFFSETTO:-0700
TZNAME:PDT
DTSTART:20220313T100000
END:DAYLIGHT
BEGIN:STANDARD
TZOFFSETFROM:-0700
TZOFFSETTO:-0800
TZNAME:PST
DTSTART:20221106T090000
END:STANDARD
BEGIN:DAYLIGHT
TZOFFSETFROM:-0800
TZOFFSETTO:-0700
TZNAME:PDT
DTSTART:20230312T100000
END:DAYLIGHT
BEGIN:STANDARD
TZOFFSETFROM:-0700
TZOFFSETTO:-0800
TZNAME:PST
DTSTART:20231105T090000
END:STANDARD
BEGIN:DAYLIGHT
TZOFFSETFROM:-0800
TZOFFSETTO:-0700
TZNAME:PDT
DTSTART:20240310T100000
END:DAYLIGHT
BEGIN:STANDARD
TZOFFSETFROM:-0700
TZOFFSETTO:-0800
TZNAME:PST
DTSTART:20241103T090000
END:STANDARD
BEGIN:DAYLIGHT
TZOFFSETFROM:-0800
TZOFFSETTO:-0700
TZNAME:PDT
DTSTART:20250309T100000
END:DAYLIGHT
BEGIN:STANDARD
TZOFFSETFROM:-0700
TZOFFSETTO:-0800
TZNAME:PST
DTSTART:20251102T090000
END:STANDARD
END:VTIMEZONE
BEGIN:VEVENT
DTSTART;TZID=America/Vancouver:20250113T140000
DTEND;TZID=America/Vancouver:20250113T153000
DTSTAMP:20260423T041705
CREATED:20250108T191023Z
LAST-MODIFIED:20250108T191023Z
UID:10009372-1736776800-1736782200@www.suo.ca
SUMMARY:MSA Public Speaking Club's First Event
DESCRIPTION:Get ready for a fun\, interactive session to boost your communication skills\, followed by pizza! 🍕\nAccess registration by filling out the Google Form posted on our club’s Instagram account (@msapublicspeaking). \nLocation: ART 218
URL:https://www.suo.ca/event/msa-public-speaking-clubs-first-event/
LOCATION:Arts Building\, UBCO Campus\, 1147 Research Road\, Kelowna\, British Columbia\, V1V 1V7\, Canada
CATEGORIES:All Ages,Student Associations
ATTACH;FMTTYPE=image/jpeg:https://www.suo.ca/wp-content/uploads/2021/08/MSA-logo.jpg
ORGANIZER;CN="Public Speaking Club of MSA":MAILTO:Publicspeaking@msaubco.ca
END:VEVENT
BEGIN:VEVENT
DTSTART;TZID=America/Vancouver:20221028T223000
DTEND;TZID=America/Vancouver:20221028T233000
DTSTAMP:20260423T041705
CREATED:20221013T203728Z
LAST-MODIFIED:20221013T203728Z
UID:10002373-1666996200-1666999800@www.suo.ca
SUMMARY:Steve-O on tour
DESCRIPTION:Offering 10 tickets for SteveO’s stand-up show in Kelowna. Great opportunity for a first event. The purpose is to offer a fun experience to have a good time and network with people. Additionally\, as the event is a stand-up show\, it correlates with public speaking.
URL:https://www.suo.ca/event/steve-o-on-tour/
LOCATION:Kelowna Community Theatre\, 1375 Water Street\, Kelowna\, British Columbia\, V1Y 0B4\, Canada
CATEGORIES:All Ages,Student Associations
ATTACH;FMTTYPE=image/svg+xml:https://www.suo.ca/wp-content/uploads/2021/12/SUO-Logo.svg
ORGANIZER;CN="Public Speaking Club of MSA":MAILTO:Publicspeaking@msaubco.ca
END:VEVENT
END:VCALENDAR