BEGIN:VCALENDAR
VERSION:2.0
PRODID:-//Students’ Union Okanagan of UBC - ECPv6.5.0//NONSGML v1.0//EN
CALSCALE:GREGORIAN
METHOD:PUBLISH
X-ORIGINAL-URL:https://www.suo.ca
X-WR-CALDESC:Events for Students’ Union Okanagan of UBC
REFRESH-INTERVAL;VALUE=DURATION:PT1H
X-Robots-Tag:noindex
X-PUBLISHED-TTL:PT1H
BEGIN:VTIMEZONE
TZID:America/Vancouver
BEGIN:DAYLIGHT
TZOFFSETFROM:-0800
TZOFFSETTO:-0700
TZNAME:PDT
DTSTART:20230312T100000
END:DAYLIGHT
BEGIN:STANDARD
TZOFFSETFROM:-0700
TZOFFSETTO:-0800
TZNAME:PST
DTSTART:20231105T090000
END:STANDARD
BEGIN:DAYLIGHT
TZOFFSETFROM:-0800
TZOFFSETTO:-0700
TZNAME:PDT
DTSTART:20240310T100000
END:DAYLIGHT
BEGIN:STANDARD
TZOFFSETFROM:-0700
TZOFFSETTO:-0800
TZNAME:PST
DTSTART:20241103T090000
END:STANDARD
BEGIN:DAYLIGHT
TZOFFSETFROM:-0800
TZOFFSETTO:-0700
TZNAME:PDT
DTSTART:20250309T100000
END:DAYLIGHT
BEGIN:STANDARD
TZOFFSETFROM:-0700
TZOFFSETTO:-0800
TZNAME:PST
DTSTART:20251102T090000
END:STANDARD
BEGIN:DAYLIGHT
TZOFFSETFROM:-0800
TZOFFSETTO:-0700
TZNAME:PDT
DTSTART:20260308T100000
END:DAYLIGHT
BEGIN:STANDARD
TZOFFSETFROM:-0700
TZOFFSETTO:-0800
TZNAME:PST
DTSTART:20261101T090000
END:STANDARD
END:VTIMEZONE
BEGIN:VEVENT
DTSTART;TZID=America/Vancouver:20260116T120000
DTEND;TZID=America/Vancouver:20260117T010000
DTSTAMP:20260420T211608
CREATED:20251031T203507Z
LAST-MODIFIED:20251031T203507Z
UID:10011047-1768564800-1768611600@www.suo.ca
SUMMARY:Qawalli Night
DESCRIPTION:Join us for an enchanting Qawalli Night\, a grand cultural celebration featuring a live performance by a talented Qawwali artist who will fill the evening with soulful Sufi melodies and captivating rhythms. Guests will be treated to delicious South Asian food and surrounded by elegant décor inspired by traditional artistry\, creating a warm and immersive atmosphere. This collaborative event aims to bring the campus community together to celebrate unity\, culture\, and music in a truly memorable night of connection and celebration.
URL:https://www.suo.ca/event/qawalli-night/
LOCATION:UNC 200 Ballroom\, 3272 University Way\, UNC200\, Kelowna\, British Columbia\, V1V 1V7\, Canada
CATEGORIES:Student Associations
ATTACH;FMTTYPE=image/jpeg:https://www.suo.ca/wp-content/uploads/2025/10/SAlogo_PunjabiSA.jpg
ORGANIZER;CN="Punjabi Student Association":MAILTO:psasuokanagan@gmail.com
END:VEVENT
BEGIN:VEVENT
DTSTART;TZID=America/Vancouver:20251205T180000
DTEND;TZID=America/Vancouver:20251205T210000
DTSTAMP:20260420T211608
CREATED:20251201T204700Z
LAST-MODIFIED:20251201T204700Z
UID:10012542-1764957600-1764968400@www.suo.ca
SUMMARY:Study Sessions with PSA
DESCRIPTION:Lock in with PSA this finals season! 📚✨\nJoin us for focused study sessions designed to help you stay productive and stress-free. We’ll have snacks\, a supportive environment\, and plenty of good vibes to keep you going.\nCome grind\, revise\, and prepare for finals together; everyone’s welcome! 💪 \nLIB 312
URL:https://www.suo.ca/event/study-sessions-with-psa-3/
LOCATION:Library\, UBCO Campus\, 3287 University Way\, Kelowna\, British Columbia\, V1V 1V7\, Canada
CATEGORIES:Student Associations
ATTACH;FMTTYPE=image/jpeg:https://www.suo.ca/wp-content/uploads/2025/11/SAlogo_PunjabiSA.jpg
ORGANIZER;CN="Punjabi Student Association":MAILTO:psasuokanagan@gmail.com
END:VEVENT
BEGIN:VEVENT
DTSTART;TZID=America/Vancouver:20251204T180000
DTEND;TZID=America/Vancouver:20251204T210000
DTSTAMP:20260420T211608
CREATED:20251201T204753Z
LAST-MODIFIED:20251201T204753Z
UID:10012541-1764871200-1764882000@www.suo.ca
SUMMARY:Study Sessions with PSA
DESCRIPTION:Lock in with PSA this finals season! 📚✨\nJoin us for focused study sessions designed to help you stay productive and stress-free. We’ll have snacks\, a supportive environment\, and plenty of good vibes to keep you going.\nCome grind\, revise\, and prepare for finals together; everyone’s welcome! 💪 \nFIP 204
URL:https://www.suo.ca/event/study-sessions-with-psa-4/
LOCATION:FIPKE Building\, UBCO Campus\, 3247 University Way\, Kelowna\, British Columbia\, V1V 1V7\, Canada
CATEGORIES:Student Associations
ATTACH;FMTTYPE=image/jpeg:https://www.suo.ca/wp-content/uploads/2025/11/SAlogo_PunjabiSA.jpg
ORGANIZER;CN="Punjabi Student Association":MAILTO:psasuokanagan@gmail.com
END:VEVENT
BEGIN:VEVENT
DTSTART;TZID=America/Vancouver:20251203T180000
DTEND;TZID=America/Vancouver:20251203T210000
DTSTAMP:20260420T211608
CREATED:20251201T204548Z
LAST-MODIFIED:20251201T204548Z
UID:10012540-1764784800-1764795600@www.suo.ca
SUMMARY:Study Sessions with PSA
DESCRIPTION:Lock in with PSA this finals season! 📚✨\nJoin us for focused study sessions designed to help you stay productive and stress-free. We’ll have snacks\, a supportive environment\, and plenty of good vibes to keep you going.\nCome grind\, revise\, and prepare for finals together; everyone’s welcome! 💪📖 \nLIB 312
URL:https://www.suo.ca/event/study-sessions-with-psa-2/
LOCATION:Library\, UBCO Campus\, 3287 University Way\, Kelowna\, British Columbia\, V1V 1V7\, Canada
CATEGORIES:Student Associations
ATTACH;FMTTYPE=image/jpeg:https://www.suo.ca/wp-content/uploads/2025/11/SAlogo_PunjabiSA.jpg
ORGANIZER;CN="Punjabi Student Association":MAILTO:psasuokanagan@gmail.com
END:VEVENT
BEGIN:VEVENT
DTSTART;TZID=America/Vancouver:20251202T180000
DTEND;TZID=America/Vancouver:20251202T210000
DTSTAMP:20260420T211608
CREATED:20251201T204439Z
LAST-MODIFIED:20251201T204439Z
UID:10012539-1764698400-1764709200@www.suo.ca
SUMMARY:Study Sessions with PSA
DESCRIPTION:Lock in with PSA this finals season! 📚✨\nJoin us for focused study sessions designed to help you stay productive and stress-free. We’ll have snacks\, a supportive environment\, and plenty of good vibes to keep you going.\nCome grind\, revise\, and prepare for finals together; everyone’s welcome! 💪📖 \nLIB 305
URL:https://www.suo.ca/event/study-sessions-with-psa/
LOCATION:Library\, UBCO Campus\, 3287 University Way\, Kelowna\, British Columbia\, V1V 1V7\, Canada
CATEGORIES:Student Associations
ATTACH;FMTTYPE=image/jpeg:https://www.suo.ca/wp-content/uploads/2025/11/SAlogo_PunjabiSA.jpg
ORGANIZER;CN="Punjabi Student Association":MAILTO:psasuokanagan@gmail.com
END:VEVENT
BEGIN:VEVENT
DTSTART;TZID=America/Vancouver:20241119T180000
DTEND;TZID=America/Vancouver:20241119T213000
DTSTAMP:20260420T211608
CREATED:20241107T214652Z
LAST-MODIFIED:20241107T221327Z
UID:10009126-1732039200-1732051800@www.suo.ca
SUMMARY:A Night in Punjab
DESCRIPTION:It is the first event of the Punjabi Student Association (PSA) aimed at introducing new and returning students to the club and its executive team. The event celebrates Punjabi culture with an evening full of engaging activities. Attendees can enjoy games and delicious food. It’s a great opportunity for students to connect with the PSA community\, learn more about the club and its upcoming events\, and meet fellow members in a fun\, welcoming environment. The event is designed to unite students and create lasting memories while celebrating Punjabi heritage. \nLocation: EME 2111
URL:https://www.suo.ca/event/a-night-in-punjab/
LOCATION:EME Building\, UBCO Campus\, 1137 Alumni Avenue\, Kelowna\, British Columbia\, V1V 1V7\, Canada
CATEGORIES:All Ages,Student Associations
ATTACH;FMTTYPE=image/svg+xml:https://www.suo.ca/wp-content/uploads/2021/12/SUO-Logo.svg
ORGANIZER;CN="Punjabi Student Association":MAILTO:psasuokanagan@gmail.com
END:VEVENT
BEGIN:VEVENT
DTSTART;TZID=America/Vancouver:20231206T183000
DTEND;TZID=America/Vancouver:20231206T210000
DTSTAMP:20260420T211608
CREATED:20231129T191113Z
LAST-MODIFIED:20231129T191113Z
UID:10006263-1701887400-1701896400@www.suo.ca
SUMMARY:Bhabi Night
DESCRIPTION:A fun cards game night. \nLocation: LIB 305
URL:https://www.suo.ca/event/bhabi-night/
LOCATION:Library\, UBCO Campus\, 3287 University Way\, Kelowna\, British Columbia\, V1V 1V7\, Canada
CATEGORIES:All Ages,Student Associations
ATTACH;FMTTYPE=image/svg+xml:https://www.suo.ca/wp-content/uploads/2021/12/SUO-Logo.svg
ORGANIZER;CN="Punjabi Student Association":MAILTO:psasuokanagan@gmail.com
END:VEVENT
BEGIN:VEVENT
DTSTART;TZID=America/Vancouver:20231025T183000
DTEND;TZID=America/Vancouver:20231025T210000
DTSTAMP:20260420T211608
CREATED:20231019T220939Z
LAST-MODIFIED:20231019T220939Z
UID:10005858-1698258600-1698267600@www.suo.ca
SUMMARY:Apna Punjab
DESCRIPTION:A fun games evening with some competitions and exciting prizes. \nLocation: LIB 305
URL:https://www.suo.ca/event/apna-punjab/
LOCATION:LIB 305\, UBCO Campus\, 3287 University Way\, Kelowna\, British Columbia\, V1V 1V7\, Canada
CATEGORIES:All Ages,Student Associations
ATTACH;FMTTYPE=image/svg+xml:https://www.suo.ca/wp-content/uploads/2021/12/SUO-Logo.svg
ORGANIZER;CN="Punjabi Student Association":MAILTO:psasuokanagan@gmail.com
END:VEVENT
BEGIN:VEVENT
DTSTART;TZID=America/Vancouver:20230203T170000
DTEND;TZID=America/Vancouver:20230203T210000
DTSTAMP:20260420T211608
CREATED:20230131T201317Z
LAST-MODIFIED:20230131T201317Z
UID:10003126-1675443600-1675458000@www.suo.ca
SUMMARY:Bhabhi Competition Night
DESCRIPTION:Come test out your skills at Bhabhi Competition Night for a chance to win some prize money! Learn more and register on our Instagram page @psa.ubco \n  \nLocated: LIB 305
URL:https://www.suo.ca/event/bhabhi-competition-night/
LOCATION:LIB 305\, UBCO Campus\, 3287 University Way\, Kelowna\, British Columbia\, V1V 1V7\, Canada
CATEGORIES:All Ages,Student Associations
ATTACH;FMTTYPE=image/jpeg:https://www.suo.ca/wp-content/uploads/2022/07/SUO-Student-Associations.jpg
ORGANIZER;CN="Punjabi Student Association":MAILTO:psasuokanagan@gmail.com
END:VEVENT
END:VCALENDAR