BEGIN:VCALENDAR
VERSION:2.0
PRODID:-//Students’ Union Okanagan of UBC - ECPv6.5.0//NONSGML v1.0//EN
CALSCALE:GREGORIAN
METHOD:PUBLISH
X-ORIGINAL-URL:https://www.suo.ca
X-WR-CALDESC:Events for Students’ Union Okanagan of UBC
REFRESH-INTERVAL;VALUE=DURATION:PT1H
X-Robots-Tag:noindex
X-PUBLISHED-TTL:PT1H
BEGIN:VTIMEZONE
TZID:America/Vancouver
BEGIN:DAYLIGHT
TZOFFSETFROM:-0800
TZOFFSETTO:-0700
TZNAME:PDT
DTSTART:20230312T100000
END:DAYLIGHT
BEGIN:STANDARD
TZOFFSETFROM:-0700
TZOFFSETTO:-0800
TZNAME:PST
DTSTART:20231105T090000
END:STANDARD
BEGIN:DAYLIGHT
TZOFFSETFROM:-0800
TZOFFSETTO:-0700
TZNAME:PDT
DTSTART:20240310T100000
END:DAYLIGHT
BEGIN:STANDARD
TZOFFSETFROM:-0700
TZOFFSETTO:-0800
TZNAME:PST
DTSTART:20241103T090000
END:STANDARD
END:VTIMEZONE
BEGIN:VEVENT
DTSTART;TZID=America/Vancouver:20240119T170000
DTEND;TZID=America/Vancouver:20240119T190000
DTSTAMP:20260419T073303
CREATED:20240119T182753Z
LAST-MODIFIED:20240119T183002Z
UID:10006417-1705683600-1705690800@www.suo.ca
SUMMARY:Jewelry Making
DESCRIPTION:Discover your inner creativity at Seamless Fashion Club’s Jewelry Making Night! Dive into DIY with cute accessories\, chill beats\, and good vibes. No experience is needed – just bring yourself and your creative spirit everything else will be provided!! \nLocation: ART 102
URL:https://www.suo.ca/event/jewelry-making/
LOCATION:Arts Building\, UBCO Campus\, 1147 Research Road\, Kelowna\, British Columbia\, V1V 1V7\, Canada
CATEGORIES:All Ages,Student Associations
ATTACH;FMTTYPE=image/svg+xml:https://www.suo.ca/wp-content/uploads/2021/12/SUO-Logo.svg
ORGANIZER;CN="SeamLess":MAILTO:seamlessseason@gmail.com
END:VEVENT
BEGIN:VEVENT
DTSTART;TZID=America/Vancouver:20231103T173000
DTEND;TZID=America/Vancouver:20231103T193000
DTSTAMP:20260419T073303
CREATED:20231027T160658Z
LAST-MODIFIED:20231027T160658Z
UID:10005920-1699032600-1699039800@www.suo.ca
SUMMARY:Glam Nails
DESCRIPTION:An intro event allowing members and the team of fashion club to interact. \nLocation: EME 1151
URL:https://www.suo.ca/event/glam-nails/
LOCATION:EME Building\, UBCO Campus\, 1137 Alumni Avenue\, Kelowna\, British Columbia\, V1V 1V7\, Canada
CATEGORIES:All Ages,Student Associations
ATTACH;FMTTYPE=image/svg+xml:https://www.suo.ca/wp-content/uploads/2021/12/SUO-Logo.svg
ORGANIZER;CN="SeamLess":MAILTO:seamlessseason@gmail.com
END:VEVENT
END:VCALENDAR