BEGIN:VCALENDAR
VERSION:2.0
PRODID:-//Students’ Union Okanagan of UBC - ECPv6.5.0//NONSGML v1.0//EN
CALSCALE:GREGORIAN
METHOD:PUBLISH
X-ORIGINAL-URL:https://www.suo.ca
X-WR-CALDESC:Events for Students’ Union Okanagan of UBC
REFRESH-INTERVAL;VALUE=DURATION:PT1H
X-Robots-Tag:noindex
X-PUBLISHED-TTL:PT1H
BEGIN:VTIMEZONE
TZID:America/Vancouver
BEGIN:DAYLIGHT
TZOFFSETFROM:-0800
TZOFFSETTO:-0700
TZNAME:PDT
DTSTART:20240310T100000
END:DAYLIGHT
BEGIN:STANDARD
TZOFFSETFROM:-0700
TZOFFSETTO:-0800
TZNAME:PST
DTSTART:20241103T090000
END:STANDARD
END:VTIMEZONE
BEGIN:VEVENT
DTSTART;TZID=America/Vancouver:20240306T170000
DTEND;TZID=America/Vancouver:20240306T170000
DTSTAMP:20260420T025045
CREATED:20240227T210843Z
LAST-MODIFIED:20240306T191551Z
UID:10007294-1709744400-1709744400@www.suo.ca
SUMMARY:Career Fair
DESCRIPTION:Hosted by UBC-O Academic & Career Development \nWe are excited to bring over 65 employers across two days to our campus\, offering you a unique opportunity to explore various career paths and gain valuable insights into different industries. Join us at the Career Fair on March 6 and 7 for a chance to meet industry professionals and maybe even your future employer! \nMarch 6-7 | 11AM-3PM | EME Foyer
URL:https://www.suo.ca/event/career-fair/
LOCATION:EME Building\, UBCO Campus\, 1137 Alumni Avenue\, Kelowna\, British Columbia\, V1V 1V7\, Canada
ATTACH;FMTTYPE=image/png:https://www.suo.ca/wp-content/uploads/2024/02/career-fair-prizes.png
END:VEVENT
END:VCALENDAR