BEGIN:VCALENDAR
VERSION:2.0
PRODID:-//Students’ Union Okanagan of UBC - ECPv6.5.0//NONSGML v1.0//EN
CALSCALE:GREGORIAN
METHOD:PUBLISH
X-ORIGINAL-URL:https://www.suo.ca
X-WR-CALDESC:Events for Students’ Union Okanagan of UBC
REFRESH-INTERVAL;VALUE=DURATION:PT1H
X-Robots-Tag:noindex
X-PUBLISHED-TTL:PT1H
BEGIN:VTIMEZONE
TZID:America/Vancouver
BEGIN:DAYLIGHT
TZOFFSETFROM:-0800
TZOFFSETTO:-0700
TZNAME:PDT
DTSTART:20220313T100000
END:DAYLIGHT
BEGIN:STANDARD
TZOFFSETFROM:-0700
TZOFFSETTO:-0800
TZNAME:PST
DTSTART:20221106T090000
END:STANDARD
BEGIN:DAYLIGHT
TZOFFSETFROM:-0800
TZOFFSETTO:-0700
TZNAME:PDT
DTSTART:20230312T100000
END:DAYLIGHT
BEGIN:STANDARD
TZOFFSETFROM:-0700
TZOFFSETTO:-0800
TZNAME:PST
DTSTART:20231105T090000
END:STANDARD
BEGIN:DAYLIGHT
TZOFFSETFROM:-0800
TZOFFSETTO:-0700
TZNAME:PDT
DTSTART:20240310T100000
END:DAYLIGHT
BEGIN:STANDARD
TZOFFSETFROM:-0700
TZOFFSETTO:-0800
TZNAME:PST
DTSTART:20241103T090000
END:STANDARD
END:VTIMEZONE
BEGIN:VEVENT
DTSTART;TZID=America/Vancouver:20240928T090000
DTEND;TZID=America/Vancouver:20240928T160000
DTSTAMP:20260419T080846
CREATED:20240920T192319Z
LAST-MODIFIED:20240920T192319Z
UID:10008204-1727514000-1727539200@www.suo.ca
SUMMARY:Intro to Rock Climbing
DESCRIPTION:Outdoor rock-climbing event at Skaha Bluffs. \nLocation: Skaha Bluffs
URL:https://www.suo.ca/event/intro-to-rock-climbing/
LOCATION:Skaha Bluffs\, 437 Martin Street\, Penticton\, B.C\, V2A 5L1\, Canada
CATEGORIES:All Ages,Student Associations
ATTACH;FMTTYPE=image/jpeg:https://www.suo.ca/wp-content/uploads/2024/08/2024-25_rubric-logo_VOCO.jpg
END:VEVENT
BEGIN:VEVENT
DTSTART;TZID=America/Vancouver:20240920T170000
DTEND;TZID=America/Vancouver:20240920T190000
DTSTAMP:20260419T080846
CREATED:20240913T170908Z
LAST-MODIFIED:20240913T170908Z
UID:10008191-1726851600-1726858800@www.suo.ca
SUMMARY:Back to School VOCO Barbecue
DESCRIPTION:Fun back to school barbecue held by VOCO at City Park. Contact Student Association for more information!
URL:https://www.suo.ca/event/back-to-school-voco-barbecue/
LOCATION:Kelowna City park\, 1600 Abbott St\, Kelowna\, British Columbia\, V1Y 1B7\, Canada
CATEGORIES:All Ages,Student Associations
ATTACH;FMTTYPE=image/jpeg:https://www.suo.ca/wp-content/uploads/2024/08/2024-25_rubric-logo_VOCO.jpg
END:VEVENT
BEGIN:VEVENT
DTSTART;TZID=America/Vancouver:20230311T190000
DTEND;TZID=America/Vancouver:20230311T213000
DTSTAMP:20260419T080846
CREATED:20230213T200143Z
LAST-MODIFIED:20230213T200401Z
UID:10003238-1678561200-1678570200@www.suo.ca
SUMMARY:Reel Rock 17
DESCRIPTION:For two decades\, Reel Rock has been sharing the biggest stories from the world of climbing\, celebrating the human side behind the sport’s greatest adventures and achievements. Every year\, Reel Rock brings a new selection of the best climbing films on tour worldwide\, and this year the Varsity Outdoor Club Okanagan is bringing Reel Rock to Kelowna on a scale bigger than ever before. Whether you are a climber or not\, Reel Rock 17 will deliver a joyful dose of inspiration\, heart\, and humour.
URL:https://www.suo.ca/event/reel-rock-17/
LOCATION:Rotary Centre for the Arts\, 421 Cawston Ave\, Kelowna\, British Columbia\, V1Y 6Z1\, Canada
ATTACH;FMTTYPE=image/png:https://www.suo.ca/wp-content/uploads/2023/02/RR17_LogoLockup_silver.png
END:VEVENT
BEGIN:VEVENT
DTSTART;TZID=America/Vancouver:20221021T180000
DTEND;TZID=America/Vancouver:20221021T213000
DTSTAMP:20260419T080846
CREATED:20221007T183935Z
LAST-MODIFIED:20221007T183935Z
UID:10002128-1666375200-1666387800@www.suo.ca
SUMMARY:Wavy2 and Eulogy movie premier
DESCRIPTION:VOCO is hosting a ski movie premier night on Friday October 21st! We will be showing the movies Wavy2 and Eulogy in UNC 106\, a Free event! \nCome get the stoke on for the ski season! \n  \nLocated: UNC 106
URL:https://www.suo.ca/event/wavy2-and-eulogy-movie-premier/
LOCATION:UNC106 Theatre\, 3272 University Way\, UNC106\, Kelowna\, British Columbia\, V1V 1V7\, Canada
CATEGORIES:All Ages,Student Associations
ATTACH;FMTTYPE=image/jpeg:https://www.suo.ca/wp-content/uploads/2021/08/varsity_outdoor_club_okanagan2d0851.jpg
END:VEVENT
BEGIN:VEVENT
DTSTART;TZID=America/Vancouver:20220401T180000
DTEND;TZID=America/Vancouver:20220401T214500
DTSTAMP:20260419T080846
CREATED:20220321T230522Z
LAST-MODIFIED:20220321T230522Z
UID:10002306-1648836000-1648849500@www.suo.ca
SUMMARY:Reel Rock 16 VOCO
DESCRIPTION:VOCO has organized a showing of Reel Rock 16! We are working with Gneiss and Reel Rock. \nLocation: ADM 026 Theater
URL:https://www.suo.ca/event/reel-rock-16-voco/
LOCATION:ADM 026 Theatre\, 1138 Alumni Avenue\, Kelowna\, British Columbia\, V1V 1V7\, Canada
CATEGORIES:All Ages,Student Associations
ATTACH;FMTTYPE=image/svg+xml:https://www.suo.ca/wp-content/uploads/2021/12/SUO-Logo.svg
END:VEVENT
BEGIN:VEVENT
DTSTART;TZID=America/Vancouver:20220114T190000
DTEND;TZID=America/Vancouver:20220114T210000
DTSTAMP:20260419T080846
CREATED:20211119T181841Z
LAST-MODIFIED:20211214T222513Z
UID:10002235-1642186800-1642194000@www.suo.ca
SUMMARY:Varsity Outdoor Club Matchstick Productions Film Showing.
DESCRIPTION:The Varsity Outdoor Club of the Okanagan (VOCO) will be organizing a showing of a new Matchstick Productions (MSP) film. The purpose of the event is simply to show a new movie that outdoor enthusiasts will enjoy. As a student organization\, we believe that this event will facilitate community building\, student engagement\, and morale. VOCO will be selling tickets for the showing online\, with planning for discounted rates for VOCO members. \nMask and vaccine passport required. \nTickets available on Eventbrite
URL:https://www.suo.ca/event/varsity-outdoor-club-matchstick-productions-film-showing/
LOCATION:University Theatre (ADM026)\, 1138 Alumni Avenue\, Kelowna\, British Columbia\, V1V 1V7\, Canada
ATTACH;FMTTYPE=image/jpeg:https://www.suo.ca/wp-content/uploads/2021/08/varsity_outdoor_club_okanagan2d0851.jpg
END:VEVENT
END:VCALENDAR