BEGIN:VCALENDAR
VERSION:2.0
PRODID:-//Students’ Union Okanagan of UBC - ECPv6.5.0//NONSGML v1.0//EN
CALSCALE:GREGORIAN
METHOD:PUBLISH
X-ORIGINAL-URL:https://www.suo.ca
X-WR-CALDESC:Events for Students’ Union Okanagan of UBC
REFRESH-INTERVAL;VALUE=DURATION:PT1H
X-Robots-Tag:noindex
X-PUBLISHED-TTL:PT1H
BEGIN:VTIMEZONE
TZID:America/Vancouver
BEGIN:DAYLIGHT
TZOFFSETFROM:-0800
TZOFFSETTO:-0700
TZNAME:PDT
DTSTART:20230312T100000
END:DAYLIGHT
BEGIN:STANDARD
TZOFFSETFROM:-0700
TZOFFSETTO:-0800
TZNAME:PST
DTSTART:20231105T090000
END:STANDARD
BEGIN:DAYLIGHT
TZOFFSETFROM:-0800
TZOFFSETTO:-0700
TZNAME:PDT
DTSTART:20240310T100000
END:DAYLIGHT
BEGIN:STANDARD
TZOFFSETFROM:-0700
TZOFFSETTO:-0800
TZNAME:PST
DTSTART:20241103T090000
END:STANDARD
BEGIN:DAYLIGHT
TZOFFSETFROM:-0800
TZOFFSETTO:-0700
TZNAME:PDT
DTSTART:20250309T100000
END:DAYLIGHT
BEGIN:STANDARD
TZOFFSETFROM:-0700
TZOFFSETTO:-0800
TZNAME:PST
DTSTART:20251102T090000
END:STANDARD
END:VTIMEZONE
BEGIN:VEVENT
DTSTART;TZID=America/Vancouver:20250209T143000
DTEND;TZID=America/Vancouver:20250209T143000
DTSTAMP:20260420T095932
CREATED:20250110T211651Z
LAST-MODIFIED:20250110T211651Z
UID:10009428-1739111400-1739111400@www.suo.ca
SUMMARY:Powerlifting Meet
DESCRIPTION:Join us for an exciting SUO Weightlifting Club Powerlifting Meet! Test your strength in deadlift and bench press competitions while enjoying a fun and energetic atmosphere. There will be different categories to compete in\, ensuring a level playing field for all participants. 🏋️‍♀️ \nEnjoy delicious food 🍔🍕\, free supplement samples\, music 🎵 \, and much more! Whether you’re competing or cheering on your friends\, this event promises an unforgettable experience for all fitness enthusiasts. ⚡️⚡️ \nDon’t miss this chance to showcase your strength and be part of our awesome weightlifting community! 💪 \n  \nLocation: Temenos Athletics
URL:https://www.suo.ca/event/powerlifting-meet/
LOCATION:Temenos Athletics\, 1155 St Paul St\, Kelowna\, British Columbia\, V1Y 2C6\, Canada
CATEGORIES:All Ages,Student Associations
ATTACH;FMTTYPE=image/svg+xml:https://www.suo.ca/wp-content/uploads/2021/12/SUO-Logo.svg
ORGANIZER;CN="Weightlifting Club":MAILTO:weightliftingclububco@gmail.com
END:VEVENT
BEGIN:VEVENT
DTSTART;TZID=America/Vancouver:20241126T170000
DTEND;TZID=America/Vancouver:20241126T210000
DTSTAMP:20260420T095932
CREATED:20241106T204518Z
LAST-MODIFIED:20241106T204518Z
UID:10009110-1732640400-1732654800@www.suo.ca
SUMMARY:Meet & Greet
DESCRIPTION:**SUO Weightlifting Club: Meet & Greet Event!** \nCome join us for an exciting Meet & Greet with the SUO Weightlifting Club! Whether you’re new to weightlifting\, a seasoned lifter\, or just curious about the fitness community\, this is your chance to connect\, learn\, and have some fun with like-minded people. \n🎉 **Event Highlights:** \n– **Trivia Challenge:** Test your fitness knowledge! Join in our trivia about fitness\, bodybuilding\, and the world of weightlifting. Get questions right\, and you’ll have a shot at winning more prizes\, including shakers\, exclusive merch\, stickers\, protein bars\, granola bars\, and other supplement goodies!\n– **Meet the Team:** Connect with club members and learn about our upcoming events\, training sessions\, and how you can get involved. \nBring a friend\, bring your questions\, and get ready to flex your knowledge and leave with some sweet rewards. We can’t wait to meet you! \n  \nLocation: LIB 306
URL:https://www.suo.ca/event/meet-greet/
LOCATION:Library\, UBCO Campus\, 3287 University Way\, Kelowna\, British Columbia\, V1V 1V7\, Canada
CATEGORIES:All Ages,Student Associations
ATTACH;FMTTYPE=image/svg+xml:https://www.suo.ca/wp-content/uploads/2021/12/SUO-Logo.svg
ORGANIZER;CN="Weightlifting Club":MAILTO:weightliftingclububco@gmail.com
END:VEVENT
BEGIN:VEVENT
DTSTART;TZID=America/Vancouver:20230218T110000
DTEND;TZID=America/Vancouver:20230218T140000
DTSTAMP:20260420T095932
CREATED:20230313T200720Z
LAST-MODIFIED:20230313T200720Z
UID:10003358-1676718000-1676728800@www.suo.ca
SUMMARY:Squatting Competition
DESCRIPTION:This will be a squatting event that will consist of students performing squats in very standardized setting with safety and precaution. There will place holdings for the top three competitors\, whom will receive prizes. We are hoping to have a supplements sponsor at the time of the event supplying samples of supplements. \n  \nLocated: Temenos Athletics
URL:https://www.suo.ca/event/squatting-competition/
LOCATION:Temenos Athletics\, 1155 St Paul St\, Kelowna\, British Columbia\, V1Y 2C6\, Canada
CATEGORIES:All Ages,Student Associations
ATTACH;FMTTYPE=image/jpeg:https://www.suo.ca/wp-content/uploads/2022/07/SUO-Student-Associations.jpg
ORGANIZER;CN="Weightlifting Club":MAILTO:weightliftingclububco@gmail.com
END:VEVENT
END:VCALENDAR