BEGIN:VCALENDAR
VERSION:2.0
PRODID:-//Students’ Union Okanagan of UBC - ECPv6.5.0//NONSGML v1.0//EN
CALSCALE:GREGORIAN
METHOD:PUBLISH
X-ORIGINAL-URL:https://www.suo.ca
X-WR-CALDESC:Events for Students’ Union Okanagan of UBC
REFRESH-INTERVAL;VALUE=DURATION:PT1H
X-Robots-Tag:noindex
X-PUBLISHED-TTL:PT1H
BEGIN:VTIMEZONE
TZID:America/Vancouver
BEGIN:DAYLIGHT
TZOFFSETFROM:-0800
TZOFFSETTO:-0700
TZNAME:PDT
DTSTART:20210314T100000
END:DAYLIGHT
BEGIN:STANDARD
TZOFFSETFROM:-0700
TZOFFSETTO:-0800
TZNAME:PST
DTSTART:20211107T090000
END:STANDARD
BEGIN:DAYLIGHT
TZOFFSETFROM:-0800
TZOFFSETTO:-0700
TZNAME:PDT
DTSTART:20220313T100000
END:DAYLIGHT
BEGIN:STANDARD
TZOFFSETFROM:-0700
TZOFFSETTO:-0800
TZNAME:PST
DTSTART:20221106T090000
END:STANDARD
BEGIN:DAYLIGHT
TZOFFSETFROM:-0800
TZOFFSETTO:-0700
TZNAME:PDT
DTSTART:20230312T100000
END:DAYLIGHT
BEGIN:STANDARD
TZOFFSETFROM:-0700
TZOFFSETTO:-0800
TZNAME:PST
DTSTART:20231105T090000
END:STANDARD
END:VTIMEZONE
BEGIN:VEVENT
DTSTART;TZID=America/Vancouver:20230323T160000
DTEND;TZID=America/Vancouver:20230323T170000
DTSTAMP:20260419T073458
CREATED:20230228T190618Z
LAST-MODIFIED:20230228T191420Z
UID:10003281-1679587200-1679590800@www.suo.ca
SUMMARY:Breathwork and Meditation Workshop
DESCRIPTION:Learn how to cultivate a mindful breathing practice that can help relieve stress and ground you in the current moment! Taught by certified yoga teacher Ryder McCool\, this workshop will be a great introduction to breathing techniques that you can use in your everyday life. Whether you have never meditated before or you have a daily practice yourself\, this class is sure to be a relaxing and fun event. \n  \nLocated: ART 208
URL:https://www.suo.ca/event/breathwork-and-meditation-workshop/
LOCATION:Arts Building\, UBCO Campus\, 1147 Research Road\, Kelowna\, British Columbia\, V1V 1V7\, Canada
CATEGORIES:All Ages,Resource Centre
ORGANIZER;CN="Yoga Club UBCO":MAILTO:ubcyoga@gmail.com
END:VEVENT
BEGIN:VEVENT
DTSTART;TZID=America/Vancouver:20220322T190000
DTEND;TZID=America/Vancouver:20220322T210000
DTSTAMP:20260419T073458
CREATED:20220314T204117Z
LAST-MODIFIED:20220314T204117Z
UID:10002061-1647975600-1647982800@www.suo.ca
SUMMARY:Breathwork Workshop
DESCRIPTION:This workshop will include different breathing exercises taught by a trained breathwork instructor. The class will focus on stress-reduction techniques and incorporating better breathing into everyday life. \nLocation: UNC 200 (Ballroom)
URL:https://www.suo.ca/event/breathwork-workshop/
LOCATION:UNC 200 Ballroom\, 3272 University Way\, UNC200\, Kelowna\, British Columbia\, V1V 1V7\, Canada
CATEGORIES:All Ages,Student Associations
ORGANIZER;CN="Yoga Club UBCO":MAILTO:ubcyoga@gmail.com
END:VEVENT
BEGIN:VEVENT
DTSTART;TZID=America/Vancouver:20220218T180000
DTEND;TZID=America/Vancouver:20220218T190000
DTSTAMP:20260419T073458
CREATED:20220201T223617Z
LAST-MODIFIED:20220201T224056Z
UID:10002275-1645207200-1645210800@www.suo.ca
SUMMARY:Self-Love Yoga
DESCRIPTION:Come celebrate yourself for Valentines Day week! This class will work on building and exploring connection and love to your inner self. You will be guided through a series of poses to enhance connectivity\, patience and openness into your yoga practice. No previous yoga experience is necessary. A take home self-care package will be provided \nRegister on Eventbrite: link coming
URL:https://www.suo.ca/event/self-love-yoga/
LOCATION:Hangar\, UBCO Campus\, 3211 Athletics Court\, Kelowna\, British Columbia\, V1V 1V7\, Canada
CATEGORIES:All Ages,Student Associations
ATTACH;FMTTYPE=image/png:https://www.suo.ca/wp-content/uploads/2022/02/Screen-Shot-2022-02-01-at-2.38.51-PM.png
ORGANIZER;CN="Yoga Club UBCO":MAILTO:ubcyoga@gmail.com
END:VEVENT
BEGIN:VEVENT
DTSTART;TZID=America/Vancouver:20211122T183000
DTEND;TZID=America/Vancouver:20211122T203000
DTSTAMP:20260419T073458
CREATED:20211104T162140Z
LAST-MODIFIED:20211119T182155Z
UID:10002024-1637605800-1637613000@www.suo.ca
SUMMARY:Body Positivity Yoga
DESCRIPTION:Join the UBCO Yoga Club for a Body Positivity Yoga Class taught by Kaylee Misener on Monday\, November 22 in the UNC 200 Ballroom. This all-level class is a great way to make friends and look after your physical and mental wellbeing during the last few weeks of the semester.\nTickets are available in for 5$ a student- make sure to book soon as there are limited spots available!\nParticipants will have to show proof of vaccination upon arrival\, as well as wear a mask\, and keep physical distance between each other. \nWhat to bring: \nYoga mat (If you do not have a yoga mat\, there will be some available to borrow)\nMask\nProof of Double Vaccination\nID\nWater bottle \nRegistration on Eventbrite
URL:https://www.suo.ca/event/body-positivity-yoga-2/
LOCATION:UNC200 Ballroom\, 3272 University Way\, UNC200\, Kelowna\, British Columbia\, V1V 1V7\, Canada
CATEGORIES:All Ages,Student Associations
ORGANIZER;CN="Yoga Club UBCO":MAILTO:ubcyoga@gmail.com
END:VEVENT
END:VCALENDAR